BEGIN:VCALENDAR
VERSION:2.0
PRODID:-//Adath Israel Congregation - ECPv6.15.12.2//NONSGML v1.0//EN
CALSCALE:GREGORIAN
METHOD:PUBLISH
X-WR-CALNAME:Adath Israel Congregation
X-ORIGINAL-URL:https://adathisraelnj.org
X-WR-CALDESC:Events for Adath Israel Congregation
REFRESH-INTERVAL;VALUE=DURATION:PT1H
X-Robots-Tag:noindex
X-PUBLISHED-TTL:PT1H
BEGIN:VTIMEZONE
TZID:America/New_York
BEGIN:DAYLIGHT
TZOFFSETFROM:-0500
TZOFFSETTO:-0400
TZNAME:EDT
DTSTART:20180311T070000
END:DAYLIGHT
BEGIN:STANDARD
TZOFFSETFROM:-0400
TZOFFSETTO:-0500
TZNAME:EST
DTSTART:20181104T060000
END:STANDARD
BEGIN:DAYLIGHT
TZOFFSETFROM:-0500
TZOFFSETTO:-0400
TZNAME:EDT
DTSTART:20190310T070000
END:DAYLIGHT
BEGIN:STANDARD
TZOFFSETFROM:-0400
TZOFFSETTO:-0500
TZNAME:EST
DTSTART:20191103T060000
END:STANDARD
BEGIN:DAYLIGHT
TZOFFSETFROM:-0500
TZOFFSETTO:-0400
TZNAME:EDT
DTSTART:20200308T070000
END:DAYLIGHT
BEGIN:STANDARD
TZOFFSETFROM:-0400
TZOFFSETTO:-0500
TZNAME:EST
DTSTART:20201101T060000
END:STANDARD
END:VTIMEZONE
BEGIN:VEVENT
DTSTART;VALUE=DATE:20190628
DTEND;VALUE=DATE:20190701
DTSTAMP:20260425T134434
CREATED:20180813T200339Z
LAST-MODIFIED:20180815T192940Z
UID:10000584-1561680000-1561939199@adathisraelnj.org
SUMMARY:Bar Mitzvah of Aidan Shapiro
DESCRIPTION:
URL:https://adathisraelnj.org/event/bar-mitzvah-of-aidan-shapiro/
LOCATION:Adath Israel Congregation\, 1958 Lawrenceville Rd\, Lawrenceville\, NJ\, 08648\, United States
CATEGORIES:Life Cycle
END:VEVENT
BEGIN:VEVENT
DTSTART;TZID=America/New_York:20190628T181500
DTEND;TZID=America/New_York:20190628T191500
DTSTAMP:20260425T134434
CREATED:20190628T233000Z
LAST-MODIFIED:20190219T191813Z
UID:10000741-1561745700-1561749300@adathisraelnj.org
SUMMARY:Kabbalat Shabbat Service
DESCRIPTION:
URL:https://adathisraelnj.org/event/kabbalat-shabbat-service-47/
LOCATION:Adath Israel Congregation\, 1958 Lawrenceville Rd\, Lawrenceville\, NJ\, 08648\, United States
CATEGORIES:Worship
END:VEVENT
BEGIN:VEVENT
DTSTART;TZID=America/New_York:20190628T191500
DTEND;TZID=America/New_York:20190628T210000
DTSTAMP:20260425T134434
CREATED:20190612T205521Z
LAST-MODIFIED:20190612T210201Z
UID:10000739-1561749300-1561755600@adathisraelnj.org
SUMMARY:Shabbat Picnic and Fireworks
DESCRIPTION:
URL:https://adathisraelnj.org/event/shabbat-picnic-and-fireworks/
CATEGORIES:General
END:VEVENT
END:VCALENDAR