BEGIN:VCALENDAR
VERSION:2.0
PRODID:-//Adath Israel Congregation - ECPv6.15.12.2//NONSGML v1.0//EN
CALSCALE:GREGORIAN
METHOD:PUBLISH
X-WR-CALNAME:Adath Israel Congregation
X-ORIGINAL-URL:https://adathisraelnj.org
X-WR-CALDESC:Events for Adath Israel Congregation
REFRESH-INTERVAL;VALUE=DURATION:PT1H
X-Robots-Tag:noindex
X-PUBLISHED-TTL:PT1H
BEGIN:VTIMEZONE
TZID:America/New_York
BEGIN:DAYLIGHT
TZOFFSETFROM:-0500
TZOFFSETTO:-0400
TZNAME:EDT
DTSTART:20200308T070000
END:DAYLIGHT
BEGIN:STANDARD
TZOFFSETFROM:-0400
TZOFFSETTO:-0500
TZNAME:EST
DTSTART:20201101T060000
END:STANDARD
BEGIN:DAYLIGHT
TZOFFSETFROM:-0500
TZOFFSETTO:-0400
TZNAME:EDT
DTSTART:20210314T070000
END:DAYLIGHT
BEGIN:STANDARD
TZOFFSETFROM:-0400
TZOFFSETTO:-0500
TZNAME:EST
DTSTART:20211107T060000
END:STANDARD
BEGIN:DAYLIGHT
TZOFFSETFROM:-0500
TZOFFSETTO:-0400
TZNAME:EDT
DTSTART:20220313T070000
END:DAYLIGHT
BEGIN:STANDARD
TZOFFSETFROM:-0400
TZOFFSETTO:-0500
TZNAME:EST
DTSTART:20221106T060000
END:STANDARD
END:VTIMEZONE
BEGIN:VEVENT
DTSTART;TZID=America/New_York:20211203T193000
DTEND;TZID=America/New_York:20211203T203000
DTSTAMP:20260421T083503
CREATED:20211007T175037Z
LAST-MODIFIED:20211007T175440Z
UID:10000640-1638559800-1638563400@adathisraelnj.org
SUMMARY:Chanukah Shabbat Evening Services - Religious School Shabbat
DESCRIPTION:Shabbat Evening Service \nContact the Adath Israel Office 609-896-4977 for the Zoom login information of if you’d like to attend in person. \nJoin us for a Kabbalat Shabbat Service and interactive teaching led by Rabbi Adler and Hazzan Katlin. So that we can all literally be on the same page (or screen)\, we will be using the Kabbalat Shabbat and Shabbat Evening Service in the Sim Shalom for Shabbat and Festivals\, which can be downloaded at: https://www.rabbinicalassembly.org/form-download-e-siddur-
URL:https://adathisraelnj.org/event/shabbat-evening-service-34/
CATEGORIES:Worship
END:VEVENT
BEGIN:VEVENT
DTSTART;TZID=America/New_York:20211203T193000
DTEND;TZID=America/New_York:20211203T213000
DTSTAMP:20260421T083503
CREATED:20211026T161848Z
LAST-MODIFIED:20211130T150529Z
UID:10001501-1638559800-1638567000@adathisraelnj.org
SUMMARY:Musical Shabbat Service with Latke\, Vodka & Bobka
DESCRIPTION:Join us for a special musical Shabbat service featuring the Religious School Students and Hanukkah tunes. Enjoy the fifth night of night of Hanukkah at Adath. Latke\, Vodka and Bobka will follow services featuring libations for the adults\, Hanukkah activity for the kids\, and latke and bobka for everyone. \n \n  \n 
URL:https://adathisraelnj.org/event/musical-shabbat-service-with-latke-vodka-bobka/
CATEGORIES:Festival,General,Religious School,Worship
END:VEVENT
END:VCALENDAR