BEGIN:VCALENDAR
VERSION:2.0
PRODID:-//Adath Israel Congregation - ECPv6.15.12.2//NONSGML v1.0//EN
CALSCALE:GREGORIAN
METHOD:PUBLISH
X-ORIGINAL-URL:https://adathisraelnj.org
X-WR-CALDESC:Events for Adath Israel Congregation
REFRESH-INTERVAL;VALUE=DURATION:PT1H
X-Robots-Tag:noindex
X-PUBLISHED-TTL:PT1H
BEGIN:VTIMEZONE
TZID:America/New_York
BEGIN:DAYLIGHT
TZOFFSETFROM:-0500
TZOFFSETTO:-0400
TZNAME:EDT
DTSTART:20210314T070000
END:DAYLIGHT
BEGIN:STANDARD
TZOFFSETFROM:-0400
TZOFFSETTO:-0500
TZNAME:EST
DTSTART:20211107T060000
END:STANDARD
BEGIN:DAYLIGHT
TZOFFSETFROM:-0500
TZOFFSETTO:-0400
TZNAME:EDT
DTSTART:20220313T070000
END:DAYLIGHT
BEGIN:STANDARD
TZOFFSETFROM:-0400
TZOFFSETTO:-0500
TZNAME:EST
DTSTART:20221106T060000
END:STANDARD
BEGIN:DAYLIGHT
TZOFFSETFROM:-0500
TZOFFSETTO:-0400
TZNAME:EDT
DTSTART:20230312T070000
END:DAYLIGHT
BEGIN:STANDARD
TZOFFSETFROM:-0400
TZOFFSETTO:-0500
TZNAME:EST
DTSTART:20231105T060000
END:STANDARD
END:VTIMEZONE
BEGIN:VEVENT
DTSTART;TZID=America/New_York:20220910T093000
DTEND;TZID=America/New_York:20220910T123000
DTSTAMP:20260420T144802
CREATED:20220621T195722Z
LAST-MODIFIED:20220621T195722Z
UID:10001663-1662802200-1662813000@adathisraelnj.org
SUMMARY:Shabbat Morning Service
DESCRIPTION:Contact the Adath Israel Office 609-896-4977 for the Zoom login information or if you’d like to attend in person. \nJoin us for a Shabbat Morning Service and interactive teaching led by Rabbi Adler and Hazzan Katlin. The siddur can be downloaded at: https://www.rabbinicalassembly.org/form-download-e-siddur-
URL:https://adathisraelnj.org/event/shabbat-morning-service-91/
CATEGORIES:Worship
END:VEVENT
END:VCALENDAR