BEGIN:VCALENDAR
VERSION:2.0
PRODID:-//Adath Israel Congregation - ECPv6.15.12.2//NONSGML v1.0//EN
CALSCALE:GREGORIAN
METHOD:PUBLISH
X-ORIGINAL-URL:https://adathisraelnj.org
X-WR-CALDESC:Events for Adath Israel Congregation
REFRESH-INTERVAL;VALUE=DURATION:PT1H
X-Robots-Tag:noindex
X-PUBLISHED-TTL:PT1H
BEGIN:VTIMEZONE
TZID:America/New_York
BEGIN:DAYLIGHT
TZOFFSETFROM:-0500
TZOFFSETTO:-0400
TZNAME:EDT
DTSTART:20210314T070000
END:DAYLIGHT
BEGIN:STANDARD
TZOFFSETFROM:-0400
TZOFFSETTO:-0500
TZNAME:EST
DTSTART:20211107T060000
END:STANDARD
BEGIN:DAYLIGHT
TZOFFSETFROM:-0500
TZOFFSETTO:-0400
TZNAME:EDT
DTSTART:20220313T070000
END:DAYLIGHT
BEGIN:STANDARD
TZOFFSETFROM:-0400
TZOFFSETTO:-0500
TZNAME:EST
DTSTART:20221106T060000
END:STANDARD
BEGIN:DAYLIGHT
TZOFFSETFROM:-0500
TZOFFSETTO:-0400
TZNAME:EDT
DTSTART:20230312T070000
END:DAYLIGHT
BEGIN:STANDARD
TZOFFSETFROM:-0400
TZOFFSETTO:-0500
TZNAME:EST
DTSTART:20231105T060000
END:STANDARD
END:VTIMEZONE
BEGIN:VEVENT
DTSTART;TZID=America/New_York:20221009T170000
DTEND;TZID=America/New_York:20221017T170000
DTSTAMP:20260420T171609
CREATED:20220908T143936Z
LAST-MODIFIED:20220908T143936Z
UID:10001812-1665334800-1666026000@adathisraelnj.org
SUMMARY:Adath Sukkah Visits/Usage
DESCRIPTION:Adath Sukkah Sign Up\nHag Sameach – Happy Sukkot!\nPlease use this link to sign up to use the Adath Sukkah. You can review the available slots and click on the button to sign up.\nhttps://www.signupgenius.com/go/30E054AA5AF2DA7F85-adath2
URL:https://adathisraelnj.org/event/adath-sukkah-visits-usage/
CATEGORIES:Festival,General
END:VEVENT
BEGIN:VEVENT
DTSTART;TZID=America/New_York:20221013T070000
DTEND;TZID=America/New_York:20221013T080000
DTSTAMP:20260420T171609
CREATED:20220623T140513Z
LAST-MODIFIED:20220623T140513Z
UID:10000862-1665644400-1665648000@adathisraelnj.org
SUMMARY:Morning Minyan
DESCRIPTION:Contact the Adath Israel Office 609-896-4977 for the Zoom login information of if you’d like to attend in person.\n\n\n\nTo download Siddur Sim Shalom: https://www.rabbinicalassembly.org/webform/form-download-e-siddur
URL:https://adathisraelnj.org/event/morning-minyan-302/
CATEGORIES:Worship
END:VEVENT
END:VCALENDAR