BEGIN:VCALENDAR
VERSION:2.0
PRODID:-//Adath Israel Congregation - ECPv6.15.12.2//NONSGML v1.0//EN
CALSCALE:GREGORIAN
METHOD:PUBLISH
X-ORIGINAL-URL:https://adathisraelnj.org
X-WR-CALDESC:Events for Adath Israel Congregation
REFRESH-INTERVAL;VALUE=DURATION:PT1H
X-Robots-Tag:noindex
X-PUBLISHED-TTL:PT1H
BEGIN:VTIMEZONE
TZID:America/New_York
BEGIN:DAYLIGHT
TZOFFSETFROM:-0500
TZOFFSETTO:-0400
TZNAME:EDT
DTSTART:20220313T070000
END:DAYLIGHT
BEGIN:STANDARD
TZOFFSETFROM:-0400
TZOFFSETTO:-0500
TZNAME:EST
DTSTART:20221106T060000
END:STANDARD
BEGIN:DAYLIGHT
TZOFFSETFROM:-0500
TZOFFSETTO:-0400
TZNAME:EDT
DTSTART:20230312T070000
END:DAYLIGHT
BEGIN:STANDARD
TZOFFSETFROM:-0400
TZOFFSETTO:-0500
TZNAME:EST
DTSTART:20231105T060000
END:STANDARD
BEGIN:DAYLIGHT
TZOFFSETFROM:-0500
TZOFFSETTO:-0400
TZNAME:EDT
DTSTART:20240310T070000
END:DAYLIGHT
BEGIN:STANDARD
TZOFFSETFROM:-0400
TZOFFSETTO:-0500
TZNAME:EST
DTSTART:20241103T060000
END:STANDARD
END:VTIMEZONE
BEGIN:VEVENT
DTSTART;TZID=America/New_York:20230309T070000
DTEND;TZID=America/New_York:20230309T080000
DTSTAMP:20260421T033937
CREATED:20220705T155031Z
LAST-MODIFIED:20220705T155031Z
UID:10000949-1678345200-1678348800@adathisraelnj.org
SUMMARY:Morning Minyan
DESCRIPTION:Contact the Adath Israel Office 609-896-4977 for the Zoom login information of if you’d like to attend in person.\nTo download Siddur Sim Shalom: https://www.rabbinicalassembly.org/webform/form-download-e-siddur
URL:https://adathisraelnj.org/event/morning-minyan-343/
CATEGORIES:Worship
END:VEVENT
BEGIN:VEVENT
DTSTART;TZID=America/New_York:20230309T183000
DTEND;TZID=America/New_York:20230309T200000
DTSTAMP:20260421T033937
CREATED:20230209T164756Z
LAST-MODIFIED:20230216T193740Z
UID:10001013-1678386600-1678392000@adathisraelnj.org
SUMMARY:Worship Leader Workshop with Hazzan Katlin & Gedalia Penner-Robinson
DESCRIPTION:Register here: https://aicnj.shulcloud.com/form/worshipleader \nCome learn some skills and techniques for leading services. This workshop is for potential prayer leaders and instrumentalists\, as well as anyone who just enjoys learning from Hazzan and Gedalia and might be interested in leading a prayer or two in the future. No commitment to leading services is necessary.
URL:https://adathisraelnj.org/event/worship-leader-workshop-with-hazzan-katlin-geladia-penner/
CATEGORIES:Adult Education
END:VEVENT
BEGIN:VEVENT
DTSTART;TZID=America/New_York:20230309T193000
DTEND;TZID=America/New_York:20230309T210000
DTSTAMP:20260421T033937
CREATED:20220705T153117Z
LAST-MODIFIED:20230228T185036Z
UID:10001755-1678390200-1678395600@adathisraelnj.org
SUMMARY:Frontiers in Jewish Law
DESCRIPTION:  \n \nRegister here: https://tinyurl.com/yc7t4sef \nEach year the Conservative movement publishes rulings on cutting-edge issues of Jewish law. Join Rabbi Adler for a discussion of some of these topics and how rabbis apply age-old Jewish values to modern situations.
URL:https://adathisraelnj.org/event/frontiers-in-jewish-law-2/
CATEGORIES:Adult Education
END:VEVENT
END:VCALENDAR