BEGIN:VCALENDAR
VERSION:2.0
PRODID:-//Adath Israel Congregation - ECPv6.15.12.2//NONSGML v1.0//EN
CALSCALE:GREGORIAN
METHOD:PUBLISH
X-WR-CALNAME:Adath Israel Congregation
X-ORIGINAL-URL:https://adathisraelnj.org
X-WR-CALDESC:Events for Adath Israel Congregation
REFRESH-INTERVAL;VALUE=DURATION:PT1H
X-Robots-Tag:noindex
X-PUBLISHED-TTL:PT1H
BEGIN:VTIMEZONE
TZID:America/New_York
BEGIN:DAYLIGHT
TZOFFSETFROM:-0500
TZOFFSETTO:-0400
TZNAME:EDT
DTSTART:20220313T070000
END:DAYLIGHT
BEGIN:STANDARD
TZOFFSETFROM:-0400
TZOFFSETTO:-0500
TZNAME:EST
DTSTART:20221106T060000
END:STANDARD
BEGIN:DAYLIGHT
TZOFFSETFROM:-0500
TZOFFSETTO:-0400
TZNAME:EDT
DTSTART:20230312T070000
END:DAYLIGHT
BEGIN:STANDARD
TZOFFSETFROM:-0400
TZOFFSETTO:-0500
TZNAME:EST
DTSTART:20231105T060000
END:STANDARD
BEGIN:DAYLIGHT
TZOFFSETFROM:-0500
TZOFFSETTO:-0400
TZNAME:EDT
DTSTART:20240310T070000
END:DAYLIGHT
BEGIN:STANDARD
TZOFFSETFROM:-0400
TZOFFSETTO:-0500
TZNAME:EST
DTSTART:20241103T060000
END:STANDARD
END:VTIMEZONE
BEGIN:VEVENT
DTSTART;TZID=America/New_York:20230312T030000
DTEND;TZID=America/New_York:20230312T030000
DTSTAMP:20260421T033820
CREATED:20220705T153700Z
LAST-MODIFIED:20220705T153700Z
UID:10000941-1678590000-1678590000@adathisraelnj.org
SUMMARY:Daylight Saving Time Begins
DESCRIPTION:
URL:https://adathisraelnj.org/event/daylight-saving-time-begins/
CATEGORIES:General
END:VEVENT
BEGIN:VEVENT
DTSTART;TZID=America/New_York:20230312T090000
DTEND;TZID=America/New_York:20230312T120000
DTSTAMP:20260421T033820
CREATED:20230228T184126Z
LAST-MODIFIED:20230228T184126Z
UID:10002056-1678611600-1678622400@adathisraelnj.org
SUMMARY:Religious School
DESCRIPTION:Religious School
URL:https://adathisraelnj.org/event/religious-school-113/
CATEGORIES:Religious School
END:VEVENT
BEGIN:VEVENT
DTSTART;TZID=America/New_York:20230312T133000
DTEND;TZID=America/New_York:20230312T153000
DTSTAMP:20260421T033820
CREATED:20220705T153752Z
LAST-MODIFIED:20230228T185317Z
UID:10000943-1678627800-1678635000@adathisraelnj.org
SUMMARY:Together: Journey for Survival (Sacks-Wilner Holocaust Education)
DESCRIPTION:To RSVP visit: https://aicnj.shulcloud.com/together \n 
URL:https://adathisraelnj.org/event/sacks-wilner-holocaust-education-program-4/
CATEGORIES:Adult Education
END:VEVENT
BEGIN:VEVENT
DTSTART;TZID=America/New_York:20230312T133000
DTEND;TZID=America/New_York:20230312T163000
DTSTAMP:20260421T033820
CREATED:20230214T193523Z
LAST-MODIFIED:20230228T185424Z
UID:10001016-1678627800-1678638600@adathisraelnj.org
SUMMARY:Bucks/AI Youth - Waffle Pageant
DESCRIPTION:Email Ari Weiss for more information at ariweiss089@gmail.com.
URL:https://adathisraelnj.org/event/bucks-ai-youth-waffle-pageant/
CATEGORIES:Youth
END:VEVENT
END:VCALENDAR