BEGIN:VCALENDAR
VERSION:2.0
PRODID:-//Adath Israel Congregation - ECPv6.15.12.2//NONSGML v1.0//EN
CALSCALE:GREGORIAN
METHOD:PUBLISH
X-WR-CALNAME:Adath Israel Congregation
X-ORIGINAL-URL:https://adathisraelnj.org
X-WR-CALDESC:Events for Adath Israel Congregation
REFRESH-INTERVAL;VALUE=DURATION:PT1H
X-Robots-Tag:noindex
X-PUBLISHED-TTL:PT1H
BEGIN:VTIMEZONE
TZID:America/New_York
BEGIN:DAYLIGHT
TZOFFSETFROM:-0500
TZOFFSETTO:-0400
TZNAME:EDT
DTSTART:20220313T070000
END:DAYLIGHT
BEGIN:STANDARD
TZOFFSETFROM:-0400
TZOFFSETTO:-0500
TZNAME:EST
DTSTART:20221106T060000
END:STANDARD
BEGIN:DAYLIGHT
TZOFFSETFROM:-0500
TZOFFSETTO:-0400
TZNAME:EDT
DTSTART:20230312T070000
END:DAYLIGHT
BEGIN:STANDARD
TZOFFSETFROM:-0400
TZOFFSETTO:-0500
TZNAME:EST
DTSTART:20231105T060000
END:STANDARD
BEGIN:DAYLIGHT
TZOFFSETFROM:-0500
TZOFFSETTO:-0400
TZNAME:EDT
DTSTART:20240310T070000
END:DAYLIGHT
BEGIN:STANDARD
TZOFFSETFROM:-0400
TZOFFSETTO:-0500
TZNAME:EST
DTSTART:20241103T060000
END:STANDARD
END:VTIMEZONE
BEGIN:VEVENT
DTSTART;TZID=America/New_York:20230601T070000
DTEND;TZID=America/New_York:20230601T080000
DTSTAMP:20260421T070059
CREATED:20220705T195807Z
LAST-MODIFIED:20220705T195807Z
UID:10000991-1685602800-1685606400@adathisraelnj.org
SUMMARY:Morning Minyan
DESCRIPTION:Contact the Adath Israel Office 609-896-4977 for the Zoom login information of if you’d like to attend in person.\nTo download Siddur Sim Shalom: https://www.rabbinicalassembly.org/webform/form-download-e-siddur
URL:https://adathisraelnj.org/event/morning-minyan-365/
CATEGORIES:Worship
END:VEVENT
BEGIN:VEVENT
DTSTART;TZID=America/New_York:20230601T103000
DTEND;TZID=America/New_York:20230601T113000
DTSTAMP:20260421T070059
CREATED:20220705T142235Z
LAST-MODIFIED:20220705T142235Z
UID:10001734-1685615400-1685619000@adathisraelnj.org
SUMMARY:Ripped from the Headlines
DESCRIPTION:
URL:https://adathisraelnj.org/event/ripped-from-the-headlines-40/
CATEGORIES:Adult Education
END:VEVENT
BEGIN:VEVENT
DTSTART;TZID=America/New_York:20230601T190000
DTEND;TZID=America/New_York:20230601T220000
DTSTAMP:20260421T070059
CREATED:20220607T144652Z
LAST-MODIFIED:20220607T144652Z
UID:10001645-1685646000-1685656800@adathisraelnj.org
SUMMARY:Annual Meeting
DESCRIPTION:
URL:https://adathisraelnj.org/event/annual-meeting-2/
CATEGORIES:General
END:VEVENT
END:VCALENDAR