BEGIN:VCALENDAR
VERSION:2.0
PRODID:-//Adath Israel Congregation - ECPv6.15.12.2//NONSGML v1.0//EN
CALSCALE:GREGORIAN
METHOD:PUBLISH
X-WR-CALNAME:Adath Israel Congregation
X-ORIGINAL-URL:https://adathisraelnj.org
X-WR-CALDESC:Events for Adath Israel Congregation
REFRESH-INTERVAL;VALUE=DURATION:PT1H
X-Robots-Tag:noindex
X-PUBLISHED-TTL:PT1H
BEGIN:VTIMEZONE
TZID:America/New_York
BEGIN:DAYLIGHT
TZOFFSETFROM:-0500
TZOFFSETTO:-0400
TZNAME:EDT
DTSTART:20220313T070000
END:DAYLIGHT
BEGIN:STANDARD
TZOFFSETFROM:-0400
TZOFFSETTO:-0500
TZNAME:EST
DTSTART:20221106T060000
END:STANDARD
BEGIN:DAYLIGHT
TZOFFSETFROM:-0500
TZOFFSETTO:-0400
TZNAME:EDT
DTSTART:20230312T070000
END:DAYLIGHT
BEGIN:STANDARD
TZOFFSETFROM:-0400
TZOFFSETTO:-0500
TZNAME:EST
DTSTART:20231105T060000
END:STANDARD
BEGIN:DAYLIGHT
TZOFFSETFROM:-0500
TZOFFSETTO:-0400
TZNAME:EDT
DTSTART:20240310T070000
END:DAYLIGHT
BEGIN:STANDARD
TZOFFSETFROM:-0400
TZOFFSETTO:-0500
TZNAME:EST
DTSTART:20241103T060000
END:STANDARD
END:VTIMEZONE
BEGIN:VEVENT
DTSTART;VALUE=DATE:20231207
DTEND;VALUE=DATE:20231216
DTSTAMP:20260423T143450
CREATED:20230815T191441Z
LAST-MODIFIED:20230815T191441Z
UID:10003360-1701907200-1702684799@adathisraelnj.org
SUMMARY:HANUKKAH
DESCRIPTION:
URL:https://adathisraelnj.org/event/hanukkah/
CATEGORIES:Hebcal
END:VEVENT
BEGIN:VEVENT
DTSTART;TZID=America/New_York:20231212T110000
DTEND;TZID=America/New_York:20231212T130000
DTSTAMP:20260423T143450
CREATED:20231005T180626Z
LAST-MODIFIED:20240829T141946Z
UID:10003419-1702378800-1702386000@adathisraelnj.org
SUMMARY:JFCS Kosher Cafe
DESCRIPTION:https://www.jfcsonline.org/foodprograms/ \nKosher Cafe\nThe Kosher Cafe is a designated nutrition site\, supported by the Mercer County Office on Aging. \nEvery Tuesday – Friday from 11 AM – 1 PM \nJoin us for a complimentary\, catered at Congregation Adath Israel\, 1958 Lawrenceville Road\, Lawrenceville\, NJ. Bring a friend or make new ones. The program is designed for low-income seniors who would benefit from a complimentary\, hot and nutritious lunch. The cafes are open to all and donations are accepted. \nFor additional information\, contact Debi Henritzy\, Kosher Cafe Coordinator by email or phone 609-987-8100.
URL:https://adathisraelnj.org/event/jfcs-kosher-cafe/2023-12-12/
CATEGORIES:General
END:VEVENT
BEGIN:VEVENT
DTSTART;TZID=America/New_York:20231212T163000
DTEND;TZID=America/New_York:20231212T183000
DTSTAMP:20260423T143450
CREATED:20230815T153505Z
LAST-MODIFIED:20230815T153505Z
UID:10002193-1702398600-1702405800@adathisraelnj.org
SUMMARY:Hebrew School
DESCRIPTION:
URL:https://adathisraelnj.org/event/hebrew-school-19/
CATEGORIES:Religious School
END:VEVENT
BEGIN:VEVENT
DTSTART;TZID=America/New_York:20231212T180000
DTEND;TZID=America/New_York:20231212T200000
DTSTAMP:20260423T143450
CREATED:20231204T162826Z
LAST-MODIFIED:20231204T162826Z
UID:10004459-1702404000-1702411200@adathisraelnj.org
SUMMARY:Community Menorah Lighting
DESCRIPTION:
URL:https://adathisraelnj.org/event/community-menorah-lighting-3/
CATEGORIES:Worship
END:VEVENT
END:VCALENDAR