BEGIN:VCALENDAR
VERSION:2.0
PRODID:-//Adath Israel Congregation - ECPv6.15.12.2//NONSGML v1.0//EN
CALSCALE:GREGORIAN
METHOD:PUBLISH
X-WR-CALNAME:Adath Israel Congregation
X-ORIGINAL-URL:https://adathisraelnj.org
X-WR-CALDESC:Events for Adath Israel Congregation
REFRESH-INTERVAL;VALUE=DURATION:PT1H
X-Robots-Tag:noindex
X-PUBLISHED-TTL:PT1H
BEGIN:VTIMEZONE
TZID:America/New_York
BEGIN:DAYLIGHT
TZOFFSETFROM:-0500
TZOFFSETTO:-0400
TZNAME:EDT
DTSTART:20230312T070000
END:DAYLIGHT
BEGIN:STANDARD
TZOFFSETFROM:-0400
TZOFFSETTO:-0500
TZNAME:EST
DTSTART:20231105T060000
END:STANDARD
BEGIN:DAYLIGHT
TZOFFSETFROM:-0500
TZOFFSETTO:-0400
TZNAME:EDT
DTSTART:20240310T070000
END:DAYLIGHT
BEGIN:STANDARD
TZOFFSETFROM:-0400
TZOFFSETTO:-0500
TZNAME:EST
DTSTART:20241103T060000
END:STANDARD
BEGIN:DAYLIGHT
TZOFFSETFROM:-0500
TZOFFSETTO:-0400
TZNAME:EDT
DTSTART:20250309T070000
END:DAYLIGHT
BEGIN:STANDARD
TZOFFSETFROM:-0400
TZOFFSETTO:-0500
TZNAME:EST
DTSTART:20251102T060000
END:STANDARD
END:VTIMEZONE
BEGIN:VEVENT
DTSTART;TZID=America/New_York:20241215T090000
DTEND;TZID=America/New_York:20241215T120000
DTSTAMP:20260420T080948
CREATED:20240723T194534Z
LAST-MODIFIED:20240723T194839Z
UID:10005174-1734253200-1734264000@adathisraelnj.org
SUMMARY:Religious School
DESCRIPTION:Religious school grades K-7
URL:https://adathisraelnj.org/event/religious-school-120/2024-12-15/
CATEGORIES:Religious School
END:VEVENT
BEGIN:VEVENT
DTSTART;TZID=America/New_York:20241215T093000
DTEND;TZID=America/New_York:20241215T110000
DTSTAMP:20260420T080948
CREATED:20241119T143449Z
LAST-MODIFIED:20241119T143450Z
UID:10005202-1734255000-1734260400@adathisraelnj.org
SUMMARY:Pre-School (Shalom Baby and Torah Treasures)
DESCRIPTION:Shalom Baby and Torah Treasures
URL:https://adathisraelnj.org/event/pre-school-shalom-baby-and-torah-treasures-2/2024-12-15/
CATEGORIES:Religious School
END:VEVENT
BEGIN:VEVENT
DTSTART;TZID=America/New_York:20241215T140000
DTEND;TZID=America/New_York:20241215T153000
DTSTAMP:20260420T080948
CREATED:20240718T123728Z
LAST-MODIFIED:20240718T123728Z
UID:10005093-1734271200-1734276600@adathisraelnj.org
SUMMARY:Women's League Beth Sholom Synagogue Tour
DESCRIPTION:
URL:https://adathisraelnj.org/event/womens-league-beth-sholom-synagogue-tour/
LOCATION:Beth Sholom Synagogue\, 8231 Old York Pike\, Elkins Park\, PA\, United States
CATEGORIES:Women's League
END:VEVENT
END:VCALENDAR