BEGIN:VCALENDAR
VERSION:2.0
PRODID:-//Adath Israel Congregation - ECPv6.15.12.2//NONSGML v1.0//EN
CALSCALE:GREGORIAN
METHOD:PUBLISH
X-ORIGINAL-URL:https://adathisraelnj.org
X-WR-CALDESC:Events for Adath Israel Congregation
REFRESH-INTERVAL;VALUE=DURATION:PT1H
X-Robots-Tag:noindex
X-PUBLISHED-TTL:PT1H
BEGIN:VTIMEZONE
TZID:America/New_York
BEGIN:DAYLIGHT
TZOFFSETFROM:-0500
TZOFFSETTO:-0400
TZNAME:EDT
DTSTART:20240310T070000
END:DAYLIGHT
BEGIN:STANDARD
TZOFFSETFROM:-0400
TZOFFSETTO:-0500
TZNAME:EST
DTSTART:20241103T060000
END:STANDARD
BEGIN:DAYLIGHT
TZOFFSETFROM:-0500
TZOFFSETTO:-0400
TZNAME:EDT
DTSTART:20250309T070000
END:DAYLIGHT
BEGIN:STANDARD
TZOFFSETFROM:-0400
TZOFFSETTO:-0500
TZNAME:EST
DTSTART:20251102T060000
END:STANDARD
BEGIN:DAYLIGHT
TZOFFSETFROM:-0500
TZOFFSETTO:-0400
TZNAME:EDT
DTSTART:20260308T070000
END:DAYLIGHT
BEGIN:STANDARD
TZOFFSETFROM:-0400
TZOFFSETTO:-0500
TZNAME:EST
DTSTART:20261101T060000
END:STANDARD
END:VTIMEZONE
BEGIN:VEVENT
DTSTART;TZID=America/New_York:20250704T110000
DTEND;TZID=America/New_York:20250704T130000
DTSTAMP:20260421T201235
CREATED:20231005T180626Z
LAST-MODIFIED:20240829T141946Z
UID:10003746-1751626800-1751634000@adathisraelnj.org
SUMMARY:JFCS Kosher Cafe
DESCRIPTION:https://www.jfcsonline.org/foodprograms/ \nKosher Cafe\nThe Kosher Cafe is a designated nutrition site\, supported by the Mercer County Office on Aging. \nEvery Tuesday – Friday from 11 AM – 1 PM \nJoin us for a complimentary\, catered at Congregation Adath Israel\, 1958 Lawrenceville Road\, Lawrenceville\, NJ. Bring a friend or make new ones. The program is designed for low-income seniors who would benefit from a complimentary\, hot and nutritious lunch. The cafes are open to all and donations are accepted. \nFor additional information\, contact Debi Henritzy\, Kosher Cafe Coordinator by email or phone 609-987-8100.
URL:https://adathisraelnj.org/event/jfcs-kosher-cafe/2025-07-04/
CATEGORIES:General
END:VEVENT
BEGIN:VEVENT
DTSTART;TZID=America/New_York:20250703T110000
DTEND;TZID=America/New_York:20250703T130000
DTSTAMP:20260421T201235
CREATED:20231005T180626Z
LAST-MODIFIED:20240829T141946Z
UID:10003745-1751540400-1751547600@adathisraelnj.org
SUMMARY:JFCS Kosher Cafe
DESCRIPTION:https://www.jfcsonline.org/foodprograms/ \nKosher Cafe\nThe Kosher Cafe is a designated nutrition site\, supported by the Mercer County Office on Aging. \nEvery Tuesday – Friday from 11 AM – 1 PM \nJoin us for a complimentary\, catered at Congregation Adath Israel\, 1958 Lawrenceville Road\, Lawrenceville\, NJ. Bring a friend or make new ones. The program is designed for low-income seniors who would benefit from a complimentary\, hot and nutritious lunch. The cafes are open to all and donations are accepted. \nFor additional information\, contact Debi Henritzy\, Kosher Cafe Coordinator by email or phone 609-987-8100.
URL:https://adathisraelnj.org/event/jfcs-kosher-cafe/2025-07-03/
CATEGORIES:General
END:VEVENT
BEGIN:VEVENT
DTSTART;TZID=America/New_York:20250702T110000
DTEND;TZID=America/New_York:20250702T130000
DTSTAMP:20260421T201235
CREATED:20231005T180626Z
LAST-MODIFIED:20240829T141946Z
UID:10003744-1751454000-1751461200@adathisraelnj.org
SUMMARY:JFCS Kosher Cafe
DESCRIPTION:https://www.jfcsonline.org/foodprograms/ \nKosher Cafe\nThe Kosher Cafe is a designated nutrition site\, supported by the Mercer County Office on Aging. \nEvery Tuesday – Friday from 11 AM – 1 PM \nJoin us for a complimentary\, catered at Congregation Adath Israel\, 1958 Lawrenceville Road\, Lawrenceville\, NJ. Bring a friend or make new ones. The program is designed for low-income seniors who would benefit from a complimentary\, hot and nutritious lunch. The cafes are open to all and donations are accepted. \nFor additional information\, contact Debi Henritzy\, Kosher Cafe Coordinator by email or phone 609-987-8100.
URL:https://adathisraelnj.org/event/jfcs-kosher-cafe/2025-07-02/
CATEGORIES:General
END:VEVENT
BEGIN:VEVENT
DTSTART;TZID=America/New_York:20250701T110000
DTEND;TZID=America/New_York:20250701T130000
DTSTAMP:20260421T201235
CREATED:20231005T180626Z
LAST-MODIFIED:20240829T141946Z
UID:10003743-1751367600-1751374800@adathisraelnj.org
SUMMARY:JFCS Kosher Cafe
DESCRIPTION:https://www.jfcsonline.org/foodprograms/ \nKosher Cafe\nThe Kosher Cafe is a designated nutrition site\, supported by the Mercer County Office on Aging. \nEvery Tuesday – Friday from 11 AM – 1 PM \nJoin us for a complimentary\, catered at Congregation Adath Israel\, 1958 Lawrenceville Road\, Lawrenceville\, NJ. Bring a friend or make new ones. The program is designed for low-income seniors who would benefit from a complimentary\, hot and nutritious lunch. The cafes are open to all and donations are accepted. \nFor additional information\, contact Debi Henritzy\, Kosher Cafe Coordinator by email or phone 609-987-8100.
URL:https://adathisraelnj.org/event/jfcs-kosher-cafe/2025-07-01/
CATEGORIES:General
END:VEVENT
BEGIN:VEVENT
DTSTART;TZID=America/New_York:20250627T110000
DTEND;TZID=America/New_York:20250627T130000
DTSTAMP:20260421T201235
CREATED:20231005T180626Z
LAST-MODIFIED:20240829T141946Z
UID:10003742-1751022000-1751029200@adathisraelnj.org
SUMMARY:JFCS Kosher Cafe
DESCRIPTION:https://www.jfcsonline.org/foodprograms/ \nKosher Cafe\nThe Kosher Cafe is a designated nutrition site\, supported by the Mercer County Office on Aging. \nEvery Tuesday – Friday from 11 AM – 1 PM \nJoin us for a complimentary\, catered at Congregation Adath Israel\, 1958 Lawrenceville Road\, Lawrenceville\, NJ. Bring a friend or make new ones. The program is designed for low-income seniors who would benefit from a complimentary\, hot and nutritious lunch. The cafes are open to all and donations are accepted. \nFor additional information\, contact Debi Henritzy\, Kosher Cafe Coordinator by email or phone 609-987-8100.
URL:https://adathisraelnj.org/event/jfcs-kosher-cafe/2025-06-27/
CATEGORIES:General
END:VEVENT
BEGIN:VEVENT
DTSTART;TZID=America/New_York:20250626T110000
DTEND;TZID=America/New_York:20250626T130000
DTSTAMP:20260421T201235
CREATED:20231005T180626Z
LAST-MODIFIED:20240829T141946Z
UID:10003741-1750935600-1750942800@adathisraelnj.org
SUMMARY:JFCS Kosher Cafe
DESCRIPTION:https://www.jfcsonline.org/foodprograms/ \nKosher Cafe\nThe Kosher Cafe is a designated nutrition site\, supported by the Mercer County Office on Aging. \nEvery Tuesday – Friday from 11 AM – 1 PM \nJoin us for a complimentary\, catered at Congregation Adath Israel\, 1958 Lawrenceville Road\, Lawrenceville\, NJ. Bring a friend or make new ones. The program is designed for low-income seniors who would benefit from a complimentary\, hot and nutritious lunch. The cafes are open to all and donations are accepted. \nFor additional information\, contact Debi Henritzy\, Kosher Cafe Coordinator by email or phone 609-987-8100.
URL:https://adathisraelnj.org/event/jfcs-kosher-cafe/2025-06-26/
CATEGORIES:General
END:VEVENT
BEGIN:VEVENT
DTSTART;TZID=America/New_York:20250625T110000
DTEND;TZID=America/New_York:20250625T130000
DTSTAMP:20260421T201235
CREATED:20231005T180626Z
LAST-MODIFIED:20240829T141946Z
UID:10003740-1750849200-1750856400@adathisraelnj.org
SUMMARY:JFCS Kosher Cafe
DESCRIPTION:https://www.jfcsonline.org/foodprograms/ \nKosher Cafe\nThe Kosher Cafe is a designated nutrition site\, supported by the Mercer County Office on Aging. \nEvery Tuesday – Friday from 11 AM – 1 PM \nJoin us for a complimentary\, catered at Congregation Adath Israel\, 1958 Lawrenceville Road\, Lawrenceville\, NJ. Bring a friend or make new ones. The program is designed for low-income seniors who would benefit from a complimentary\, hot and nutritious lunch. The cafes are open to all and donations are accepted. \nFor additional information\, contact Debi Henritzy\, Kosher Cafe Coordinator by email or phone 609-987-8100.
URL:https://adathisraelnj.org/event/jfcs-kosher-cafe/2025-06-25/
CATEGORIES:General
END:VEVENT
BEGIN:VEVENT
DTSTART;TZID=America/New_York:20250624T110000
DTEND;TZID=America/New_York:20250624T130000
DTSTAMP:20260421T201235
CREATED:20231005T180626Z
LAST-MODIFIED:20240829T141946Z
UID:10003739-1750762800-1750770000@adathisraelnj.org
SUMMARY:JFCS Kosher Cafe
DESCRIPTION:https://www.jfcsonline.org/foodprograms/ \nKosher Cafe\nThe Kosher Cafe is a designated nutrition site\, supported by the Mercer County Office on Aging. \nEvery Tuesday – Friday from 11 AM – 1 PM \nJoin us for a complimentary\, catered at Congregation Adath Israel\, 1958 Lawrenceville Road\, Lawrenceville\, NJ. Bring a friend or make new ones. The program is designed for low-income seniors who would benefit from a complimentary\, hot and nutritious lunch. The cafes are open to all and donations are accepted. \nFor additional information\, contact Debi Henritzy\, Kosher Cafe Coordinator by email or phone 609-987-8100.
URL:https://adathisraelnj.org/event/jfcs-kosher-cafe/2025-06-24/
CATEGORIES:General
END:VEVENT
BEGIN:VEVENT
DTSTART;TZID=America/New_York:20250620T110000
DTEND;TZID=America/New_York:20250620T130000
DTSTAMP:20260421T201235
CREATED:20231005T180626Z
LAST-MODIFIED:20240829T141946Z
UID:10003738-1750417200-1750424400@adathisraelnj.org
SUMMARY:JFCS Kosher Cafe
DESCRIPTION:https://www.jfcsonline.org/foodprograms/ \nKosher Cafe\nThe Kosher Cafe is a designated nutrition site\, supported by the Mercer County Office on Aging. \nEvery Tuesday – Friday from 11 AM – 1 PM \nJoin us for a complimentary\, catered at Congregation Adath Israel\, 1958 Lawrenceville Road\, Lawrenceville\, NJ. Bring a friend or make new ones. The program is designed for low-income seniors who would benefit from a complimentary\, hot and nutritious lunch. The cafes are open to all and donations are accepted. \nFor additional information\, contact Debi Henritzy\, Kosher Cafe Coordinator by email or phone 609-987-8100.
URL:https://adathisraelnj.org/event/jfcs-kosher-cafe/2025-06-20/
CATEGORIES:General
END:VEVENT
BEGIN:VEVENT
DTSTART;TZID=America/New_York:20250619T110000
DTEND;TZID=America/New_York:20250619T130000
DTSTAMP:20260421T201235
CREATED:20231005T180626Z
LAST-MODIFIED:20240829T141946Z
UID:10003737-1750330800-1750338000@adathisraelnj.org
SUMMARY:JFCS Kosher Cafe
DESCRIPTION:https://www.jfcsonline.org/foodprograms/ \nKosher Cafe\nThe Kosher Cafe is a designated nutrition site\, supported by the Mercer County Office on Aging. \nEvery Tuesday – Friday from 11 AM – 1 PM \nJoin us for a complimentary\, catered at Congregation Adath Israel\, 1958 Lawrenceville Road\, Lawrenceville\, NJ. Bring a friend or make new ones. The program is designed for low-income seniors who would benefit from a complimentary\, hot and nutritious lunch. The cafes are open to all and donations are accepted. \nFor additional information\, contact Debi Henritzy\, Kosher Cafe Coordinator by email or phone 609-987-8100.
URL:https://adathisraelnj.org/event/jfcs-kosher-cafe/2025-06-19/
CATEGORIES:General
END:VEVENT
BEGIN:VEVENT
DTSTART;TZID=America/New_York:20250618T110000
DTEND;TZID=America/New_York:20250618T130000
DTSTAMP:20260421T201235
CREATED:20231005T180626Z
LAST-MODIFIED:20240829T141946Z
UID:10003736-1750244400-1750251600@adathisraelnj.org
SUMMARY:JFCS Kosher Cafe
DESCRIPTION:https://www.jfcsonline.org/foodprograms/ \nKosher Cafe\nThe Kosher Cafe is a designated nutrition site\, supported by the Mercer County Office on Aging. \nEvery Tuesday – Friday from 11 AM – 1 PM \nJoin us for a complimentary\, catered at Congregation Adath Israel\, 1958 Lawrenceville Road\, Lawrenceville\, NJ. Bring a friend or make new ones. The program is designed for low-income seniors who would benefit from a complimentary\, hot and nutritious lunch. The cafes are open to all and donations are accepted. \nFor additional information\, contact Debi Henritzy\, Kosher Cafe Coordinator by email or phone 609-987-8100.
URL:https://adathisraelnj.org/event/jfcs-kosher-cafe/2025-06-18/
CATEGORIES:General
END:VEVENT
BEGIN:VEVENT
DTSTART;TZID=America/New_York:20250617T110000
DTEND;TZID=America/New_York:20250617T130000
DTSTAMP:20260421T201235
CREATED:20231005T180626Z
LAST-MODIFIED:20240829T141946Z
UID:10003735-1750158000-1750165200@adathisraelnj.org
SUMMARY:JFCS Kosher Cafe
DESCRIPTION:https://www.jfcsonline.org/foodprograms/ \nKosher Cafe\nThe Kosher Cafe is a designated nutrition site\, supported by the Mercer County Office on Aging. \nEvery Tuesday – Friday from 11 AM – 1 PM \nJoin us for a complimentary\, catered at Congregation Adath Israel\, 1958 Lawrenceville Road\, Lawrenceville\, NJ. Bring a friend or make new ones. The program is designed for low-income seniors who would benefit from a complimentary\, hot and nutritious lunch. The cafes are open to all and donations are accepted. \nFor additional information\, contact Debi Henritzy\, Kosher Cafe Coordinator by email or phone 609-987-8100.
URL:https://adathisraelnj.org/event/jfcs-kosher-cafe/2025-06-17/
CATEGORIES:General
END:VEVENT
BEGIN:VEVENT
DTSTART;TZID=America/New_York:20250614T170000
DTEND;TZID=America/New_York:20250614T170000
DTSTAMP:20260421T201235
CREATED:20240723T165557Z
LAST-MODIFIED:20240723T182131Z
UID:10005139-1749920400-1749920400@adathisraelnj.org
SUMMARY:Shabbat Lunch
DESCRIPTION:
URL:https://adathisraelnj.org/event/shabbat-lunch-3/2025-06-14/
CATEGORIES:General,Worship
END:VEVENT
BEGIN:VEVENT
DTSTART;TZID=America/New_York:20250613T110000
DTEND;TZID=America/New_York:20250613T130000
DTSTAMP:20260421T201235
CREATED:20231005T180626Z
LAST-MODIFIED:20240829T141946Z
UID:10003734-1749812400-1749819600@adathisraelnj.org
SUMMARY:JFCS Kosher Cafe
DESCRIPTION:https://www.jfcsonline.org/foodprograms/ \nKosher Cafe\nThe Kosher Cafe is a designated nutrition site\, supported by the Mercer County Office on Aging. \nEvery Tuesday – Friday from 11 AM – 1 PM \nJoin us for a complimentary\, catered at Congregation Adath Israel\, 1958 Lawrenceville Road\, Lawrenceville\, NJ. Bring a friend or make new ones. The program is designed for low-income seniors who would benefit from a complimentary\, hot and nutritious lunch. The cafes are open to all and donations are accepted. \nFor additional information\, contact Debi Henritzy\, Kosher Cafe Coordinator by email or phone 609-987-8100.
URL:https://adathisraelnj.org/event/jfcs-kosher-cafe/2025-06-13/
CATEGORIES:General
END:VEVENT
BEGIN:VEVENT
DTSTART;TZID=America/New_York:20250612T110000
DTEND;TZID=America/New_York:20250612T130000
DTSTAMP:20260421T201235
CREATED:20231005T180626Z
LAST-MODIFIED:20240829T141946Z
UID:10003733-1749726000-1749733200@adathisraelnj.org
SUMMARY:JFCS Kosher Cafe
DESCRIPTION:https://www.jfcsonline.org/foodprograms/ \nKosher Cafe\nThe Kosher Cafe is a designated nutrition site\, supported by the Mercer County Office on Aging. \nEvery Tuesday – Friday from 11 AM – 1 PM \nJoin us for a complimentary\, catered at Congregation Adath Israel\, 1958 Lawrenceville Road\, Lawrenceville\, NJ. Bring a friend or make new ones. The program is designed for low-income seniors who would benefit from a complimentary\, hot and nutritious lunch. The cafes are open to all and donations are accepted. \nFor additional information\, contact Debi Henritzy\, Kosher Cafe Coordinator by email or phone 609-987-8100.
URL:https://adathisraelnj.org/event/jfcs-kosher-cafe/2025-06-12/
CATEGORIES:General
END:VEVENT
BEGIN:VEVENT
DTSTART;TZID=America/New_York:20250611T110000
DTEND;TZID=America/New_York:20250611T130000
DTSTAMP:20260421T201235
CREATED:20231005T180626Z
LAST-MODIFIED:20240829T141946Z
UID:10003732-1749639600-1749646800@adathisraelnj.org
SUMMARY:JFCS Kosher Cafe
DESCRIPTION:https://www.jfcsonline.org/foodprograms/ \nKosher Cafe\nThe Kosher Cafe is a designated nutrition site\, supported by the Mercer County Office on Aging. \nEvery Tuesday – Friday from 11 AM – 1 PM \nJoin us for a complimentary\, catered at Congregation Adath Israel\, 1958 Lawrenceville Road\, Lawrenceville\, NJ. Bring a friend or make new ones. The program is designed for low-income seniors who would benefit from a complimentary\, hot and nutritious lunch. The cafes are open to all and donations are accepted. \nFor additional information\, contact Debi Henritzy\, Kosher Cafe Coordinator by email or phone 609-987-8100.
URL:https://adathisraelnj.org/event/jfcs-kosher-cafe/2025-06-11/
CATEGORIES:General
END:VEVENT
BEGIN:VEVENT
DTSTART;TZID=America/New_York:20250610T110000
DTEND;TZID=America/New_York:20250610T130000
DTSTAMP:20260421T201235
CREATED:20231005T180626Z
LAST-MODIFIED:20240829T141946Z
UID:10003731-1749553200-1749560400@adathisraelnj.org
SUMMARY:JFCS Kosher Cafe
DESCRIPTION:https://www.jfcsonline.org/foodprograms/ \nKosher Cafe\nThe Kosher Cafe is a designated nutrition site\, supported by the Mercer County Office on Aging. \nEvery Tuesday – Friday from 11 AM – 1 PM \nJoin us for a complimentary\, catered at Congregation Adath Israel\, 1958 Lawrenceville Road\, Lawrenceville\, NJ. Bring a friend or make new ones. The program is designed for low-income seniors who would benefit from a complimentary\, hot and nutritious lunch. The cafes are open to all and donations are accepted. \nFor additional information\, contact Debi Henritzy\, Kosher Cafe Coordinator by email or phone 609-987-8100.
URL:https://adathisraelnj.org/event/jfcs-kosher-cafe/2025-06-10/
CATEGORIES:General
END:VEVENT
BEGIN:VEVENT
DTSTART;TZID=America/New_York:20250606T110000
DTEND;TZID=America/New_York:20250606T130000
DTSTAMP:20260421T201235
CREATED:20231005T180626Z
LAST-MODIFIED:20240829T141946Z
UID:10003730-1749207600-1749214800@adathisraelnj.org
SUMMARY:JFCS Kosher Cafe
DESCRIPTION:https://www.jfcsonline.org/foodprograms/ \nKosher Cafe\nThe Kosher Cafe is a designated nutrition site\, supported by the Mercer County Office on Aging. \nEvery Tuesday – Friday from 11 AM – 1 PM \nJoin us for a complimentary\, catered at Congregation Adath Israel\, 1958 Lawrenceville Road\, Lawrenceville\, NJ. Bring a friend or make new ones. The program is designed for low-income seniors who would benefit from a complimentary\, hot and nutritious lunch. The cafes are open to all and donations are accepted. \nFor additional information\, contact Debi Henritzy\, Kosher Cafe Coordinator by email or phone 609-987-8100.
URL:https://adathisraelnj.org/event/jfcs-kosher-cafe/2025-06-06/
CATEGORIES:General
END:VEVENT
BEGIN:VEVENT
DTSTART;TZID=America/New_York:20250605T110000
DTEND;TZID=America/New_York:20250605T130000
DTSTAMP:20260421T201235
CREATED:20231005T180626Z
LAST-MODIFIED:20240829T141946Z
UID:10003729-1749121200-1749128400@adathisraelnj.org
SUMMARY:JFCS Kosher Cafe
DESCRIPTION:https://www.jfcsonline.org/foodprograms/ \nKosher Cafe\nThe Kosher Cafe is a designated nutrition site\, supported by the Mercer County Office on Aging. \nEvery Tuesday – Friday from 11 AM – 1 PM \nJoin us for a complimentary\, catered at Congregation Adath Israel\, 1958 Lawrenceville Road\, Lawrenceville\, NJ. Bring a friend or make new ones. The program is designed for low-income seniors who would benefit from a complimentary\, hot and nutritious lunch. The cafes are open to all and donations are accepted. \nFor additional information\, contact Debi Henritzy\, Kosher Cafe Coordinator by email or phone 609-987-8100.
URL:https://adathisraelnj.org/event/jfcs-kosher-cafe/2025-06-05/
CATEGORIES:General
END:VEVENT
BEGIN:VEVENT
DTSTART;TZID=America/New_York:20250604T110000
DTEND;TZID=America/New_York:20250604T130000
DTSTAMP:20260421T201235
CREATED:20231005T180626Z
LAST-MODIFIED:20240829T141946Z
UID:10003728-1749034800-1749042000@adathisraelnj.org
SUMMARY:JFCS Kosher Cafe
DESCRIPTION:https://www.jfcsonline.org/foodprograms/ \nKosher Cafe\nThe Kosher Cafe is a designated nutrition site\, supported by the Mercer County Office on Aging. \nEvery Tuesday – Friday from 11 AM – 1 PM \nJoin us for a complimentary\, catered at Congregation Adath Israel\, 1958 Lawrenceville Road\, Lawrenceville\, NJ. Bring a friend or make new ones. The program is designed for low-income seniors who would benefit from a complimentary\, hot and nutritious lunch. The cafes are open to all and donations are accepted. \nFor additional information\, contact Debi Henritzy\, Kosher Cafe Coordinator by email or phone 609-987-8100.
URL:https://adathisraelnj.org/event/jfcs-kosher-cafe/2025-06-04/
CATEGORIES:General
END:VEVENT
BEGIN:VEVENT
DTSTART;TZID=America/New_York:20250603T110000
DTEND;TZID=America/New_York:20250603T130000
DTSTAMP:20260421T201235
CREATED:20231005T180626Z
LAST-MODIFIED:20240829T141946Z
UID:10003727-1748948400-1748955600@adathisraelnj.org
SUMMARY:JFCS Kosher Cafe
DESCRIPTION:https://www.jfcsonline.org/foodprograms/ \nKosher Cafe\nThe Kosher Cafe is a designated nutrition site\, supported by the Mercer County Office on Aging. \nEvery Tuesday – Friday from 11 AM – 1 PM \nJoin us for a complimentary\, catered at Congregation Adath Israel\, 1958 Lawrenceville Road\, Lawrenceville\, NJ. Bring a friend or make new ones. The program is designed for low-income seniors who would benefit from a complimentary\, hot and nutritious lunch. The cafes are open to all and donations are accepted. \nFor additional information\, contact Debi Henritzy\, Kosher Cafe Coordinator by email or phone 609-987-8100.
URL:https://adathisraelnj.org/event/jfcs-kosher-cafe/2025-06-03/
CATEGORIES:General
END:VEVENT
BEGIN:VEVENT
DTSTART;TZID=America/New_York:20250530T193000
DTEND;TZID=America/New_York:20250530T210000
DTSTAMP:20260421T201235
CREATED:20250116T170834Z
LAST-MODIFIED:20250116T170834Z
UID:10006212-1748633400-1748638800@adathisraelnj.org
SUMMARY:Rabbi's Tisch
DESCRIPTION:
URL:https://adathisraelnj.org/event/rabbis-tisch-6/
LOCATION:Adath Israel Congregation\, 1958 Lawrenceville Rd\, Lawrenceville\, NJ 08648\, USA\, United States
CATEGORIES:General
GEO:40.29733;-74.729605
END:VEVENT
BEGIN:VEVENT
DTSTART;TZID=America/New_York:20250530T110000
DTEND;TZID=America/New_York:20250530T130000
DTSTAMP:20260421T201235
CREATED:20231005T180626Z
LAST-MODIFIED:20240829T141946Z
UID:10003726-1748602800-1748610000@adathisraelnj.org
SUMMARY:JFCS Kosher Cafe
DESCRIPTION:https://www.jfcsonline.org/foodprograms/ \nKosher Cafe\nThe Kosher Cafe is a designated nutrition site\, supported by the Mercer County Office on Aging. \nEvery Tuesday – Friday from 11 AM – 1 PM \nJoin us for a complimentary\, catered at Congregation Adath Israel\, 1958 Lawrenceville Road\, Lawrenceville\, NJ. Bring a friend or make new ones. The program is designed for low-income seniors who would benefit from a complimentary\, hot and nutritious lunch. The cafes are open to all and donations are accepted. \nFor additional information\, contact Debi Henritzy\, Kosher Cafe Coordinator by email or phone 609-987-8100.
URL:https://adathisraelnj.org/event/jfcs-kosher-cafe/2025-05-30/
CATEGORIES:General
END:VEVENT
BEGIN:VEVENT
DTSTART;TZID=America/New_York:20250529T190000
DTEND;TZID=America/New_York:20250529T210000
DTSTAMP:20260421T201235
CREATED:20250430T134111Z
LAST-MODIFIED:20250430T134111Z
UID:10006227-1748545200-1748552400@adathisraelnj.org
SUMMARY:102nd Annual Meeting
DESCRIPTION:
URL:https://adathisraelnj.org/event/102nd-annual-meeting/
LOCATION:Adath Israel Congregation\, 1958 Lawrenceville Rd\, Lawrenceville\, NJ\, 08648\, United States
CATEGORIES:General
END:VEVENT
BEGIN:VEVENT
DTSTART;TZID=America/New_York:20250529T110000
DTEND;TZID=America/New_York:20250529T130000
DTSTAMP:20260421T201235
CREATED:20231005T180626Z
LAST-MODIFIED:20240829T141946Z
UID:10003725-1748516400-1748523600@adathisraelnj.org
SUMMARY:JFCS Kosher Cafe
DESCRIPTION:https://www.jfcsonline.org/foodprograms/ \nKosher Cafe\nThe Kosher Cafe is a designated nutrition site\, supported by the Mercer County Office on Aging. \nEvery Tuesday – Friday from 11 AM – 1 PM \nJoin us for a complimentary\, catered at Congregation Adath Israel\, 1958 Lawrenceville Road\, Lawrenceville\, NJ. Bring a friend or make new ones. The program is designed for low-income seniors who would benefit from a complimentary\, hot and nutritious lunch. The cafes are open to all and donations are accepted. \nFor additional information\, contact Debi Henritzy\, Kosher Cafe Coordinator by email or phone 609-987-8100.
URL:https://adathisraelnj.org/event/jfcs-kosher-cafe/2025-05-29/
CATEGORIES:General
END:VEVENT
BEGIN:VEVENT
DTSTART;TZID=America/New_York:20250528T110000
DTEND;TZID=America/New_York:20250528T130000
DTSTAMP:20260421T201235
CREATED:20231005T180626Z
LAST-MODIFIED:20240829T141946Z
UID:10003724-1748430000-1748437200@adathisraelnj.org
SUMMARY:JFCS Kosher Cafe
DESCRIPTION:https://www.jfcsonline.org/foodprograms/ \nKosher Cafe\nThe Kosher Cafe is a designated nutrition site\, supported by the Mercer County Office on Aging. \nEvery Tuesday – Friday from 11 AM – 1 PM \nJoin us for a complimentary\, catered at Congregation Adath Israel\, 1958 Lawrenceville Road\, Lawrenceville\, NJ. Bring a friend or make new ones. The program is designed for low-income seniors who would benefit from a complimentary\, hot and nutritious lunch. The cafes are open to all and donations are accepted. \nFor additional information\, contact Debi Henritzy\, Kosher Cafe Coordinator by email or phone 609-987-8100.
URL:https://adathisraelnj.org/event/jfcs-kosher-cafe/2025-05-28/
CATEGORIES:General
END:VEVENT
BEGIN:VEVENT
DTSTART;TZID=America/New_York:20250527T110000
DTEND;TZID=America/New_York:20250527T130000
DTSTAMP:20260421T201235
CREATED:20231005T180626Z
LAST-MODIFIED:20240829T141946Z
UID:10003723-1748343600-1748350800@adathisraelnj.org
SUMMARY:JFCS Kosher Cafe
DESCRIPTION:https://www.jfcsonline.org/foodprograms/ \nKosher Cafe\nThe Kosher Cafe is a designated nutrition site\, supported by the Mercer County Office on Aging. \nEvery Tuesday – Friday from 11 AM – 1 PM \nJoin us for a complimentary\, catered at Congregation Adath Israel\, 1958 Lawrenceville Road\, Lawrenceville\, NJ. Bring a friend or make new ones. The program is designed for low-income seniors who would benefit from a complimentary\, hot and nutritious lunch. The cafes are open to all and donations are accepted. \nFor additional information\, contact Debi Henritzy\, Kosher Cafe Coordinator by email or phone 609-987-8100.
URL:https://adathisraelnj.org/event/jfcs-kosher-cafe/2025-05-27/
CATEGORIES:General
END:VEVENT
BEGIN:VEVENT
DTSTART;VALUE=DATE:20250526
DTEND;VALUE=DATE:20250527
DTSTAMP:20260421T201235
CREATED:20250501T180428Z
LAST-MODIFIED:20250501T180428Z
UID:10006245-1748217600-1748303999@adathisraelnj.org
SUMMARY:OFFICE CLOSED - MEMORIAL DAY
DESCRIPTION:The office will be closed in observance of Memorial Day
URL:https://adathisraelnj.org/event/office-closed-memorial-day/
CATEGORIES:General
END:VEVENT
BEGIN:VEVENT
DTSTART;TZID=America/New_York:20250523T110000
DTEND;TZID=America/New_York:20250523T130000
DTSTAMP:20260421T201235
CREATED:20231005T180626Z
LAST-MODIFIED:20240829T141946Z
UID:10003722-1747998000-1748005200@adathisraelnj.org
SUMMARY:JFCS Kosher Cafe
DESCRIPTION:https://www.jfcsonline.org/foodprograms/ \nKosher Cafe\nThe Kosher Cafe is a designated nutrition site\, supported by the Mercer County Office on Aging. \nEvery Tuesday – Friday from 11 AM – 1 PM \nJoin us for a complimentary\, catered at Congregation Adath Israel\, 1958 Lawrenceville Road\, Lawrenceville\, NJ. Bring a friend or make new ones. The program is designed for low-income seniors who would benefit from a complimentary\, hot and nutritious lunch. The cafes are open to all and donations are accepted. \nFor additional information\, contact Debi Henritzy\, Kosher Cafe Coordinator by email or phone 609-987-8100.
URL:https://adathisraelnj.org/event/jfcs-kosher-cafe/2025-05-23/
CATEGORIES:General
END:VEVENT
BEGIN:VEVENT
DTSTART;TZID=America/New_York:20250522T110000
DTEND;TZID=America/New_York:20250522T130000
DTSTAMP:20260421T201236
CREATED:20231005T180626Z
LAST-MODIFIED:20240829T141946Z
UID:10003721-1747911600-1747918800@adathisraelnj.org
SUMMARY:JFCS Kosher Cafe
DESCRIPTION:https://www.jfcsonline.org/foodprograms/ \nKosher Cafe\nThe Kosher Cafe is a designated nutrition site\, supported by the Mercer County Office on Aging. \nEvery Tuesday – Friday from 11 AM – 1 PM \nJoin us for a complimentary\, catered at Congregation Adath Israel\, 1958 Lawrenceville Road\, Lawrenceville\, NJ. Bring a friend or make new ones. The program is designed for low-income seniors who would benefit from a complimentary\, hot and nutritious lunch. The cafes are open to all and donations are accepted. \nFor additional information\, contact Debi Henritzy\, Kosher Cafe Coordinator by email or phone 609-987-8100.
URL:https://adathisraelnj.org/event/jfcs-kosher-cafe/2025-05-22/
CATEGORIES:General
END:VEVENT
END:VCALENDAR