BEGIN:VCALENDAR
VERSION:2.0
PRODID:-//Adath Israel Congregation - ECPv6.15.12.2//NONSGML v1.0//EN
CALSCALE:GREGORIAN
METHOD:PUBLISH
X-WR-CALNAME:Adath Israel Congregation
X-ORIGINAL-URL:https://adathisraelnj.org
X-WR-CALDESC:Events for Adath Israel Congregation
REFRESH-INTERVAL;VALUE=DURATION:PT1H
X-Robots-Tag:noindex
X-PUBLISHED-TTL:PT1H
BEGIN:VTIMEZONE
TZID:America/New_York
BEGIN:DAYLIGHT
TZOFFSETFROM:-0500
TZOFFSETTO:-0400
TZNAME:EDT
DTSTART:20240310T070000
END:DAYLIGHT
BEGIN:STANDARD
TZOFFSETFROM:-0400
TZOFFSETTO:-0500
TZNAME:EST
DTSTART:20241103T060000
END:STANDARD
BEGIN:DAYLIGHT
TZOFFSETFROM:-0500
TZOFFSETTO:-0400
TZNAME:EDT
DTSTART:20250309T070000
END:DAYLIGHT
BEGIN:STANDARD
TZOFFSETFROM:-0400
TZOFFSETTO:-0500
TZNAME:EST
DTSTART:20251102T060000
END:STANDARD
BEGIN:DAYLIGHT
TZOFFSETFROM:-0500
TZOFFSETTO:-0400
TZNAME:EDT
DTSTART:20260308T070000
END:DAYLIGHT
BEGIN:STANDARD
TZOFFSETFROM:-0400
TZOFFSETTO:-0500
TZNAME:EST
DTSTART:20261101T060000
END:STANDARD
END:VTIMEZONE
BEGIN:VEVENT
DTSTART;TZID=America/New_York:20250314T110000
DTEND;TZID=America/New_York:20250314T130000
DTSTAMP:20260422T133126
CREATED:20231005T180626Z
LAST-MODIFIED:20240829T141946Z
UID:10003682-1741950000-1741957200@adathisraelnj.org
SUMMARY:JFCS Kosher Cafe
DESCRIPTION:https://www.jfcsonline.org/foodprograms/ \nKosher Cafe\nThe Kosher Cafe is a designated nutrition site\, supported by the Mercer County Office on Aging. \nEvery Tuesday – Friday from 11 AM – 1 PM \nJoin us for a complimentary\, catered at Congregation Adath Israel\, 1958 Lawrenceville Road\, Lawrenceville\, NJ. Bring a friend or make new ones. The program is designed for low-income seniors who would benefit from a complimentary\, hot and nutritious lunch. The cafes are open to all and donations are accepted. \nFor additional information\, contact Debi Henritzy\, Kosher Cafe Coordinator by email or phone 609-987-8100.
URL:https://adathisraelnj.org/event/jfcs-kosher-cafe/2025-03-14/
CATEGORIES:General
END:VEVENT
BEGIN:VEVENT
DTSTART;TZID=America/New_York:20250313T110000
DTEND;TZID=America/New_York:20250313T130000
DTSTAMP:20260422T133126
CREATED:20231005T180626Z
LAST-MODIFIED:20240829T141946Z
UID:10003681-1741863600-1741870800@adathisraelnj.org
SUMMARY:JFCS Kosher Cafe
DESCRIPTION:https://www.jfcsonline.org/foodprograms/ \nKosher Cafe\nThe Kosher Cafe is a designated nutrition site\, supported by the Mercer County Office on Aging. \nEvery Tuesday – Friday from 11 AM – 1 PM \nJoin us for a complimentary\, catered at Congregation Adath Israel\, 1958 Lawrenceville Road\, Lawrenceville\, NJ. Bring a friend or make new ones. The program is designed for low-income seniors who would benefit from a complimentary\, hot and nutritious lunch. The cafes are open to all and donations are accepted. \nFor additional information\, contact Debi Henritzy\, Kosher Cafe Coordinator by email or phone 609-987-8100.
URL:https://adathisraelnj.org/event/jfcs-kosher-cafe/2025-03-13/
CATEGORIES:General
END:VEVENT
BEGIN:VEVENT
DTSTART;TZID=America/New_York:20250312T110000
DTEND;TZID=America/New_York:20250312T130000
DTSTAMP:20260422T133126
CREATED:20231005T180626Z
LAST-MODIFIED:20240829T141946Z
UID:10003680-1741777200-1741784400@adathisraelnj.org
SUMMARY:JFCS Kosher Cafe
DESCRIPTION:https://www.jfcsonline.org/foodprograms/ \nKosher Cafe\nThe Kosher Cafe is a designated nutrition site\, supported by the Mercer County Office on Aging. \nEvery Tuesday – Friday from 11 AM – 1 PM \nJoin us for a complimentary\, catered at Congregation Adath Israel\, 1958 Lawrenceville Road\, Lawrenceville\, NJ. Bring a friend or make new ones. The program is designed for low-income seniors who would benefit from a complimentary\, hot and nutritious lunch. The cafes are open to all and donations are accepted. \nFor additional information\, contact Debi Henritzy\, Kosher Cafe Coordinator by email or phone 609-987-8100.
URL:https://adathisraelnj.org/event/jfcs-kosher-cafe/2025-03-12/
CATEGORIES:General
END:VEVENT
BEGIN:VEVENT
DTSTART;TZID=America/New_York:20250311T110000
DTEND;TZID=America/New_York:20250311T130000
DTSTAMP:20260422T133126
CREATED:20231005T180626Z
LAST-MODIFIED:20240829T141946Z
UID:10003679-1741690800-1741698000@adathisraelnj.org
SUMMARY:JFCS Kosher Cafe
DESCRIPTION:https://www.jfcsonline.org/foodprograms/ \nKosher Cafe\nThe Kosher Cafe is a designated nutrition site\, supported by the Mercer County Office on Aging. \nEvery Tuesday – Friday from 11 AM – 1 PM \nJoin us for a complimentary\, catered at Congregation Adath Israel\, 1958 Lawrenceville Road\, Lawrenceville\, NJ. Bring a friend or make new ones. The program is designed for low-income seniors who would benefit from a complimentary\, hot and nutritious lunch. The cafes are open to all and donations are accepted. \nFor additional information\, contact Debi Henritzy\, Kosher Cafe Coordinator by email or phone 609-987-8100.
URL:https://adathisraelnj.org/event/jfcs-kosher-cafe/2025-03-11/
CATEGORIES:General
END:VEVENT
BEGIN:VEVENT
DTSTART;TZID=America/New_York:20250308T170000
DTEND;TZID=America/New_York:20250308T170000
DTSTAMP:20260422T133126
CREATED:20240723T165557Z
LAST-MODIFIED:20240723T182131Z
UID:10005136-1741453200-1741453200@adathisraelnj.org
SUMMARY:Shabbat Lunch
DESCRIPTION:
URL:https://adathisraelnj.org/event/shabbat-lunch-3/2025-03-08/
CATEGORIES:General,Worship
END:VEVENT
BEGIN:VEVENT
DTSTART;TZID=America/New_York:20250307T110000
DTEND;TZID=America/New_York:20250307T130000
DTSTAMP:20260422T133126
CREATED:20231005T180626Z
LAST-MODIFIED:20240829T141946Z
UID:10003678-1741345200-1741352400@adathisraelnj.org
SUMMARY:JFCS Kosher Cafe
DESCRIPTION:https://www.jfcsonline.org/foodprograms/ \nKosher Cafe\nThe Kosher Cafe is a designated nutrition site\, supported by the Mercer County Office on Aging. \nEvery Tuesday – Friday from 11 AM – 1 PM \nJoin us for a complimentary\, catered at Congregation Adath Israel\, 1958 Lawrenceville Road\, Lawrenceville\, NJ. Bring a friend or make new ones. The program is designed for low-income seniors who would benefit from a complimentary\, hot and nutritious lunch. The cafes are open to all and donations are accepted. \nFor additional information\, contact Debi Henritzy\, Kosher Cafe Coordinator by email or phone 609-987-8100.
URL:https://adathisraelnj.org/event/jfcs-kosher-cafe/2025-03-07/
CATEGORIES:General
END:VEVENT
BEGIN:VEVENT
DTSTART;TZID=America/New_York:20250306T110000
DTEND;TZID=America/New_York:20250306T130000
DTSTAMP:20260422T133126
CREATED:20231005T180626Z
LAST-MODIFIED:20240829T141946Z
UID:10003677-1741258800-1741266000@adathisraelnj.org
SUMMARY:JFCS Kosher Cafe
DESCRIPTION:https://www.jfcsonline.org/foodprograms/ \nKosher Cafe\nThe Kosher Cafe is a designated nutrition site\, supported by the Mercer County Office on Aging. \nEvery Tuesday – Friday from 11 AM – 1 PM \nJoin us for a complimentary\, catered at Congregation Adath Israel\, 1958 Lawrenceville Road\, Lawrenceville\, NJ. Bring a friend or make new ones. The program is designed for low-income seniors who would benefit from a complimentary\, hot and nutritious lunch. The cafes are open to all and donations are accepted. \nFor additional information\, contact Debi Henritzy\, Kosher Cafe Coordinator by email or phone 609-987-8100.
URL:https://adathisraelnj.org/event/jfcs-kosher-cafe/2025-03-06/
CATEGORIES:General
END:VEVENT
BEGIN:VEVENT
DTSTART;TZID=America/New_York:20250305T110000
DTEND;TZID=America/New_York:20250305T130000
DTSTAMP:20260422T133126
CREATED:20231005T180626Z
LAST-MODIFIED:20240829T141946Z
UID:10003676-1741172400-1741179600@adathisraelnj.org
SUMMARY:JFCS Kosher Cafe
DESCRIPTION:https://www.jfcsonline.org/foodprograms/ \nKosher Cafe\nThe Kosher Cafe is a designated nutrition site\, supported by the Mercer County Office on Aging. \nEvery Tuesday – Friday from 11 AM – 1 PM \nJoin us for a complimentary\, catered at Congregation Adath Israel\, 1958 Lawrenceville Road\, Lawrenceville\, NJ. Bring a friend or make new ones. The program is designed for low-income seniors who would benefit from a complimentary\, hot and nutritious lunch. The cafes are open to all and donations are accepted. \nFor additional information\, contact Debi Henritzy\, Kosher Cafe Coordinator by email or phone 609-987-8100.
URL:https://adathisraelnj.org/event/jfcs-kosher-cafe/2025-03-05/
CATEGORIES:General
END:VEVENT
BEGIN:VEVENT
DTSTART;TZID=America/New_York:20250304T110000
DTEND;TZID=America/New_York:20250304T130000
DTSTAMP:20260422T133126
CREATED:20231005T180626Z
LAST-MODIFIED:20240829T141946Z
UID:10003675-1741086000-1741093200@adathisraelnj.org
SUMMARY:JFCS Kosher Cafe
DESCRIPTION:https://www.jfcsonline.org/foodprograms/ \nKosher Cafe\nThe Kosher Cafe is a designated nutrition site\, supported by the Mercer County Office on Aging. \nEvery Tuesday – Friday from 11 AM – 1 PM \nJoin us for a complimentary\, catered at Congregation Adath Israel\, 1958 Lawrenceville Road\, Lawrenceville\, NJ. Bring a friend or make new ones. The program is designed for low-income seniors who would benefit from a complimentary\, hot and nutritious lunch. The cafes are open to all and donations are accepted. \nFor additional information\, contact Debi Henritzy\, Kosher Cafe Coordinator by email or phone 609-987-8100.
URL:https://adathisraelnj.org/event/jfcs-kosher-cafe/2025-03-04/
CATEGORIES:General
END:VEVENT
BEGIN:VEVENT
DTSTART;TZID=America/New_York:20250228T110000
DTEND;TZID=America/New_York:20250228T130000
DTSTAMP:20260422T133126
CREATED:20231005T180626Z
LAST-MODIFIED:20240829T141946Z
UID:10003674-1740740400-1740747600@adathisraelnj.org
SUMMARY:JFCS Kosher Cafe
DESCRIPTION:https://www.jfcsonline.org/foodprograms/ \nKosher Cafe\nThe Kosher Cafe is a designated nutrition site\, supported by the Mercer County Office on Aging. \nEvery Tuesday – Friday from 11 AM – 1 PM \nJoin us for a complimentary\, catered at Congregation Adath Israel\, 1958 Lawrenceville Road\, Lawrenceville\, NJ. Bring a friend or make new ones. The program is designed for low-income seniors who would benefit from a complimentary\, hot and nutritious lunch. The cafes are open to all and donations are accepted. \nFor additional information\, contact Debi Henritzy\, Kosher Cafe Coordinator by email or phone 609-987-8100.
URL:https://adathisraelnj.org/event/jfcs-kosher-cafe/2025-02-28/
CATEGORIES:General
END:VEVENT
BEGIN:VEVENT
DTSTART;TZID=America/New_York:20250227T110000
DTEND;TZID=America/New_York:20250227T130000
DTSTAMP:20260422T133126
CREATED:20231005T180626Z
LAST-MODIFIED:20240829T141946Z
UID:10003673-1740654000-1740661200@adathisraelnj.org
SUMMARY:JFCS Kosher Cafe
DESCRIPTION:https://www.jfcsonline.org/foodprograms/ \nKosher Cafe\nThe Kosher Cafe is a designated nutrition site\, supported by the Mercer County Office on Aging. \nEvery Tuesday – Friday from 11 AM – 1 PM \nJoin us for a complimentary\, catered at Congregation Adath Israel\, 1958 Lawrenceville Road\, Lawrenceville\, NJ. Bring a friend or make new ones. The program is designed for low-income seniors who would benefit from a complimentary\, hot and nutritious lunch. The cafes are open to all and donations are accepted. \nFor additional information\, contact Debi Henritzy\, Kosher Cafe Coordinator by email or phone 609-987-8100.
URL:https://adathisraelnj.org/event/jfcs-kosher-cafe/2025-02-27/
CATEGORIES:General
END:VEVENT
BEGIN:VEVENT
DTSTART;TZID=America/New_York:20250226T110000
DTEND;TZID=America/New_York:20250226T130000
DTSTAMP:20260422T133126
CREATED:20231005T180626Z
LAST-MODIFIED:20240829T141946Z
UID:10003672-1740567600-1740574800@adathisraelnj.org
SUMMARY:JFCS Kosher Cafe
DESCRIPTION:https://www.jfcsonline.org/foodprograms/ \nKosher Cafe\nThe Kosher Cafe is a designated nutrition site\, supported by the Mercer County Office on Aging. \nEvery Tuesday – Friday from 11 AM – 1 PM \nJoin us for a complimentary\, catered at Congregation Adath Israel\, 1958 Lawrenceville Road\, Lawrenceville\, NJ. Bring a friend or make new ones. The program is designed for low-income seniors who would benefit from a complimentary\, hot and nutritious lunch. The cafes are open to all and donations are accepted. \nFor additional information\, contact Debi Henritzy\, Kosher Cafe Coordinator by email or phone 609-987-8100.
URL:https://adathisraelnj.org/event/jfcs-kosher-cafe/2025-02-26/
CATEGORIES:General
END:VEVENT
BEGIN:VEVENT
DTSTART;TZID=America/New_York:20250225T110000
DTEND;TZID=America/New_York:20250225T130000
DTSTAMP:20260422T133126
CREATED:20231005T180626Z
LAST-MODIFIED:20240829T141946Z
UID:10003671-1740481200-1740488400@adathisraelnj.org
SUMMARY:JFCS Kosher Cafe
DESCRIPTION:https://www.jfcsonline.org/foodprograms/ \nKosher Cafe\nThe Kosher Cafe is a designated nutrition site\, supported by the Mercer County Office on Aging. \nEvery Tuesday – Friday from 11 AM – 1 PM \nJoin us for a complimentary\, catered at Congregation Adath Israel\, 1958 Lawrenceville Road\, Lawrenceville\, NJ. Bring a friend or make new ones. The program is designed for low-income seniors who would benefit from a complimentary\, hot and nutritious lunch. The cafes are open to all and donations are accepted. \nFor additional information\, contact Debi Henritzy\, Kosher Cafe Coordinator by email or phone 609-987-8100.
URL:https://adathisraelnj.org/event/jfcs-kosher-cafe/2025-02-25/
CATEGORIES:General
END:VEVENT
BEGIN:VEVENT
DTSTART;TZID=America/New_York:20250221T110000
DTEND;TZID=America/New_York:20250221T130000
DTSTAMP:20260422T133126
CREATED:20231005T180626Z
LAST-MODIFIED:20240829T141946Z
UID:10003670-1740135600-1740142800@adathisraelnj.org
SUMMARY:JFCS Kosher Cafe
DESCRIPTION:https://www.jfcsonline.org/foodprograms/ \nKosher Cafe\nThe Kosher Cafe is a designated nutrition site\, supported by the Mercer County Office on Aging. \nEvery Tuesday – Friday from 11 AM – 1 PM \nJoin us for a complimentary\, catered at Congregation Adath Israel\, 1958 Lawrenceville Road\, Lawrenceville\, NJ. Bring a friend or make new ones. The program is designed for low-income seniors who would benefit from a complimentary\, hot and nutritious lunch. The cafes are open to all and donations are accepted. \nFor additional information\, contact Debi Henritzy\, Kosher Cafe Coordinator by email or phone 609-987-8100.
URL:https://adathisraelnj.org/event/jfcs-kosher-cafe/2025-02-21/
CATEGORIES:General
END:VEVENT
BEGIN:VEVENT
DTSTART;TZID=America/New_York:20250220T110000
DTEND;TZID=America/New_York:20250220T130000
DTSTAMP:20260422T133126
CREATED:20231005T180626Z
LAST-MODIFIED:20240829T141946Z
UID:10003669-1740049200-1740056400@adathisraelnj.org
SUMMARY:JFCS Kosher Cafe
DESCRIPTION:https://www.jfcsonline.org/foodprograms/ \nKosher Cafe\nThe Kosher Cafe is a designated nutrition site\, supported by the Mercer County Office on Aging. \nEvery Tuesday – Friday from 11 AM – 1 PM \nJoin us for a complimentary\, catered at Congregation Adath Israel\, 1958 Lawrenceville Road\, Lawrenceville\, NJ. Bring a friend or make new ones. The program is designed for low-income seniors who would benefit from a complimentary\, hot and nutritious lunch. The cafes are open to all and donations are accepted. \nFor additional information\, contact Debi Henritzy\, Kosher Cafe Coordinator by email or phone 609-987-8100.
URL:https://adathisraelnj.org/event/jfcs-kosher-cafe/2025-02-20/
CATEGORIES:General
END:VEVENT
BEGIN:VEVENT
DTSTART;TZID=America/New_York:20250219T110000
DTEND;TZID=America/New_York:20250219T130000
DTSTAMP:20260422T133126
CREATED:20231005T180626Z
LAST-MODIFIED:20240829T141946Z
UID:10003668-1739962800-1739970000@adathisraelnj.org
SUMMARY:JFCS Kosher Cafe
DESCRIPTION:https://www.jfcsonline.org/foodprograms/ \nKosher Cafe\nThe Kosher Cafe is a designated nutrition site\, supported by the Mercer County Office on Aging. \nEvery Tuesday – Friday from 11 AM – 1 PM \nJoin us for a complimentary\, catered at Congregation Adath Israel\, 1958 Lawrenceville Road\, Lawrenceville\, NJ. Bring a friend or make new ones. The program is designed for low-income seniors who would benefit from a complimentary\, hot and nutritious lunch. The cafes are open to all and donations are accepted. \nFor additional information\, contact Debi Henritzy\, Kosher Cafe Coordinator by email or phone 609-987-8100.
URL:https://adathisraelnj.org/event/jfcs-kosher-cafe/2025-02-19/
CATEGORIES:General
END:VEVENT
BEGIN:VEVENT
DTSTART;TZID=America/New_York:20250218T110000
DTEND;TZID=America/New_York:20250218T130000
DTSTAMP:20260422T133126
CREATED:20231005T180626Z
LAST-MODIFIED:20240829T141946Z
UID:10003667-1739876400-1739883600@adathisraelnj.org
SUMMARY:JFCS Kosher Cafe
DESCRIPTION:https://www.jfcsonline.org/foodprograms/ \nKosher Cafe\nThe Kosher Cafe is a designated nutrition site\, supported by the Mercer County Office on Aging. \nEvery Tuesday – Friday from 11 AM – 1 PM \nJoin us for a complimentary\, catered at Congregation Adath Israel\, 1958 Lawrenceville Road\, Lawrenceville\, NJ. Bring a friend or make new ones. The program is designed for low-income seniors who would benefit from a complimentary\, hot and nutritious lunch. The cafes are open to all and donations are accepted. \nFor additional information\, contact Debi Henritzy\, Kosher Cafe Coordinator by email or phone 609-987-8100.
URL:https://adathisraelnj.org/event/jfcs-kosher-cafe/2025-02-18/
CATEGORIES:General
END:VEVENT
BEGIN:VEVENT
DTSTART;TZID=America/New_York:20250214T110000
DTEND;TZID=America/New_York:20250214T130000
DTSTAMP:20260422T133126
CREATED:20231005T180626Z
LAST-MODIFIED:20240829T141946Z
UID:10003666-1739530800-1739538000@adathisraelnj.org
SUMMARY:JFCS Kosher Cafe
DESCRIPTION:https://www.jfcsonline.org/foodprograms/ \nKosher Cafe\nThe Kosher Cafe is a designated nutrition site\, supported by the Mercer County Office on Aging. \nEvery Tuesday – Friday from 11 AM – 1 PM \nJoin us for a complimentary\, catered at Congregation Adath Israel\, 1958 Lawrenceville Road\, Lawrenceville\, NJ. Bring a friend or make new ones. The program is designed for low-income seniors who would benefit from a complimentary\, hot and nutritious lunch. The cafes are open to all and donations are accepted. \nFor additional information\, contact Debi Henritzy\, Kosher Cafe Coordinator by email or phone 609-987-8100.
URL:https://adathisraelnj.org/event/jfcs-kosher-cafe/2025-02-14/
CATEGORIES:General
END:VEVENT
BEGIN:VEVENT
DTSTART;TZID=America/New_York:20250213T110000
DTEND;TZID=America/New_York:20250213T130000
DTSTAMP:20260422T133126
CREATED:20231005T180626Z
LAST-MODIFIED:20240829T141946Z
UID:10003665-1739444400-1739451600@adathisraelnj.org
SUMMARY:JFCS Kosher Cafe
DESCRIPTION:https://www.jfcsonline.org/foodprograms/ \nKosher Cafe\nThe Kosher Cafe is a designated nutrition site\, supported by the Mercer County Office on Aging. \nEvery Tuesday – Friday from 11 AM – 1 PM \nJoin us for a complimentary\, catered at Congregation Adath Israel\, 1958 Lawrenceville Road\, Lawrenceville\, NJ. Bring a friend or make new ones. The program is designed for low-income seniors who would benefit from a complimentary\, hot and nutritious lunch. The cafes are open to all and donations are accepted. \nFor additional information\, contact Debi Henritzy\, Kosher Cafe Coordinator by email or phone 609-987-8100.
URL:https://adathisraelnj.org/event/jfcs-kosher-cafe/2025-02-13/
CATEGORIES:General
END:VEVENT
BEGIN:VEVENT
DTSTART;TZID=America/New_York:20250212T110000
DTEND;TZID=America/New_York:20250212T130000
DTSTAMP:20260422T133126
CREATED:20231005T180626Z
LAST-MODIFIED:20240829T141946Z
UID:10003664-1739358000-1739365200@adathisraelnj.org
SUMMARY:JFCS Kosher Cafe
DESCRIPTION:https://www.jfcsonline.org/foodprograms/ \nKosher Cafe\nThe Kosher Cafe is a designated nutrition site\, supported by the Mercer County Office on Aging. \nEvery Tuesday – Friday from 11 AM – 1 PM \nJoin us for a complimentary\, catered at Congregation Adath Israel\, 1958 Lawrenceville Road\, Lawrenceville\, NJ. Bring a friend or make new ones. The program is designed for low-income seniors who would benefit from a complimentary\, hot and nutritious lunch. The cafes are open to all and donations are accepted. \nFor additional information\, contact Debi Henritzy\, Kosher Cafe Coordinator by email or phone 609-987-8100.
URL:https://adathisraelnj.org/event/jfcs-kosher-cafe/2025-02-12/
CATEGORIES:General
END:VEVENT
BEGIN:VEVENT
DTSTART;TZID=America/New_York:20250211T110000
DTEND;TZID=America/New_York:20250211T130000
DTSTAMP:20260422T133126
CREATED:20231005T180626Z
LAST-MODIFIED:20240829T141946Z
UID:10003663-1739271600-1739278800@adathisraelnj.org
SUMMARY:JFCS Kosher Cafe
DESCRIPTION:https://www.jfcsonline.org/foodprograms/ \nKosher Cafe\nThe Kosher Cafe is a designated nutrition site\, supported by the Mercer County Office on Aging. \nEvery Tuesday – Friday from 11 AM – 1 PM \nJoin us for a complimentary\, catered at Congregation Adath Israel\, 1958 Lawrenceville Road\, Lawrenceville\, NJ. Bring a friend or make new ones. The program is designed for low-income seniors who would benefit from a complimentary\, hot and nutritious lunch. The cafes are open to all and donations are accepted. \nFor additional information\, contact Debi Henritzy\, Kosher Cafe Coordinator by email or phone 609-987-8100.
URL:https://adathisraelnj.org/event/jfcs-kosher-cafe/2025-02-11/
CATEGORIES:General
END:VEVENT
BEGIN:VEVENT
DTSTART;TZID=America/New_York:20250208T170000
DTEND;TZID=America/New_York:20250208T170000
DTSTAMP:20260422T133126
CREATED:20240723T165557Z
LAST-MODIFIED:20240723T182131Z
UID:10005135-1739034000-1739034000@adathisraelnj.org
SUMMARY:Shabbat Lunch
DESCRIPTION:
URL:https://adathisraelnj.org/event/shabbat-lunch-3/2025-02-08/
CATEGORIES:General,Worship
END:VEVENT
BEGIN:VEVENT
DTSTART;TZID=America/New_York:20250207T110000
DTEND;TZID=America/New_York:20250207T130000
DTSTAMP:20260422T133126
CREATED:20231005T180626Z
LAST-MODIFIED:20240829T141946Z
UID:10003662-1738926000-1738933200@adathisraelnj.org
SUMMARY:JFCS Kosher Cafe
DESCRIPTION:https://www.jfcsonline.org/foodprograms/ \nKosher Cafe\nThe Kosher Cafe is a designated nutrition site\, supported by the Mercer County Office on Aging. \nEvery Tuesday – Friday from 11 AM – 1 PM \nJoin us for a complimentary\, catered at Congregation Adath Israel\, 1958 Lawrenceville Road\, Lawrenceville\, NJ. Bring a friend or make new ones. The program is designed for low-income seniors who would benefit from a complimentary\, hot and nutritious lunch. The cafes are open to all and donations are accepted. \nFor additional information\, contact Debi Henritzy\, Kosher Cafe Coordinator by email or phone 609-987-8100.
URL:https://adathisraelnj.org/event/jfcs-kosher-cafe/2025-02-07/
CATEGORIES:General
END:VEVENT
BEGIN:VEVENT
DTSTART;TZID=America/New_York:20250206T110000
DTEND;TZID=America/New_York:20250206T130000
DTSTAMP:20260422T133126
CREATED:20231005T180626Z
LAST-MODIFIED:20240829T141946Z
UID:10003661-1738839600-1738846800@adathisraelnj.org
SUMMARY:JFCS Kosher Cafe
DESCRIPTION:https://www.jfcsonline.org/foodprograms/ \nKosher Cafe\nThe Kosher Cafe is a designated nutrition site\, supported by the Mercer County Office on Aging. \nEvery Tuesday – Friday from 11 AM – 1 PM \nJoin us for a complimentary\, catered at Congregation Adath Israel\, 1958 Lawrenceville Road\, Lawrenceville\, NJ. Bring a friend or make new ones. The program is designed for low-income seniors who would benefit from a complimentary\, hot and nutritious lunch. The cafes are open to all and donations are accepted. \nFor additional information\, contact Debi Henritzy\, Kosher Cafe Coordinator by email or phone 609-987-8100.
URL:https://adathisraelnj.org/event/jfcs-kosher-cafe/2025-02-06/
CATEGORIES:General
END:VEVENT
BEGIN:VEVENT
DTSTART;TZID=America/New_York:20250205T110000
DTEND;TZID=America/New_York:20250205T130000
DTSTAMP:20260422T133126
CREATED:20231005T180626Z
LAST-MODIFIED:20240829T141946Z
UID:10003660-1738753200-1738760400@adathisraelnj.org
SUMMARY:JFCS Kosher Cafe
DESCRIPTION:https://www.jfcsonline.org/foodprograms/ \nKosher Cafe\nThe Kosher Cafe is a designated nutrition site\, supported by the Mercer County Office on Aging. \nEvery Tuesday – Friday from 11 AM – 1 PM \nJoin us for a complimentary\, catered at Congregation Adath Israel\, 1958 Lawrenceville Road\, Lawrenceville\, NJ. Bring a friend or make new ones. The program is designed for low-income seniors who would benefit from a complimentary\, hot and nutritious lunch. The cafes are open to all and donations are accepted. \nFor additional information\, contact Debi Henritzy\, Kosher Cafe Coordinator by email or phone 609-987-8100.
URL:https://adathisraelnj.org/event/jfcs-kosher-cafe/2025-02-05/
CATEGORIES:General
END:VEVENT
BEGIN:VEVENT
DTSTART;TZID=America/New_York:20250204T110000
DTEND;TZID=America/New_York:20250204T130000
DTSTAMP:20260422T133126
CREATED:20231005T180626Z
LAST-MODIFIED:20240829T141946Z
UID:10003659-1738666800-1738674000@adathisraelnj.org
SUMMARY:JFCS Kosher Cafe
DESCRIPTION:https://www.jfcsonline.org/foodprograms/ \nKosher Cafe\nThe Kosher Cafe is a designated nutrition site\, supported by the Mercer County Office on Aging. \nEvery Tuesday – Friday from 11 AM – 1 PM \nJoin us for a complimentary\, catered at Congregation Adath Israel\, 1958 Lawrenceville Road\, Lawrenceville\, NJ. Bring a friend or make new ones. The program is designed for low-income seniors who would benefit from a complimentary\, hot and nutritious lunch. The cafes are open to all and donations are accepted. \nFor additional information\, contact Debi Henritzy\, Kosher Cafe Coordinator by email or phone 609-987-8100.
URL:https://adathisraelnj.org/event/jfcs-kosher-cafe/2025-02-04/
CATEGORIES:General
END:VEVENT
BEGIN:VEVENT
DTSTART;TZID=America/New_York:20250131T193000
DTEND;TZID=America/New_York:20250131T210000
DTSTAMP:20260422T133126
CREATED:20250116T170727Z
LAST-MODIFIED:20250116T170727Z
UID:10006211-1738351800-1738357200@adathisraelnj.org
SUMMARY:Rabbi's Tisch
DESCRIPTION:
URL:https://adathisraelnj.org/event/rabbis-tisch-5/
LOCATION:Adath Israel Congregation\, 1958 Lawrenceville Rd\, Lawrenceville\, NJ\, 08648\, United States
CATEGORIES:General
END:VEVENT
BEGIN:VEVENT
DTSTART;TZID=America/New_York:20250131T110000
DTEND;TZID=America/New_York:20250131T130000
DTSTAMP:20260422T133126
CREATED:20231005T180626Z
LAST-MODIFIED:20240829T141946Z
UID:10003658-1738321200-1738328400@adathisraelnj.org
SUMMARY:JFCS Kosher Cafe
DESCRIPTION:https://www.jfcsonline.org/foodprograms/ \nKosher Cafe\nThe Kosher Cafe is a designated nutrition site\, supported by the Mercer County Office on Aging. \nEvery Tuesday – Friday from 11 AM – 1 PM \nJoin us for a complimentary\, catered at Congregation Adath Israel\, 1958 Lawrenceville Road\, Lawrenceville\, NJ. Bring a friend or make new ones. The program is designed for low-income seniors who would benefit from a complimentary\, hot and nutritious lunch. The cafes are open to all and donations are accepted. \nFor additional information\, contact Debi Henritzy\, Kosher Cafe Coordinator by email or phone 609-987-8100.
URL:https://adathisraelnj.org/event/jfcs-kosher-cafe/2025-01-31/
CATEGORIES:General
END:VEVENT
BEGIN:VEVENT
DTSTART;TZID=America/New_York:20250130T110000
DTEND;TZID=America/New_York:20250130T130000
DTSTAMP:20260422T133126
CREATED:20231005T180626Z
LAST-MODIFIED:20240829T141946Z
UID:10003657-1738234800-1738242000@adathisraelnj.org
SUMMARY:JFCS Kosher Cafe
DESCRIPTION:https://www.jfcsonline.org/foodprograms/ \nKosher Cafe\nThe Kosher Cafe is a designated nutrition site\, supported by the Mercer County Office on Aging. \nEvery Tuesday – Friday from 11 AM – 1 PM \nJoin us for a complimentary\, catered at Congregation Adath Israel\, 1958 Lawrenceville Road\, Lawrenceville\, NJ. Bring a friend or make new ones. The program is designed for low-income seniors who would benefit from a complimentary\, hot and nutritious lunch. The cafes are open to all and donations are accepted. \nFor additional information\, contact Debi Henritzy\, Kosher Cafe Coordinator by email or phone 609-987-8100.
URL:https://adathisraelnj.org/event/jfcs-kosher-cafe/2025-01-30/
CATEGORIES:General
END:VEVENT
BEGIN:VEVENT
DTSTART;TZID=America/New_York:20250129T110000
DTEND;TZID=America/New_York:20250129T130000
DTSTAMP:20260422T133126
CREATED:20231005T180626Z
LAST-MODIFIED:20240829T141946Z
UID:10003656-1738148400-1738155600@adathisraelnj.org
SUMMARY:JFCS Kosher Cafe
DESCRIPTION:https://www.jfcsonline.org/foodprograms/ \nKosher Cafe\nThe Kosher Cafe is a designated nutrition site\, supported by the Mercer County Office on Aging. \nEvery Tuesday – Friday from 11 AM – 1 PM \nJoin us for a complimentary\, catered at Congregation Adath Israel\, 1958 Lawrenceville Road\, Lawrenceville\, NJ. Bring a friend or make new ones. The program is designed for low-income seniors who would benefit from a complimentary\, hot and nutritious lunch. The cafes are open to all and donations are accepted. \nFor additional information\, contact Debi Henritzy\, Kosher Cafe Coordinator by email or phone 609-987-8100.
URL:https://adathisraelnj.org/event/jfcs-kosher-cafe/2025-01-29/
CATEGORIES:General
END:VEVENT
END:VCALENDAR