BEGIN:VCALENDAR
VERSION:2.0
PRODID:-//Adath Israel Congregation - ECPv6.15.12.2//NONSGML v1.0//EN
CALSCALE:GREGORIAN
METHOD:PUBLISH
X-ORIGINAL-URL:https://adathisraelnj.org
X-WR-CALDESC:Events for Adath Israel Congregation
REFRESH-INTERVAL;VALUE=DURATION:PT1H
X-Robots-Tag:noindex
X-PUBLISHED-TTL:PT1H
BEGIN:VTIMEZONE
TZID:America/New_York
BEGIN:DAYLIGHT
TZOFFSETFROM:-0500
TZOFFSETTO:-0400
TZNAME:EDT
DTSTART:20230312T070000
END:DAYLIGHT
BEGIN:STANDARD
TZOFFSETFROM:-0400
TZOFFSETTO:-0500
TZNAME:EST
DTSTART:20231105T060000
END:STANDARD
BEGIN:DAYLIGHT
TZOFFSETFROM:-0500
TZOFFSETTO:-0400
TZNAME:EDT
DTSTART:20240310T070000
END:DAYLIGHT
BEGIN:STANDARD
TZOFFSETFROM:-0400
TZOFFSETTO:-0500
TZNAME:EST
DTSTART:20241103T060000
END:STANDARD
BEGIN:DAYLIGHT
TZOFFSETFROM:-0500
TZOFFSETTO:-0400
TZNAME:EDT
DTSTART:20250309T070000
END:DAYLIGHT
BEGIN:STANDARD
TZOFFSETFROM:-0400
TZOFFSETTO:-0500
TZNAME:EST
DTSTART:20251102T060000
END:STANDARD
END:VTIMEZONE
BEGIN:VEVENT
DTSTART;TZID=America/New_York:20240904T110000
DTEND;TZID=America/New_York:20240904T130000
DTSTAMP:20260423T173254
CREATED:20231005T180626Z
LAST-MODIFIED:20240829T141946Z
UID:10003572-1725447600-1725454800@adathisraelnj.org
SUMMARY:JFCS Kosher Cafe
DESCRIPTION:https://www.jfcsonline.org/foodprograms/ \nKosher Cafe\nThe Kosher Cafe is a designated nutrition site\, supported by the Mercer County Office on Aging. \nEvery Tuesday – Friday from 11 AM – 1 PM \nJoin us for a complimentary\, catered at Congregation Adath Israel\, 1958 Lawrenceville Road\, Lawrenceville\, NJ. Bring a friend or make new ones. The program is designed for low-income seniors who would benefit from a complimentary\, hot and nutritious lunch. The cafes are open to all and donations are accepted. \nFor additional information\, contact Debi Henritzy\, Kosher Cafe Coordinator by email or phone 609-987-8100.
URL:https://adathisraelnj.org/event/jfcs-kosher-cafe/2024-09-04/
CATEGORIES:General
END:VEVENT
BEGIN:VEVENT
DTSTART;TZID=America/New_York:20240903T110000
DTEND;TZID=America/New_York:20240903T130000
DTSTAMP:20260423T173254
CREATED:20231005T180626Z
LAST-MODIFIED:20240829T141946Z
UID:10003571-1725361200-1725368400@adathisraelnj.org
SUMMARY:JFCS Kosher Cafe
DESCRIPTION:https://www.jfcsonline.org/foodprograms/ \nKosher Cafe\nThe Kosher Cafe is a designated nutrition site\, supported by the Mercer County Office on Aging. \nEvery Tuesday – Friday from 11 AM – 1 PM \nJoin us for a complimentary\, catered at Congregation Adath Israel\, 1958 Lawrenceville Road\, Lawrenceville\, NJ. Bring a friend or make new ones. The program is designed for low-income seniors who would benefit from a complimentary\, hot and nutritious lunch. The cafes are open to all and donations are accepted. \nFor additional information\, contact Debi Henritzy\, Kosher Cafe Coordinator by email or phone 609-987-8100.
URL:https://adathisraelnj.org/event/jfcs-kosher-cafe/2024-09-03/
CATEGORIES:General
END:VEVENT
BEGIN:VEVENT
DTSTART;TZID=America/New_York:20240830T110000
DTEND;TZID=America/New_York:20240830T130000
DTSTAMP:20260423T173254
CREATED:20231005T180626Z
LAST-MODIFIED:20240829T141946Z
UID:10003570-1725015600-1725022800@adathisraelnj.org
SUMMARY:JFCS Kosher Cafe
DESCRIPTION:https://www.jfcsonline.org/foodprograms/ \nKosher Cafe\nThe Kosher Cafe is a designated nutrition site\, supported by the Mercer County Office on Aging. \nEvery Tuesday – Friday from 11 AM – 1 PM \nJoin us for a complimentary\, catered at Congregation Adath Israel\, 1958 Lawrenceville Road\, Lawrenceville\, NJ. Bring a friend or make new ones. The program is designed for low-income seniors who would benefit from a complimentary\, hot and nutritious lunch. The cafes are open to all and donations are accepted. \nFor additional information\, contact Debi Henritzy\, Kosher Cafe Coordinator by email or phone 609-987-8100.
URL:https://adathisraelnj.org/event/jfcs-kosher-cafe/2024-08-30/
CATEGORIES:General
END:VEVENT
BEGIN:VEVENT
DTSTART;TZID=America/New_York:20240829T110000
DTEND;TZID=America/New_York:20240829T130000
DTSTAMP:20260423T173254
CREATED:20231005T180626Z
LAST-MODIFIED:20240829T141946Z
UID:10003569-1724929200-1724936400@adathisraelnj.org
SUMMARY:JFCS Kosher Cafe
DESCRIPTION:https://www.jfcsonline.org/foodprograms/ \nKosher Cafe\nThe Kosher Cafe is a designated nutrition site\, supported by the Mercer County Office on Aging. \nEvery Tuesday – Friday from 11 AM – 1 PM \nJoin us for a complimentary\, catered at Congregation Adath Israel\, 1958 Lawrenceville Road\, Lawrenceville\, NJ. Bring a friend or make new ones. The program is designed for low-income seniors who would benefit from a complimentary\, hot and nutritious lunch. The cafes are open to all and donations are accepted. \nFor additional information\, contact Debi Henritzy\, Kosher Cafe Coordinator by email or phone 609-987-8100.
URL:https://adathisraelnj.org/event/jfcs-kosher-cafe/2024-08-29/
CATEGORIES:General
END:VEVENT
BEGIN:VEVENT
DTSTART;TZID=America/New_York:20240828T110000
DTEND;TZID=America/New_York:20240828T130000
DTSTAMP:20260423T173254
CREATED:20231005T180626Z
LAST-MODIFIED:20240829T141946Z
UID:10003568-1724842800-1724850000@adathisraelnj.org
SUMMARY:JFCS Kosher Cafe
DESCRIPTION:https://www.jfcsonline.org/foodprograms/ \nKosher Cafe\nThe Kosher Cafe is a designated nutrition site\, supported by the Mercer County Office on Aging. \nEvery Tuesday – Friday from 11 AM – 1 PM \nJoin us for a complimentary\, catered at Congregation Adath Israel\, 1958 Lawrenceville Road\, Lawrenceville\, NJ. Bring a friend or make new ones. The program is designed for low-income seniors who would benefit from a complimentary\, hot and nutritious lunch. The cafes are open to all and donations are accepted. \nFor additional information\, contact Debi Henritzy\, Kosher Cafe Coordinator by email or phone 609-987-8100.
URL:https://adathisraelnj.org/event/jfcs-kosher-cafe/2024-08-28/
CATEGORIES:General
END:VEVENT
BEGIN:VEVENT
DTSTART;TZID=America/New_York:20240827T110000
DTEND;TZID=America/New_York:20240827T130000
DTSTAMP:20260423T173254
CREATED:20231005T180626Z
LAST-MODIFIED:20240829T141946Z
UID:10003567-1724756400-1724763600@adathisraelnj.org
SUMMARY:JFCS Kosher Cafe
DESCRIPTION:https://www.jfcsonline.org/foodprograms/ \nKosher Cafe\nThe Kosher Cafe is a designated nutrition site\, supported by the Mercer County Office on Aging. \nEvery Tuesday – Friday from 11 AM – 1 PM \nJoin us for a complimentary\, catered at Congregation Adath Israel\, 1958 Lawrenceville Road\, Lawrenceville\, NJ. Bring a friend or make new ones. The program is designed for low-income seniors who would benefit from a complimentary\, hot and nutritious lunch. The cafes are open to all and donations are accepted. \nFor additional information\, contact Debi Henritzy\, Kosher Cafe Coordinator by email or phone 609-987-8100.
URL:https://adathisraelnj.org/event/jfcs-kosher-cafe/2024-08-27/
CATEGORIES:General
END:VEVENT
BEGIN:VEVENT
DTSTART;TZID=America/New_York:20240825T103000
DTEND;TZID=America/New_York:20240825T130000
DTSTAMP:20260423T173254
CREATED:20240813T193149Z
LAST-MODIFIED:20240813T193149Z
UID:10005827-1724581800-1724590800@adathisraelnj.org
SUMMARY:Open House
DESCRIPTION:
URL:https://adathisraelnj.org/event/open-house/
CATEGORIES:Festival,General
END:VEVENT
BEGIN:VEVENT
DTSTART;TZID=America/New_York:20240823T110000
DTEND;TZID=America/New_York:20240823T130000
DTSTAMP:20260423T173254
CREATED:20231005T180626Z
LAST-MODIFIED:20240829T141946Z
UID:10003566-1724410800-1724418000@adathisraelnj.org
SUMMARY:JFCS Kosher Cafe
DESCRIPTION:https://www.jfcsonline.org/foodprograms/ \nKosher Cafe\nThe Kosher Cafe is a designated nutrition site\, supported by the Mercer County Office on Aging. \nEvery Tuesday – Friday from 11 AM – 1 PM \nJoin us for a complimentary\, catered at Congregation Adath Israel\, 1958 Lawrenceville Road\, Lawrenceville\, NJ. Bring a friend or make new ones. The program is designed for low-income seniors who would benefit from a complimentary\, hot and nutritious lunch. The cafes are open to all and donations are accepted. \nFor additional information\, contact Debi Henritzy\, Kosher Cafe Coordinator by email or phone 609-987-8100.
URL:https://adathisraelnj.org/event/jfcs-kosher-cafe/2024-08-23/
CATEGORIES:General
END:VEVENT
BEGIN:VEVENT
DTSTART;TZID=America/New_York:20240822T110000
DTEND;TZID=America/New_York:20240822T130000
DTSTAMP:20260423T173254
CREATED:20231005T180626Z
LAST-MODIFIED:20240829T141946Z
UID:10003565-1724324400-1724331600@adathisraelnj.org
SUMMARY:JFCS Kosher Cafe
DESCRIPTION:https://www.jfcsonline.org/foodprograms/ \nKosher Cafe\nThe Kosher Cafe is a designated nutrition site\, supported by the Mercer County Office on Aging. \nEvery Tuesday – Friday from 11 AM – 1 PM \nJoin us for a complimentary\, catered at Congregation Adath Israel\, 1958 Lawrenceville Road\, Lawrenceville\, NJ. Bring a friend or make new ones. The program is designed for low-income seniors who would benefit from a complimentary\, hot and nutritious lunch. The cafes are open to all and donations are accepted. \nFor additional information\, contact Debi Henritzy\, Kosher Cafe Coordinator by email or phone 609-987-8100.
URL:https://adathisraelnj.org/event/jfcs-kosher-cafe/2024-08-22/
CATEGORIES:General
END:VEVENT
BEGIN:VEVENT
DTSTART;TZID=America/New_York:20240821T110000
DTEND;TZID=America/New_York:20240821T130000
DTSTAMP:20260423T173254
CREATED:20231005T180626Z
LAST-MODIFIED:20240829T141946Z
UID:10003564-1724238000-1724245200@adathisraelnj.org
SUMMARY:JFCS Kosher Cafe
DESCRIPTION:https://www.jfcsonline.org/foodprograms/ \nKosher Cafe\nThe Kosher Cafe is a designated nutrition site\, supported by the Mercer County Office on Aging. \nEvery Tuesday – Friday from 11 AM – 1 PM \nJoin us for a complimentary\, catered at Congregation Adath Israel\, 1958 Lawrenceville Road\, Lawrenceville\, NJ. Bring a friend or make new ones. The program is designed for low-income seniors who would benefit from a complimentary\, hot and nutritious lunch. The cafes are open to all and donations are accepted. \nFor additional information\, contact Debi Henritzy\, Kosher Cafe Coordinator by email or phone 609-987-8100.
URL:https://adathisraelnj.org/event/jfcs-kosher-cafe/2024-08-21/
CATEGORIES:General
END:VEVENT
BEGIN:VEVENT
DTSTART;TZID=America/New_York:20240820T110000
DTEND;TZID=America/New_York:20240820T130000
DTSTAMP:20260423T173254
CREATED:20231005T180626Z
LAST-MODIFIED:20240829T141946Z
UID:10003563-1724151600-1724158800@adathisraelnj.org
SUMMARY:JFCS Kosher Cafe
DESCRIPTION:https://www.jfcsonline.org/foodprograms/ \nKosher Cafe\nThe Kosher Cafe is a designated nutrition site\, supported by the Mercer County Office on Aging. \nEvery Tuesday – Friday from 11 AM – 1 PM \nJoin us for a complimentary\, catered at Congregation Adath Israel\, 1958 Lawrenceville Road\, Lawrenceville\, NJ. Bring a friend or make new ones. The program is designed for low-income seniors who would benefit from a complimentary\, hot and nutritious lunch. The cafes are open to all and donations are accepted. \nFor additional information\, contact Debi Henritzy\, Kosher Cafe Coordinator by email or phone 609-987-8100.
URL:https://adathisraelnj.org/event/jfcs-kosher-cafe/2024-08-20/
CATEGORIES:General
END:VEVENT
BEGIN:VEVENT
DTSTART;TZID=America/New_York:20240816T110000
DTEND;TZID=America/New_York:20240816T130000
DTSTAMP:20260423T173254
CREATED:20231005T180626Z
LAST-MODIFIED:20240829T141946Z
UID:10003562-1723806000-1723813200@adathisraelnj.org
SUMMARY:JFCS Kosher Cafe
DESCRIPTION:https://www.jfcsonline.org/foodprograms/ \nKosher Cafe\nThe Kosher Cafe is a designated nutrition site\, supported by the Mercer County Office on Aging. \nEvery Tuesday – Friday from 11 AM – 1 PM \nJoin us for a complimentary\, catered at Congregation Adath Israel\, 1958 Lawrenceville Road\, Lawrenceville\, NJ. Bring a friend or make new ones. The program is designed for low-income seniors who would benefit from a complimentary\, hot and nutritious lunch. The cafes are open to all and donations are accepted. \nFor additional information\, contact Debi Henritzy\, Kosher Cafe Coordinator by email or phone 609-987-8100.
URL:https://adathisraelnj.org/event/jfcs-kosher-cafe/2024-08-16/
CATEGORIES:General
END:VEVENT
BEGIN:VEVENT
DTSTART;TZID=America/New_York:20240815T110000
DTEND;TZID=America/New_York:20240815T130000
DTSTAMP:20260423T173254
CREATED:20231005T180626Z
LAST-MODIFIED:20240829T141946Z
UID:10003561-1723719600-1723726800@adathisraelnj.org
SUMMARY:JFCS Kosher Cafe
DESCRIPTION:https://www.jfcsonline.org/foodprograms/ \nKosher Cafe\nThe Kosher Cafe is a designated nutrition site\, supported by the Mercer County Office on Aging. \nEvery Tuesday – Friday from 11 AM – 1 PM \nJoin us for a complimentary\, catered at Congregation Adath Israel\, 1958 Lawrenceville Road\, Lawrenceville\, NJ. Bring a friend or make new ones. The program is designed for low-income seniors who would benefit from a complimentary\, hot and nutritious lunch. The cafes are open to all and donations are accepted. \nFor additional information\, contact Debi Henritzy\, Kosher Cafe Coordinator by email or phone 609-987-8100.
URL:https://adathisraelnj.org/event/jfcs-kosher-cafe/2024-08-15/
CATEGORIES:General
END:VEVENT
BEGIN:VEVENT
DTSTART;TZID=America/New_York:20240814T110000
DTEND;TZID=America/New_York:20240814T130000
DTSTAMP:20260423T173254
CREATED:20231005T180626Z
LAST-MODIFIED:20240829T141946Z
UID:10003560-1723633200-1723640400@adathisraelnj.org
SUMMARY:JFCS Kosher Cafe
DESCRIPTION:https://www.jfcsonline.org/foodprograms/ \nKosher Cafe\nThe Kosher Cafe is a designated nutrition site\, supported by the Mercer County Office on Aging. \nEvery Tuesday – Friday from 11 AM – 1 PM \nJoin us for a complimentary\, catered at Congregation Adath Israel\, 1958 Lawrenceville Road\, Lawrenceville\, NJ. Bring a friend or make new ones. The program is designed for low-income seniors who would benefit from a complimentary\, hot and nutritious lunch. The cafes are open to all and donations are accepted. \nFor additional information\, contact Debi Henritzy\, Kosher Cafe Coordinator by email or phone 609-987-8100.
URL:https://adathisraelnj.org/event/jfcs-kosher-cafe/2024-08-14/
CATEGORIES:General
END:VEVENT
BEGIN:VEVENT
DTSTART;TZID=America/New_York:20240813T110000
DTEND;TZID=America/New_York:20240813T130000
DTSTAMP:20260423T173254
CREATED:20231005T180626Z
LAST-MODIFIED:20240829T141946Z
UID:10003559-1723546800-1723554000@adathisraelnj.org
SUMMARY:JFCS Kosher Cafe
DESCRIPTION:https://www.jfcsonline.org/foodprograms/ \nKosher Cafe\nThe Kosher Cafe is a designated nutrition site\, supported by the Mercer County Office on Aging. \nEvery Tuesday – Friday from 11 AM – 1 PM \nJoin us for a complimentary\, catered at Congregation Adath Israel\, 1958 Lawrenceville Road\, Lawrenceville\, NJ. Bring a friend or make new ones. The program is designed for low-income seniors who would benefit from a complimentary\, hot and nutritious lunch. The cafes are open to all and donations are accepted. \nFor additional information\, contact Debi Henritzy\, Kosher Cafe Coordinator by email or phone 609-987-8100.
URL:https://adathisraelnj.org/event/jfcs-kosher-cafe/2024-08-13/
CATEGORIES:General
END:VEVENT
BEGIN:VEVENT
DTSTART;TZID=America/New_York:20240810T170000
DTEND;TZID=America/New_York:20240810T170000
DTSTAMP:20260423T173254
CREATED:20240723T165557Z
LAST-MODIFIED:20240723T182131Z
UID:10005124-1723309200-1723309200@adathisraelnj.org
SUMMARY:Shabbat Lunch
DESCRIPTION:
URL:https://adathisraelnj.org/event/shabbat-lunch-3/2024-08-10/
CATEGORIES:General,Worship
END:VEVENT
BEGIN:VEVENT
DTSTART;TZID=America/New_York:20240809T110000
DTEND;TZID=America/New_York:20240809T130000
DTSTAMP:20260423T173254
CREATED:20231005T180626Z
LAST-MODIFIED:20240829T141946Z
UID:10003558-1723201200-1723208400@adathisraelnj.org
SUMMARY:JFCS Kosher Cafe
DESCRIPTION:https://www.jfcsonline.org/foodprograms/ \nKosher Cafe\nThe Kosher Cafe is a designated nutrition site\, supported by the Mercer County Office on Aging. \nEvery Tuesday – Friday from 11 AM – 1 PM \nJoin us for a complimentary\, catered at Congregation Adath Israel\, 1958 Lawrenceville Road\, Lawrenceville\, NJ. Bring a friend or make new ones. The program is designed for low-income seniors who would benefit from a complimentary\, hot and nutritious lunch. The cafes are open to all and donations are accepted. \nFor additional information\, contact Debi Henritzy\, Kosher Cafe Coordinator by email or phone 609-987-8100.
URL:https://adathisraelnj.org/event/jfcs-kosher-cafe/2024-08-09/
CATEGORIES:General
END:VEVENT
BEGIN:VEVENT
DTSTART;TZID=America/New_York:20240808T110000
DTEND;TZID=America/New_York:20240808T130000
DTSTAMP:20260423T173254
CREATED:20231005T180626Z
LAST-MODIFIED:20240829T141946Z
UID:10003557-1723114800-1723122000@adathisraelnj.org
SUMMARY:JFCS Kosher Cafe
DESCRIPTION:https://www.jfcsonline.org/foodprograms/ \nKosher Cafe\nThe Kosher Cafe is a designated nutrition site\, supported by the Mercer County Office on Aging. \nEvery Tuesday – Friday from 11 AM – 1 PM \nJoin us for a complimentary\, catered at Congregation Adath Israel\, 1958 Lawrenceville Road\, Lawrenceville\, NJ. Bring a friend or make new ones. The program is designed for low-income seniors who would benefit from a complimentary\, hot and nutritious lunch. The cafes are open to all and donations are accepted. \nFor additional information\, contact Debi Henritzy\, Kosher Cafe Coordinator by email or phone 609-987-8100.
URL:https://adathisraelnj.org/event/jfcs-kosher-cafe/2024-08-08/
CATEGORIES:General
END:VEVENT
BEGIN:VEVENT
DTSTART;TZID=America/New_York:20240807T110000
DTEND;TZID=America/New_York:20240807T130000
DTSTAMP:20260423T173254
CREATED:20231005T180626Z
LAST-MODIFIED:20240829T141946Z
UID:10003556-1723028400-1723035600@adathisraelnj.org
SUMMARY:JFCS Kosher Cafe
DESCRIPTION:https://www.jfcsonline.org/foodprograms/ \nKosher Cafe\nThe Kosher Cafe is a designated nutrition site\, supported by the Mercer County Office on Aging. \nEvery Tuesday – Friday from 11 AM – 1 PM \nJoin us for a complimentary\, catered at Congregation Adath Israel\, 1958 Lawrenceville Road\, Lawrenceville\, NJ. Bring a friend or make new ones. The program is designed for low-income seniors who would benefit from a complimentary\, hot and nutritious lunch. The cafes are open to all and donations are accepted. \nFor additional information\, contact Debi Henritzy\, Kosher Cafe Coordinator by email or phone 609-987-8100.
URL:https://adathisraelnj.org/event/jfcs-kosher-cafe/2024-08-07/
CATEGORIES:General
END:VEVENT
BEGIN:VEVENT
DTSTART;TZID=America/New_York:20240806T110000
DTEND;TZID=America/New_York:20240806T130000
DTSTAMP:20260423T173254
CREATED:20231005T180626Z
LAST-MODIFIED:20240829T141946Z
UID:10003555-1722942000-1722949200@adathisraelnj.org
SUMMARY:JFCS Kosher Cafe
DESCRIPTION:https://www.jfcsonline.org/foodprograms/ \nKosher Cafe\nThe Kosher Cafe is a designated nutrition site\, supported by the Mercer County Office on Aging. \nEvery Tuesday – Friday from 11 AM – 1 PM \nJoin us for a complimentary\, catered at Congregation Adath Israel\, 1958 Lawrenceville Road\, Lawrenceville\, NJ. Bring a friend or make new ones. The program is designed for low-income seniors who would benefit from a complimentary\, hot and nutritious lunch. The cafes are open to all and donations are accepted. \nFor additional information\, contact Debi Henritzy\, Kosher Cafe Coordinator by email or phone 609-987-8100.
URL:https://adathisraelnj.org/event/jfcs-kosher-cafe/2024-08-06/
CATEGORIES:General
END:VEVENT
BEGIN:VEVENT
DTSTART;TZID=America/New_York:20240802T110000
DTEND;TZID=America/New_York:20240802T130000
DTSTAMP:20260423T173254
CREATED:20231005T180626Z
LAST-MODIFIED:20240829T141946Z
UID:10003554-1722596400-1722603600@adathisraelnj.org
SUMMARY:JFCS Kosher Cafe
DESCRIPTION:https://www.jfcsonline.org/foodprograms/ \nKosher Cafe\nThe Kosher Cafe is a designated nutrition site\, supported by the Mercer County Office on Aging. \nEvery Tuesday – Friday from 11 AM – 1 PM \nJoin us for a complimentary\, catered at Congregation Adath Israel\, 1958 Lawrenceville Road\, Lawrenceville\, NJ. Bring a friend or make new ones. The program is designed for low-income seniors who would benefit from a complimentary\, hot and nutritious lunch. The cafes are open to all and donations are accepted. \nFor additional information\, contact Debi Henritzy\, Kosher Cafe Coordinator by email or phone 609-987-8100.
URL:https://adathisraelnj.org/event/jfcs-kosher-cafe/2024-08-02/
CATEGORIES:General
END:VEVENT
BEGIN:VEVENT
DTSTART;TZID=America/New_York:20240801T110000
DTEND;TZID=America/New_York:20240801T130000
DTSTAMP:20260423T173254
CREATED:20231005T180626Z
LAST-MODIFIED:20240829T141946Z
UID:10003553-1722510000-1722517200@adathisraelnj.org
SUMMARY:JFCS Kosher Cafe
DESCRIPTION:https://www.jfcsonline.org/foodprograms/ \nKosher Cafe\nThe Kosher Cafe is a designated nutrition site\, supported by the Mercer County Office on Aging. \nEvery Tuesday – Friday from 11 AM – 1 PM \nJoin us for a complimentary\, catered at Congregation Adath Israel\, 1958 Lawrenceville Road\, Lawrenceville\, NJ. Bring a friend or make new ones. The program is designed for low-income seniors who would benefit from a complimentary\, hot and nutritious lunch. The cafes are open to all and donations are accepted. \nFor additional information\, contact Debi Henritzy\, Kosher Cafe Coordinator by email or phone 609-987-8100.
URL:https://adathisraelnj.org/event/jfcs-kosher-cafe/2024-08-01/
CATEGORIES:General
END:VEVENT
BEGIN:VEVENT
DTSTART;TZID=America/New_York:20240731T110000
DTEND;TZID=America/New_York:20240731T130000
DTSTAMP:20260423T173254
CREATED:20231005T180626Z
LAST-MODIFIED:20240829T141946Z
UID:10003552-1722423600-1722430800@adathisraelnj.org
SUMMARY:JFCS Kosher Cafe
DESCRIPTION:https://www.jfcsonline.org/foodprograms/ \nKosher Cafe\nThe Kosher Cafe is a designated nutrition site\, supported by the Mercer County Office on Aging. \nEvery Tuesday – Friday from 11 AM – 1 PM \nJoin us for a complimentary\, catered at Congregation Adath Israel\, 1958 Lawrenceville Road\, Lawrenceville\, NJ. Bring a friend or make new ones. The program is designed for low-income seniors who would benefit from a complimentary\, hot and nutritious lunch. The cafes are open to all and donations are accepted. \nFor additional information\, contact Debi Henritzy\, Kosher Cafe Coordinator by email or phone 609-987-8100.
URL:https://adathisraelnj.org/event/jfcs-kosher-cafe/2024-07-31/
CATEGORIES:General
END:VEVENT
BEGIN:VEVENT
DTSTART;TZID=America/New_York:20240730T110000
DTEND;TZID=America/New_York:20240730T130000
DTSTAMP:20260423T173254
CREATED:20231005T180626Z
LAST-MODIFIED:20240829T141946Z
UID:10003551-1722337200-1722344400@adathisraelnj.org
SUMMARY:JFCS Kosher Cafe
DESCRIPTION:https://www.jfcsonline.org/foodprograms/ \nKosher Cafe\nThe Kosher Cafe is a designated nutrition site\, supported by the Mercer County Office on Aging. \nEvery Tuesday – Friday from 11 AM – 1 PM \nJoin us for a complimentary\, catered at Congregation Adath Israel\, 1958 Lawrenceville Road\, Lawrenceville\, NJ. Bring a friend or make new ones. The program is designed for low-income seniors who would benefit from a complimentary\, hot and nutritious lunch. The cafes are open to all and donations are accepted. \nFor additional information\, contact Debi Henritzy\, Kosher Cafe Coordinator by email or phone 609-987-8100.
URL:https://adathisraelnj.org/event/jfcs-kosher-cafe/2024-07-30/
CATEGORIES:General
END:VEVENT
BEGIN:VEVENT
DTSTART;TZID=America/New_York:20240726T110000
DTEND;TZID=America/New_York:20240726T130000
DTSTAMP:20260423T173254
CREATED:20231005T180626Z
LAST-MODIFIED:20240829T141946Z
UID:10003550-1721991600-1721998800@adathisraelnj.org
SUMMARY:JFCS Kosher Cafe
DESCRIPTION:https://www.jfcsonline.org/foodprograms/ \nKosher Cafe\nThe Kosher Cafe is a designated nutrition site\, supported by the Mercer County Office on Aging. \nEvery Tuesday – Friday from 11 AM – 1 PM \nJoin us for a complimentary\, catered at Congregation Adath Israel\, 1958 Lawrenceville Road\, Lawrenceville\, NJ. Bring a friend or make new ones. The program is designed for low-income seniors who would benefit from a complimentary\, hot and nutritious lunch. The cafes are open to all and donations are accepted. \nFor additional information\, contact Debi Henritzy\, Kosher Cafe Coordinator by email or phone 609-987-8100.
URL:https://adathisraelnj.org/event/jfcs-kosher-cafe/2024-07-26/
CATEGORIES:General
END:VEVENT
BEGIN:VEVENT
DTSTART;TZID=America/New_York:20240725T110000
DTEND;TZID=America/New_York:20240725T130000
DTSTAMP:20260423T173254
CREATED:20231005T180626Z
LAST-MODIFIED:20240829T141946Z
UID:10003549-1721905200-1721912400@adathisraelnj.org
SUMMARY:JFCS Kosher Cafe
DESCRIPTION:https://www.jfcsonline.org/foodprograms/ \nKosher Cafe\nThe Kosher Cafe is a designated nutrition site\, supported by the Mercer County Office on Aging. \nEvery Tuesday – Friday from 11 AM – 1 PM \nJoin us for a complimentary\, catered at Congregation Adath Israel\, 1958 Lawrenceville Road\, Lawrenceville\, NJ. Bring a friend or make new ones. The program is designed for low-income seniors who would benefit from a complimentary\, hot and nutritious lunch. The cafes are open to all and donations are accepted. \nFor additional information\, contact Debi Henritzy\, Kosher Cafe Coordinator by email or phone 609-987-8100.
URL:https://adathisraelnj.org/event/jfcs-kosher-cafe/2024-07-25/
CATEGORIES:General
END:VEVENT
BEGIN:VEVENT
DTSTART;TZID=America/New_York:20240724T110000
DTEND;TZID=America/New_York:20240724T130000
DTSTAMP:20260423T173254
CREATED:20231005T180626Z
LAST-MODIFIED:20240829T141946Z
UID:10003548-1721818800-1721826000@adathisraelnj.org
SUMMARY:JFCS Kosher Cafe
DESCRIPTION:https://www.jfcsonline.org/foodprograms/ \nKosher Cafe\nThe Kosher Cafe is a designated nutrition site\, supported by the Mercer County Office on Aging. \nEvery Tuesday – Friday from 11 AM – 1 PM \nJoin us for a complimentary\, catered at Congregation Adath Israel\, 1958 Lawrenceville Road\, Lawrenceville\, NJ. Bring a friend or make new ones. The program is designed for low-income seniors who would benefit from a complimentary\, hot and nutritious lunch. The cafes are open to all and donations are accepted. \nFor additional information\, contact Debi Henritzy\, Kosher Cafe Coordinator by email or phone 609-987-8100.
URL:https://adathisraelnj.org/event/jfcs-kosher-cafe/2024-07-24/
CATEGORIES:General
END:VEVENT
BEGIN:VEVENT
DTSTART;TZID=America/New_York:20240723T110000
DTEND;TZID=America/New_York:20240723T130000
DTSTAMP:20260423T173254
CREATED:20231005T180626Z
LAST-MODIFIED:20240829T141946Z
UID:10003547-1721732400-1721739600@adathisraelnj.org
SUMMARY:JFCS Kosher Cafe
DESCRIPTION:https://www.jfcsonline.org/foodprograms/ \nKosher Cafe\nThe Kosher Cafe is a designated nutrition site\, supported by the Mercer County Office on Aging. \nEvery Tuesday – Friday from 11 AM – 1 PM \nJoin us for a complimentary\, catered at Congregation Adath Israel\, 1958 Lawrenceville Road\, Lawrenceville\, NJ. Bring a friend or make new ones. The program is designed for low-income seniors who would benefit from a complimentary\, hot and nutritious lunch. The cafes are open to all and donations are accepted. \nFor additional information\, contact Debi Henritzy\, Kosher Cafe Coordinator by email or phone 609-987-8100.
URL:https://adathisraelnj.org/event/jfcs-kosher-cafe/2024-07-23/
CATEGORIES:General
END:VEVENT
BEGIN:VEVENT
DTSTART;TZID=America/New_York:20240719T110000
DTEND;TZID=America/New_York:20240719T130000
DTSTAMP:20260423T173254
CREATED:20231005T180626Z
LAST-MODIFIED:20240829T141946Z
UID:10003546-1721386800-1721394000@adathisraelnj.org
SUMMARY:JFCS Kosher Cafe
DESCRIPTION:https://www.jfcsonline.org/foodprograms/ \nKosher Cafe\nThe Kosher Cafe is a designated nutrition site\, supported by the Mercer County Office on Aging. \nEvery Tuesday – Friday from 11 AM – 1 PM \nJoin us for a complimentary\, catered at Congregation Adath Israel\, 1958 Lawrenceville Road\, Lawrenceville\, NJ. Bring a friend or make new ones. The program is designed for low-income seniors who would benefit from a complimentary\, hot and nutritious lunch. The cafes are open to all and donations are accepted. \nFor additional information\, contact Debi Henritzy\, Kosher Cafe Coordinator by email or phone 609-987-8100.
URL:https://adathisraelnj.org/event/jfcs-kosher-cafe/2024-07-19/
CATEGORIES:General
END:VEVENT
BEGIN:VEVENT
DTSTART;TZID=America/New_York:20240718T110000
DTEND;TZID=America/New_York:20240718T130000
DTSTAMP:20260423T173254
CREATED:20231005T180626Z
LAST-MODIFIED:20240829T141946Z
UID:10003545-1721300400-1721307600@adathisraelnj.org
SUMMARY:JFCS Kosher Cafe
DESCRIPTION:https://www.jfcsonline.org/foodprograms/ \nKosher Cafe\nThe Kosher Cafe is a designated nutrition site\, supported by the Mercer County Office on Aging. \nEvery Tuesday – Friday from 11 AM – 1 PM \nJoin us for a complimentary\, catered at Congregation Adath Israel\, 1958 Lawrenceville Road\, Lawrenceville\, NJ. Bring a friend or make new ones. The program is designed for low-income seniors who would benefit from a complimentary\, hot and nutritious lunch. The cafes are open to all and donations are accepted. \nFor additional information\, contact Debi Henritzy\, Kosher Cafe Coordinator by email or phone 609-987-8100.
URL:https://adathisraelnj.org/event/jfcs-kosher-cafe/2024-07-18/
CATEGORIES:General
END:VEVENT
END:VCALENDAR