BEGIN:VCALENDAR
VERSION:2.0
PRODID:-//Adath Israel Congregation - ECPv6.15.12.2//NONSGML v1.0//EN
CALSCALE:GREGORIAN
METHOD:PUBLISH
X-WR-CALNAME:Adath Israel Congregation
X-ORIGINAL-URL:https://adathisraelnj.org
X-WR-CALDESC:Events for Adath Israel Congregation
REFRESH-INTERVAL;VALUE=DURATION:PT1H
X-Robots-Tag:noindex
X-PUBLISHED-TTL:PT1H
BEGIN:VTIMEZONE
TZID:America/New_York
BEGIN:DAYLIGHT
TZOFFSETFROM:-0500
TZOFFSETTO:-0400
TZNAME:EDT
DTSTART:20230312T070000
END:DAYLIGHT
BEGIN:STANDARD
TZOFFSETFROM:-0400
TZOFFSETTO:-0500
TZNAME:EST
DTSTART:20231105T060000
END:STANDARD
BEGIN:DAYLIGHT
TZOFFSETFROM:-0500
TZOFFSETTO:-0400
TZNAME:EDT
DTSTART:20240310T070000
END:DAYLIGHT
BEGIN:STANDARD
TZOFFSETFROM:-0400
TZOFFSETTO:-0500
TZNAME:EST
DTSTART:20241103T060000
END:STANDARD
BEGIN:DAYLIGHT
TZOFFSETFROM:-0500
TZOFFSETTO:-0400
TZNAME:EDT
DTSTART:20250309T070000
END:DAYLIGHT
BEGIN:STANDARD
TZOFFSETFROM:-0400
TZOFFSETTO:-0500
TZNAME:EST
DTSTART:20251102T060000
END:STANDARD
END:VTIMEZONE
BEGIN:VEVENT
DTSTART;TZID=America/New_York:20240627T110000
DTEND;TZID=America/New_York:20240627T130000
DTSTAMP:20260424T032210
CREATED:20231005T180626Z
LAST-MODIFIED:20240829T141946Z
UID:10003533-1719486000-1719493200@adathisraelnj.org
SUMMARY:JFCS Kosher Cafe
DESCRIPTION:https://www.jfcsonline.org/foodprograms/ \nKosher Cafe\nThe Kosher Cafe is a designated nutrition site\, supported by the Mercer County Office on Aging. \nEvery Tuesday – Friday from 11 AM – 1 PM \nJoin us for a complimentary\, catered at Congregation Adath Israel\, 1958 Lawrenceville Road\, Lawrenceville\, NJ. Bring a friend or make new ones. The program is designed for low-income seniors who would benefit from a complimentary\, hot and nutritious lunch. The cafes are open to all and donations are accepted. \nFor additional information\, contact Debi Henritzy\, Kosher Cafe Coordinator by email or phone 609-987-8100.
URL:https://adathisraelnj.org/event/jfcs-kosher-cafe/2024-06-27/
CATEGORIES:General
END:VEVENT
BEGIN:VEVENT
DTSTART;TZID=America/New_York:20240626T110000
DTEND;TZID=America/New_York:20240626T130000
DTSTAMP:20260424T032210
CREATED:20231005T180626Z
LAST-MODIFIED:20240829T141946Z
UID:10003532-1719399600-1719406800@adathisraelnj.org
SUMMARY:JFCS Kosher Cafe
DESCRIPTION:https://www.jfcsonline.org/foodprograms/ \nKosher Cafe\nThe Kosher Cafe is a designated nutrition site\, supported by the Mercer County Office on Aging. \nEvery Tuesday – Friday from 11 AM – 1 PM \nJoin us for a complimentary\, catered at Congregation Adath Israel\, 1958 Lawrenceville Road\, Lawrenceville\, NJ. Bring a friend or make new ones. The program is designed for low-income seniors who would benefit from a complimentary\, hot and nutritious lunch. The cafes are open to all and donations are accepted. \nFor additional information\, contact Debi Henritzy\, Kosher Cafe Coordinator by email or phone 609-987-8100.
URL:https://adathisraelnj.org/event/jfcs-kosher-cafe/2024-06-26/
CATEGORIES:General
END:VEVENT
BEGIN:VEVENT
DTSTART;TZID=America/New_York:20240625T110000
DTEND;TZID=America/New_York:20240625T130000
DTSTAMP:20260424T032210
CREATED:20231005T180626Z
LAST-MODIFIED:20240829T141946Z
UID:10003531-1719313200-1719320400@adathisraelnj.org
SUMMARY:JFCS Kosher Cafe
DESCRIPTION:https://www.jfcsonline.org/foodprograms/ \nKosher Cafe\nThe Kosher Cafe is a designated nutrition site\, supported by the Mercer County Office on Aging. \nEvery Tuesday – Friday from 11 AM – 1 PM \nJoin us for a complimentary\, catered at Congregation Adath Israel\, 1958 Lawrenceville Road\, Lawrenceville\, NJ. Bring a friend or make new ones. The program is designed for low-income seniors who would benefit from a complimentary\, hot and nutritious lunch. The cafes are open to all and donations are accepted. \nFor additional information\, contact Debi Henritzy\, Kosher Cafe Coordinator by email or phone 609-987-8100.
URL:https://adathisraelnj.org/event/jfcs-kosher-cafe/2024-06-25/
CATEGORIES:General
END:VEVENT
BEGIN:VEVENT
DTSTART;TZID=America/New_York:20240621T110000
DTEND;TZID=America/New_York:20240621T130000
DTSTAMP:20260424T032210
CREATED:20231005T180626Z
LAST-MODIFIED:20240829T141946Z
UID:10003530-1718967600-1718974800@adathisraelnj.org
SUMMARY:JFCS Kosher Cafe
DESCRIPTION:https://www.jfcsonline.org/foodprograms/ \nKosher Cafe\nThe Kosher Cafe is a designated nutrition site\, supported by the Mercer County Office on Aging. \nEvery Tuesday – Friday from 11 AM – 1 PM \nJoin us for a complimentary\, catered at Congregation Adath Israel\, 1958 Lawrenceville Road\, Lawrenceville\, NJ. Bring a friend or make new ones. The program is designed for low-income seniors who would benefit from a complimentary\, hot and nutritious lunch. The cafes are open to all and donations are accepted. \nFor additional information\, contact Debi Henritzy\, Kosher Cafe Coordinator by email or phone 609-987-8100.
URL:https://adathisraelnj.org/event/jfcs-kosher-cafe/2024-06-21/
CATEGORIES:General
END:VEVENT
BEGIN:VEVENT
DTSTART;TZID=America/New_York:20240620T110000
DTEND;TZID=America/New_York:20240620T130000
DTSTAMP:20260424T032210
CREATED:20231005T180626Z
LAST-MODIFIED:20240829T141946Z
UID:10003529-1718881200-1718888400@adathisraelnj.org
SUMMARY:JFCS Kosher Cafe
DESCRIPTION:https://www.jfcsonline.org/foodprograms/ \nKosher Cafe\nThe Kosher Cafe is a designated nutrition site\, supported by the Mercer County Office on Aging. \nEvery Tuesday – Friday from 11 AM – 1 PM \nJoin us for a complimentary\, catered at Congregation Adath Israel\, 1958 Lawrenceville Road\, Lawrenceville\, NJ. Bring a friend or make new ones. The program is designed for low-income seniors who would benefit from a complimentary\, hot and nutritious lunch. The cafes are open to all and donations are accepted. \nFor additional information\, contact Debi Henritzy\, Kosher Cafe Coordinator by email or phone 609-987-8100.
URL:https://adathisraelnj.org/event/jfcs-kosher-cafe/2024-06-20/
CATEGORIES:General
END:VEVENT
BEGIN:VEVENT
DTSTART;TZID=America/New_York:20240619T110000
DTEND;TZID=America/New_York:20240619T130000
DTSTAMP:20260424T032210
CREATED:20231005T180626Z
LAST-MODIFIED:20240829T141946Z
UID:10003528-1718794800-1718802000@adathisraelnj.org
SUMMARY:JFCS Kosher Cafe
DESCRIPTION:https://www.jfcsonline.org/foodprograms/ \nKosher Cafe\nThe Kosher Cafe is a designated nutrition site\, supported by the Mercer County Office on Aging. \nEvery Tuesday – Friday from 11 AM – 1 PM \nJoin us for a complimentary\, catered at Congregation Adath Israel\, 1958 Lawrenceville Road\, Lawrenceville\, NJ. Bring a friend or make new ones. The program is designed for low-income seniors who would benefit from a complimentary\, hot and nutritious lunch. The cafes are open to all and donations are accepted. \nFor additional information\, contact Debi Henritzy\, Kosher Cafe Coordinator by email or phone 609-987-8100.
URL:https://adathisraelnj.org/event/jfcs-kosher-cafe/2024-06-19/
CATEGORIES:General
END:VEVENT
BEGIN:VEVENT
DTSTART;TZID=America/New_York:20240618T110000
DTEND;TZID=America/New_York:20240618T130000
DTSTAMP:20260424T032210
CREATED:20231005T180626Z
LAST-MODIFIED:20240829T141946Z
UID:10003527-1718708400-1718715600@adathisraelnj.org
SUMMARY:JFCS Kosher Cafe
DESCRIPTION:https://www.jfcsonline.org/foodprograms/ \nKosher Cafe\nThe Kosher Cafe is a designated nutrition site\, supported by the Mercer County Office on Aging. \nEvery Tuesday – Friday from 11 AM – 1 PM \nJoin us for a complimentary\, catered at Congregation Adath Israel\, 1958 Lawrenceville Road\, Lawrenceville\, NJ. Bring a friend or make new ones. The program is designed for low-income seniors who would benefit from a complimentary\, hot and nutritious lunch. The cafes are open to all and donations are accepted. \nFor additional information\, contact Debi Henritzy\, Kosher Cafe Coordinator by email or phone 609-987-8100.
URL:https://adathisraelnj.org/event/jfcs-kosher-cafe/2024-06-18/
CATEGORIES:General
END:VEVENT
BEGIN:VEVENT
DTSTART;TZID=America/New_York:20240614T110000
DTEND;TZID=America/New_York:20240614T130000
DTSTAMP:20260424T032210
CREATED:20231005T180626Z
LAST-MODIFIED:20240829T141946Z
UID:10003526-1718362800-1718370000@adathisraelnj.org
SUMMARY:JFCS Kosher Cafe
DESCRIPTION:https://www.jfcsonline.org/foodprograms/ \nKosher Cafe\nThe Kosher Cafe is a designated nutrition site\, supported by the Mercer County Office on Aging. \nEvery Tuesday – Friday from 11 AM – 1 PM \nJoin us for a complimentary\, catered at Congregation Adath Israel\, 1958 Lawrenceville Road\, Lawrenceville\, NJ. Bring a friend or make new ones. The program is designed for low-income seniors who would benefit from a complimentary\, hot and nutritious lunch. The cafes are open to all and donations are accepted. \nFor additional information\, contact Debi Henritzy\, Kosher Cafe Coordinator by email or phone 609-987-8100.
URL:https://adathisraelnj.org/event/jfcs-kosher-cafe/2024-06-14/
CATEGORIES:General
END:VEVENT
BEGIN:VEVENT
DTSTART;TZID=America/New_York:20240613T110000
DTEND;TZID=America/New_York:20240613T130000
DTSTAMP:20260424T032210
CREATED:20231005T180626Z
LAST-MODIFIED:20240829T141946Z
UID:10003525-1718276400-1718283600@adathisraelnj.org
SUMMARY:JFCS Kosher Cafe
DESCRIPTION:https://www.jfcsonline.org/foodprograms/ \nKosher Cafe\nThe Kosher Cafe is a designated nutrition site\, supported by the Mercer County Office on Aging. \nEvery Tuesday – Friday from 11 AM – 1 PM \nJoin us for a complimentary\, catered at Congregation Adath Israel\, 1958 Lawrenceville Road\, Lawrenceville\, NJ. Bring a friend or make new ones. The program is designed for low-income seniors who would benefit from a complimentary\, hot and nutritious lunch. The cafes are open to all and donations are accepted. \nFor additional information\, contact Debi Henritzy\, Kosher Cafe Coordinator by email or phone 609-987-8100.
URL:https://adathisraelnj.org/event/jfcs-kosher-cafe/2024-06-13/
CATEGORIES:General
END:VEVENT
BEGIN:VEVENT
DTSTART;TZID=America/New_York:20240612T110000
DTEND;TZID=America/New_York:20240612T130000
DTSTAMP:20260424T032210
CREATED:20231005T180626Z
LAST-MODIFIED:20240829T141946Z
UID:10003524-1718190000-1718197200@adathisraelnj.org
SUMMARY:JFCS Kosher Cafe
DESCRIPTION:https://www.jfcsonline.org/foodprograms/ \nKosher Cafe\nThe Kosher Cafe is a designated nutrition site\, supported by the Mercer County Office on Aging. \nEvery Tuesday – Friday from 11 AM – 1 PM \nJoin us for a complimentary\, catered at Congregation Adath Israel\, 1958 Lawrenceville Road\, Lawrenceville\, NJ. Bring a friend or make new ones. The program is designed for low-income seniors who would benefit from a complimentary\, hot and nutritious lunch. The cafes are open to all and donations are accepted. \nFor additional information\, contact Debi Henritzy\, Kosher Cafe Coordinator by email or phone 609-987-8100.
URL:https://adathisraelnj.org/event/jfcs-kosher-cafe/2024-06-12/
CATEGORIES:General
END:VEVENT
BEGIN:VEVENT
DTSTART;TZID=America/New_York:20240611T110000
DTEND;TZID=America/New_York:20240611T130000
DTSTAMP:20260424T032210
CREATED:20231005T180626Z
LAST-MODIFIED:20240829T141946Z
UID:10003523-1718103600-1718110800@adathisraelnj.org
SUMMARY:JFCS Kosher Cafe
DESCRIPTION:https://www.jfcsonline.org/foodprograms/ \nKosher Cafe\nThe Kosher Cafe is a designated nutrition site\, supported by the Mercer County Office on Aging. \nEvery Tuesday – Friday from 11 AM – 1 PM \nJoin us for a complimentary\, catered at Congregation Adath Israel\, 1958 Lawrenceville Road\, Lawrenceville\, NJ. Bring a friend or make new ones. The program is designed for low-income seniors who would benefit from a complimentary\, hot and nutritious lunch. The cafes are open to all and donations are accepted. \nFor additional information\, contact Debi Henritzy\, Kosher Cafe Coordinator by email or phone 609-987-8100.
URL:https://adathisraelnj.org/event/jfcs-kosher-cafe/2024-06-11/
CATEGORIES:General
END:VEVENT
BEGIN:VEVENT
DTSTART;TZID=America/New_York:20240607T110000
DTEND;TZID=America/New_York:20240607T130000
DTSTAMP:20260424T032210
CREATED:20231005T180626Z
LAST-MODIFIED:20240829T141946Z
UID:10003522-1717758000-1717765200@adathisraelnj.org
SUMMARY:JFCS Kosher Cafe
DESCRIPTION:https://www.jfcsonline.org/foodprograms/ \nKosher Cafe\nThe Kosher Cafe is a designated nutrition site\, supported by the Mercer County Office on Aging. \nEvery Tuesday – Friday from 11 AM – 1 PM \nJoin us for a complimentary\, catered at Congregation Adath Israel\, 1958 Lawrenceville Road\, Lawrenceville\, NJ. Bring a friend or make new ones. The program is designed for low-income seniors who would benefit from a complimentary\, hot and nutritious lunch. The cafes are open to all and donations are accepted. \nFor additional information\, contact Debi Henritzy\, Kosher Cafe Coordinator by email or phone 609-987-8100.
URL:https://adathisraelnj.org/event/jfcs-kosher-cafe/2024-06-07/
CATEGORIES:General
END:VEVENT
BEGIN:VEVENT
DTSTART;TZID=America/New_York:20240606T110000
DTEND;TZID=America/New_York:20240606T130000
DTSTAMP:20260424T032210
CREATED:20231005T180626Z
LAST-MODIFIED:20240829T141946Z
UID:10003521-1717671600-1717678800@adathisraelnj.org
SUMMARY:JFCS Kosher Cafe
DESCRIPTION:https://www.jfcsonline.org/foodprograms/ \nKosher Cafe\nThe Kosher Cafe is a designated nutrition site\, supported by the Mercer County Office on Aging. \nEvery Tuesday – Friday from 11 AM – 1 PM \nJoin us for a complimentary\, catered at Congregation Adath Israel\, 1958 Lawrenceville Road\, Lawrenceville\, NJ. Bring a friend or make new ones. The program is designed for low-income seniors who would benefit from a complimentary\, hot and nutritious lunch. The cafes are open to all and donations are accepted. \nFor additional information\, contact Debi Henritzy\, Kosher Cafe Coordinator by email or phone 609-987-8100.
URL:https://adathisraelnj.org/event/jfcs-kosher-cafe/2024-06-06/
CATEGORIES:General
END:VEVENT
BEGIN:VEVENT
DTSTART;TZID=America/New_York:20240605T110000
DTEND;TZID=America/New_York:20240605T130000
DTSTAMP:20260424T032210
CREATED:20231005T180626Z
LAST-MODIFIED:20240829T141946Z
UID:10003520-1717585200-1717592400@adathisraelnj.org
SUMMARY:JFCS Kosher Cafe
DESCRIPTION:https://www.jfcsonline.org/foodprograms/ \nKosher Cafe\nThe Kosher Cafe is a designated nutrition site\, supported by the Mercer County Office on Aging. \nEvery Tuesday – Friday from 11 AM – 1 PM \nJoin us for a complimentary\, catered at Congregation Adath Israel\, 1958 Lawrenceville Road\, Lawrenceville\, NJ. Bring a friend or make new ones. The program is designed for low-income seniors who would benefit from a complimentary\, hot and nutritious lunch. The cafes are open to all and donations are accepted. \nFor additional information\, contact Debi Henritzy\, Kosher Cafe Coordinator by email or phone 609-987-8100.
URL:https://adathisraelnj.org/event/jfcs-kosher-cafe/2024-06-05/
CATEGORIES:General
END:VEVENT
BEGIN:VEVENT
DTSTART;TZID=America/New_York:20240604T110000
DTEND;TZID=America/New_York:20240604T130000
DTSTAMP:20260424T032210
CREATED:20231005T180626Z
LAST-MODIFIED:20240829T141946Z
UID:10003519-1717498800-1717506000@adathisraelnj.org
SUMMARY:JFCS Kosher Cafe
DESCRIPTION:https://www.jfcsonline.org/foodprograms/ \nKosher Cafe\nThe Kosher Cafe is a designated nutrition site\, supported by the Mercer County Office on Aging. \nEvery Tuesday – Friday from 11 AM – 1 PM \nJoin us for a complimentary\, catered at Congregation Adath Israel\, 1958 Lawrenceville Road\, Lawrenceville\, NJ. Bring a friend or make new ones. The program is designed for low-income seniors who would benefit from a complimentary\, hot and nutritious lunch. The cafes are open to all and donations are accepted. \nFor additional information\, contact Debi Henritzy\, Kosher Cafe Coordinator by email or phone 609-987-8100.
URL:https://adathisraelnj.org/event/jfcs-kosher-cafe/2024-06-04/
CATEGORIES:General
END:VEVENT
BEGIN:VEVENT
DTSTART;TZID=America/New_York:20240601T120000
DTEND;TZID=America/New_York:20240601T130000
DTSTAMP:20260424T032210
CREATED:20240216T171512Z
LAST-MODIFIED:20240216T171512Z
UID:10004985-1717243200-1717246800@adathisraelnj.org
SUMMARY:Shabbat Lunch at Adath
DESCRIPTION:
URL:https://adathisraelnj.org/event/shabbat-lunch-at-adath-3/
CATEGORIES:General
END:VEVENT
BEGIN:VEVENT
DTSTART;TZID=America/New_York:20240531T110000
DTEND;TZID=America/New_York:20240531T130000
DTSTAMP:20260424T032210
CREATED:20231005T180626Z
LAST-MODIFIED:20240829T141946Z
UID:10003518-1717153200-1717160400@adathisraelnj.org
SUMMARY:JFCS Kosher Cafe
DESCRIPTION:https://www.jfcsonline.org/foodprograms/ \nKosher Cafe\nThe Kosher Cafe is a designated nutrition site\, supported by the Mercer County Office on Aging. \nEvery Tuesday – Friday from 11 AM – 1 PM \nJoin us for a complimentary\, catered at Congregation Adath Israel\, 1958 Lawrenceville Road\, Lawrenceville\, NJ. Bring a friend or make new ones. The program is designed for low-income seniors who would benefit from a complimentary\, hot and nutritious lunch. The cafes are open to all and donations are accepted. \nFor additional information\, contact Debi Henritzy\, Kosher Cafe Coordinator by email or phone 609-987-8100.
URL:https://adathisraelnj.org/event/jfcs-kosher-cafe/2024-05-31/
CATEGORIES:General
END:VEVENT
BEGIN:VEVENT
DTSTART;TZID=America/New_York:20240530T110000
DTEND;TZID=America/New_York:20240530T130000
DTSTAMP:20260424T032210
CREATED:20231005T180626Z
LAST-MODIFIED:20240829T141946Z
UID:10003517-1717066800-1717074000@adathisraelnj.org
SUMMARY:JFCS Kosher Cafe
DESCRIPTION:https://www.jfcsonline.org/foodprograms/ \nKosher Cafe\nThe Kosher Cafe is a designated nutrition site\, supported by the Mercer County Office on Aging. \nEvery Tuesday – Friday from 11 AM – 1 PM \nJoin us for a complimentary\, catered at Congregation Adath Israel\, 1958 Lawrenceville Road\, Lawrenceville\, NJ. Bring a friend or make new ones. The program is designed for low-income seniors who would benefit from a complimentary\, hot and nutritious lunch. The cafes are open to all and donations are accepted. \nFor additional information\, contact Debi Henritzy\, Kosher Cafe Coordinator by email or phone 609-987-8100.
URL:https://adathisraelnj.org/event/jfcs-kosher-cafe/2024-05-30/
CATEGORIES:General
END:VEVENT
BEGIN:VEVENT
DTSTART;TZID=America/New_York:20240529T110000
DTEND;TZID=America/New_York:20240529T130000
DTSTAMP:20260424T032210
CREATED:20231005T180626Z
LAST-MODIFIED:20240829T141946Z
UID:10003516-1716980400-1716987600@adathisraelnj.org
SUMMARY:JFCS Kosher Cafe
DESCRIPTION:https://www.jfcsonline.org/foodprograms/ \nKosher Cafe\nThe Kosher Cafe is a designated nutrition site\, supported by the Mercer County Office on Aging. \nEvery Tuesday – Friday from 11 AM – 1 PM \nJoin us for a complimentary\, catered at Congregation Adath Israel\, 1958 Lawrenceville Road\, Lawrenceville\, NJ. Bring a friend or make new ones. The program is designed for low-income seniors who would benefit from a complimentary\, hot and nutritious lunch. The cafes are open to all and donations are accepted. \nFor additional information\, contact Debi Henritzy\, Kosher Cafe Coordinator by email or phone 609-987-8100.
URL:https://adathisraelnj.org/event/jfcs-kosher-cafe/2024-05-29/
CATEGORIES:General
END:VEVENT
BEGIN:VEVENT
DTSTART;TZID=America/New_York:20240528T110000
DTEND;TZID=America/New_York:20240528T130000
DTSTAMP:20260424T032210
CREATED:20231005T180626Z
LAST-MODIFIED:20240829T141946Z
UID:10003515-1716894000-1716901200@adathisraelnj.org
SUMMARY:JFCS Kosher Cafe
DESCRIPTION:https://www.jfcsonline.org/foodprograms/ \nKosher Cafe\nThe Kosher Cafe is a designated nutrition site\, supported by the Mercer County Office on Aging. \nEvery Tuesday – Friday from 11 AM – 1 PM \nJoin us for a complimentary\, catered at Congregation Adath Israel\, 1958 Lawrenceville Road\, Lawrenceville\, NJ. Bring a friend or make new ones. The program is designed for low-income seniors who would benefit from a complimentary\, hot and nutritious lunch. The cafes are open to all and donations are accepted. \nFor additional information\, contact Debi Henritzy\, Kosher Cafe Coordinator by email or phone 609-987-8100.
URL:https://adathisraelnj.org/event/jfcs-kosher-cafe/2024-05-28/
CATEGORIES:General
END:VEVENT
BEGIN:VEVENT
DTSTART;TZID=America/New_York:20240524T203000
DTEND;TZID=America/New_York:20240524T213000
DTSTAMP:20260424T032210
CREATED:20240501T145143Z
LAST-MODIFIED:20240501T145143Z
UID:10005043-1716582600-1716586200@adathisraelnj.org
SUMMARY:Rabbi's Tisch
DESCRIPTION:
URL:https://adathisraelnj.org/event/rabbis-tisch-4/
CATEGORIES:General
END:VEVENT
BEGIN:VEVENT
DTSTART;TZID=America/New_York:20240524T110000
DTEND;TZID=America/New_York:20240524T130000
DTSTAMP:20260424T032210
CREATED:20231005T180626Z
LAST-MODIFIED:20240829T141946Z
UID:10003514-1716548400-1716555600@adathisraelnj.org
SUMMARY:JFCS Kosher Cafe
DESCRIPTION:https://www.jfcsonline.org/foodprograms/ \nKosher Cafe\nThe Kosher Cafe is a designated nutrition site\, supported by the Mercer County Office on Aging. \nEvery Tuesday – Friday from 11 AM – 1 PM \nJoin us for a complimentary\, catered at Congregation Adath Israel\, 1958 Lawrenceville Road\, Lawrenceville\, NJ. Bring a friend or make new ones. The program is designed for low-income seniors who would benefit from a complimentary\, hot and nutritious lunch. The cafes are open to all and donations are accepted. \nFor additional information\, contact Debi Henritzy\, Kosher Cafe Coordinator by email or phone 609-987-8100.
URL:https://adathisraelnj.org/event/jfcs-kosher-cafe/2024-05-24/
CATEGORIES:General
END:VEVENT
BEGIN:VEVENT
DTSTART;TZID=America/New_York:20240523T110000
DTEND;TZID=America/New_York:20240523T130000
DTSTAMP:20260424T032210
CREATED:20231005T180626Z
LAST-MODIFIED:20240829T141946Z
UID:10003513-1716462000-1716469200@adathisraelnj.org
SUMMARY:JFCS Kosher Cafe
DESCRIPTION:https://www.jfcsonline.org/foodprograms/ \nKosher Cafe\nThe Kosher Cafe is a designated nutrition site\, supported by the Mercer County Office on Aging. \nEvery Tuesday – Friday from 11 AM – 1 PM \nJoin us for a complimentary\, catered at Congregation Adath Israel\, 1958 Lawrenceville Road\, Lawrenceville\, NJ. Bring a friend or make new ones. The program is designed for low-income seniors who would benefit from a complimentary\, hot and nutritious lunch. The cafes are open to all and donations are accepted. \nFor additional information\, contact Debi Henritzy\, Kosher Cafe Coordinator by email or phone 609-987-8100.
URL:https://adathisraelnj.org/event/jfcs-kosher-cafe/2024-05-23/
CATEGORIES:General
END:VEVENT
BEGIN:VEVENT
DTSTART;TZID=America/New_York:20240522T110000
DTEND;TZID=America/New_York:20240522T130000
DTSTAMP:20260424T032210
CREATED:20231005T180626Z
LAST-MODIFIED:20240829T141946Z
UID:10003512-1716375600-1716382800@adathisraelnj.org
SUMMARY:JFCS Kosher Cafe
DESCRIPTION:https://www.jfcsonline.org/foodprograms/ \nKosher Cafe\nThe Kosher Cafe is a designated nutrition site\, supported by the Mercer County Office on Aging. \nEvery Tuesday – Friday from 11 AM – 1 PM \nJoin us for a complimentary\, catered at Congregation Adath Israel\, 1958 Lawrenceville Road\, Lawrenceville\, NJ. Bring a friend or make new ones. The program is designed for low-income seniors who would benefit from a complimentary\, hot and nutritious lunch. The cafes are open to all and donations are accepted. \nFor additional information\, contact Debi Henritzy\, Kosher Cafe Coordinator by email or phone 609-987-8100.
URL:https://adathisraelnj.org/event/jfcs-kosher-cafe/2024-05-22/
CATEGORIES:General
END:VEVENT
BEGIN:VEVENT
DTSTART;TZID=America/New_York:20240521T110000
DTEND;TZID=America/New_York:20240521T130000
DTSTAMP:20260424T032210
CREATED:20231005T180626Z
LAST-MODIFIED:20240829T141946Z
UID:10003511-1716289200-1716296400@adathisraelnj.org
SUMMARY:JFCS Kosher Cafe
DESCRIPTION:https://www.jfcsonline.org/foodprograms/ \nKosher Cafe\nThe Kosher Cafe is a designated nutrition site\, supported by the Mercer County Office on Aging. \nEvery Tuesday – Friday from 11 AM – 1 PM \nJoin us for a complimentary\, catered at Congregation Adath Israel\, 1958 Lawrenceville Road\, Lawrenceville\, NJ. Bring a friend or make new ones. The program is designed for low-income seniors who would benefit from a complimentary\, hot and nutritious lunch. The cafes are open to all and donations are accepted. \nFor additional information\, contact Debi Henritzy\, Kosher Cafe Coordinator by email or phone 609-987-8100.
URL:https://adathisraelnj.org/event/jfcs-kosher-cafe/2024-05-21/
CATEGORIES:General
END:VEVENT
BEGIN:VEVENT
DTSTART;TZID=America/New_York:20240517T110000
DTEND;TZID=America/New_York:20240517T130000
DTSTAMP:20260424T032210
CREATED:20231005T180626Z
LAST-MODIFIED:20240829T141946Z
UID:10003510-1715943600-1715950800@adathisraelnj.org
SUMMARY:JFCS Kosher Cafe
DESCRIPTION:https://www.jfcsonline.org/foodprograms/ \nKosher Cafe\nThe Kosher Cafe is a designated nutrition site\, supported by the Mercer County Office on Aging. \nEvery Tuesday – Friday from 11 AM – 1 PM \nJoin us for a complimentary\, catered at Congregation Adath Israel\, 1958 Lawrenceville Road\, Lawrenceville\, NJ. Bring a friend or make new ones. The program is designed for low-income seniors who would benefit from a complimentary\, hot and nutritious lunch. The cafes are open to all and donations are accepted. \nFor additional information\, contact Debi Henritzy\, Kosher Cafe Coordinator by email or phone 609-987-8100.
URL:https://adathisraelnj.org/event/jfcs-kosher-cafe/2024-05-17/
CATEGORIES:General
END:VEVENT
BEGIN:VEVENT
DTSTART;TZID=America/New_York:20240516T110000
DTEND;TZID=America/New_York:20240516T130000
DTSTAMP:20260424T032210
CREATED:20231005T180626Z
LAST-MODIFIED:20240829T141946Z
UID:10003509-1715857200-1715864400@adathisraelnj.org
SUMMARY:JFCS Kosher Cafe
DESCRIPTION:https://www.jfcsonline.org/foodprograms/ \nKosher Cafe\nThe Kosher Cafe is a designated nutrition site\, supported by the Mercer County Office on Aging. \nEvery Tuesday – Friday from 11 AM – 1 PM \nJoin us for a complimentary\, catered at Congregation Adath Israel\, 1958 Lawrenceville Road\, Lawrenceville\, NJ. Bring a friend or make new ones. The program is designed for low-income seniors who would benefit from a complimentary\, hot and nutritious lunch. The cafes are open to all and donations are accepted. \nFor additional information\, contact Debi Henritzy\, Kosher Cafe Coordinator by email or phone 609-987-8100.
URL:https://adathisraelnj.org/event/jfcs-kosher-cafe/2024-05-16/
CATEGORIES:General
END:VEVENT
BEGIN:VEVENT
DTSTART;TZID=America/New_York:20240515T110000
DTEND;TZID=America/New_York:20240515T130000
DTSTAMP:20260424T032210
CREATED:20231005T180626Z
LAST-MODIFIED:20240829T141946Z
UID:10003508-1715770800-1715778000@adathisraelnj.org
SUMMARY:JFCS Kosher Cafe
DESCRIPTION:https://www.jfcsonline.org/foodprograms/ \nKosher Cafe\nThe Kosher Cafe is a designated nutrition site\, supported by the Mercer County Office on Aging. \nEvery Tuesday – Friday from 11 AM – 1 PM \nJoin us for a complimentary\, catered at Congregation Adath Israel\, 1958 Lawrenceville Road\, Lawrenceville\, NJ. Bring a friend or make new ones. The program is designed for low-income seniors who would benefit from a complimentary\, hot and nutritious lunch. The cafes are open to all and donations are accepted. \nFor additional information\, contact Debi Henritzy\, Kosher Cafe Coordinator by email or phone 609-987-8100.
URL:https://adathisraelnj.org/event/jfcs-kosher-cafe/2024-05-15/
CATEGORIES:General
END:VEVENT
BEGIN:VEVENT
DTSTART;TZID=America/New_York:20240514T110000
DTEND;TZID=America/New_York:20240514T130000
DTSTAMP:20260424T032210
CREATED:20231005T180626Z
LAST-MODIFIED:20240829T141946Z
UID:10003507-1715684400-1715691600@adathisraelnj.org
SUMMARY:JFCS Kosher Cafe
DESCRIPTION:https://www.jfcsonline.org/foodprograms/ \nKosher Cafe\nThe Kosher Cafe is a designated nutrition site\, supported by the Mercer County Office on Aging. \nEvery Tuesday – Friday from 11 AM – 1 PM \nJoin us for a complimentary\, catered at Congregation Adath Israel\, 1958 Lawrenceville Road\, Lawrenceville\, NJ. Bring a friend or make new ones. The program is designed for low-income seniors who would benefit from a complimentary\, hot and nutritious lunch. The cafes are open to all and donations are accepted. \nFor additional information\, contact Debi Henritzy\, Kosher Cafe Coordinator by email or phone 609-987-8100.
URL:https://adathisraelnj.org/event/jfcs-kosher-cafe/2024-05-14/
CATEGORIES:General
END:VEVENT
BEGIN:VEVENT
DTSTART;TZID=America/New_York:20240510T110000
DTEND;TZID=America/New_York:20240510T130000
DTSTAMP:20260424T032210
CREATED:20231005T180626Z
LAST-MODIFIED:20240829T141946Z
UID:10003506-1715338800-1715346000@adathisraelnj.org
SUMMARY:JFCS Kosher Cafe
DESCRIPTION:https://www.jfcsonline.org/foodprograms/ \nKosher Cafe\nThe Kosher Cafe is a designated nutrition site\, supported by the Mercer County Office on Aging. \nEvery Tuesday – Friday from 11 AM – 1 PM \nJoin us for a complimentary\, catered at Congregation Adath Israel\, 1958 Lawrenceville Road\, Lawrenceville\, NJ. Bring a friend or make new ones. The program is designed for low-income seniors who would benefit from a complimentary\, hot and nutritious lunch. The cafes are open to all and donations are accepted. \nFor additional information\, contact Debi Henritzy\, Kosher Cafe Coordinator by email or phone 609-987-8100.
URL:https://adathisraelnj.org/event/jfcs-kosher-cafe/2024-05-10/
CATEGORIES:General
END:VEVENT
END:VCALENDAR