BEGIN:VCALENDAR
VERSION:2.0
PRODID:-//Adath Israel Congregation - ECPv6.15.12.2//NONSGML v1.0//EN
CALSCALE:GREGORIAN
METHOD:PUBLISH
X-ORIGINAL-URL:https://adathisraelnj.org
X-WR-CALDESC:Events for Adath Israel Congregation
REFRESH-INTERVAL;VALUE=DURATION:PT1H
X-Robots-Tag:noindex
X-PUBLISHED-TTL:PT1H
BEGIN:VTIMEZONE
TZID:America/New_York
BEGIN:DAYLIGHT
TZOFFSETFROM:-0500
TZOFFSETTO:-0400
TZNAME:EDT
DTSTART:20210314T070000
END:DAYLIGHT
BEGIN:STANDARD
TZOFFSETFROM:-0400
TZOFFSETTO:-0500
TZNAME:EST
DTSTART:20211107T060000
END:STANDARD
BEGIN:DAYLIGHT
TZOFFSETFROM:-0500
TZOFFSETTO:-0400
TZNAME:EDT
DTSTART:20220313T070000
END:DAYLIGHT
BEGIN:STANDARD
TZOFFSETFROM:-0400
TZOFFSETTO:-0500
TZNAME:EST
DTSTART:20221106T060000
END:STANDARD
BEGIN:DAYLIGHT
TZOFFSETFROM:-0500
TZOFFSETTO:-0400
TZNAME:EDT
DTSTART:20230312T070000
END:DAYLIGHT
BEGIN:STANDARD
TZOFFSETFROM:-0400
TZOFFSETTO:-0500
TZNAME:EST
DTSTART:20231105T060000
END:STANDARD
END:VTIMEZONE
BEGIN:VEVENT
DTSTART;TZID=America/New_York:20220917T201500
DTEND;TZID=America/New_York:20220917T220000
DTSTAMP:20260424T192553
CREATED:20220621T133620Z
LAST-MODIFIED:20220822T142036Z
UID:10001646-1663445700-1663452000@adathisraelnj.org
SUMMARY:Community Selichot Evening Service
DESCRIPTION:Marking the Shabbat prior to Rosh Hashanah \n8:15 PM Refreshments \n8:45 PM Havdalah \n9:00 PM Program \n10:00 PM Service
URL:https://adathisraelnj.org/event/community-selichot-service/
LOCATION:NJ
CATEGORIES:High Holidays,Worship
END:VEVENT
BEGIN:VEVENT
DTSTART;TZID=America/New_York:20220925T193000
DTEND;TZID=America/New_York:20220925T210000
DTSTAMP:20260424T192553
CREATED:20220621T134003Z
LAST-MODIFIED:20220621T134003Z
UID:10001649-1664134200-1664139600@adathisraelnj.org
SUMMARY:Erev Rosh Hashana Evening Service 5783/2022
DESCRIPTION:
URL:https://adathisraelnj.org/event/erev-rosh-hashana-evening-service-5783-2022/
LOCATION:NJ
CATEGORIES:High Holidays,Worship
END:VEVENT
BEGIN:VEVENT
DTSTART;TZID=America/New_York:20220926T083000
DTEND;TZID=America/New_York:20220926T133000
DTSTAMP:20260424T192553
CREATED:20220621T133818Z
LAST-MODIFIED:20220621T133818Z
UID:10001647-1664181000-1664199000@adathisraelnj.org
SUMMARY:First Day Rosh Hashana Morning Service 5783/2022
DESCRIPTION:Morning Services 8:30 AM \nTorah Service and Sermon (Approximately) 10:00 AM – 12:30 PM \nJunior Congregation 11:15 AM – 12:45 PM \nTashlich Immediately Following Services
URL:https://adathisraelnj.org/event/first-day-rosh-hashana-morning-service-5783-2022/
LOCATION:NJ
CATEGORIES:High Holidays,Worship
END:VEVENT
BEGIN:VEVENT
DTSTART;TZID=America/New_York:20220926T193000
DTEND;TZID=America/New_York:20220926T210000
DTSTAMP:20260424T192553
CREATED:20220621T134055Z
LAST-MODIFIED:20220621T134055Z
UID:10001648-1664220600-1664226000@adathisraelnj.org
SUMMARY:First Day Rosh Hashana Evening Service
DESCRIPTION:
URL:https://adathisraelnj.org/event/first-day-rosh-hashana-evening-service/
LOCATION:NJ
CATEGORIES:High Holidays,Worship
END:VEVENT
BEGIN:VEVENT
DTSTART;TZID=America/New_York:20220927T083000
DTEND;TZID=America/New_York:20220927T130000
DTSTAMP:20260424T192553
CREATED:20220621T134326Z
LAST-MODIFIED:20220621T134326Z
UID:10001650-1664267400-1664283600@adathisraelnj.org
SUMMARY:Second Day Rosh Hashana Morning Service 5783/2022
DESCRIPTION:Morning Services 8:30 AM \nTorah Service and Sermon (Approximately) 10:00 AM – 12:30 PM \nJunior Congregation 11:15 AM – 12:45 PM
URL:https://adathisraelnj.org/event/second-day-rosh-hashana-morning-service-5783-2022/
LOCATION:NJ
CATEGORIES:High Holidays,Worship
END:VEVENT
BEGIN:VEVENT
DTSTART;TZID=America/New_York:20220927T192800
DTEND;TZID=America/New_York:20220927T193000
DTSTAMP:20260424T192553
CREATED:20220728T193508Z
LAST-MODIFIED:20220728T193520Z
UID:10000995-1664306880-1664307000@adathisraelnj.org
SUMMARY:Havdalah at Home
DESCRIPTION:
URL:https://adathisraelnj.org/event/havdalah-at-home/
LOCATION:NJ
CATEGORIES:High Holidays,Worship
END:VEVENT
BEGIN:VEVENT
DTSTART;VALUE=DATE:20220928
DTEND;VALUE=DATE:20220929
DTSTAMP:20260424T192553
CREATED:20220621T134847Z
LAST-MODIFIED:20220621T134847Z
UID:10001651-1664323200-1664409599@adathisraelnj.org
SUMMARY:Tzom Gedaliah – The Fast of Gedaliah
DESCRIPTION:This fast commemorates the assassination of Gedaliah ben Ahikam\, the governor of Judah\, after the destruction of the First Temple\, which marked the end of any hope that a Jewish government would survive. \nFast begins at dawn 5:31 AM \nFast ends 7:24 PM
URL:https://adathisraelnj.org/event/tzom-gedaliah-the-fast-of-gedaliah/
LOCATION:NJ
CATEGORIES:High Holidays
END:VEVENT
END:VCALENDAR