BEGIN:VCALENDAR
VERSION:2.0
PRODID:-//Adath Israel Congregation - ECPv6.15.12.2//NONSGML v1.0//EN
CALSCALE:GREGORIAN
METHOD:PUBLISH
X-WR-CALNAME:Adath Israel Congregation
X-ORIGINAL-URL:https://adathisraelnj.org
X-WR-CALDESC:Events for Adath Israel Congregation
REFRESH-INTERVAL;VALUE=DURATION:PT1H
X-Robots-Tag:noindex
X-PUBLISHED-TTL:PT1H
BEGIN:VTIMEZONE
TZID:America/New_York
BEGIN:DAYLIGHT
TZOFFSETFROM:-0500
TZOFFSETTO:-0400
TZNAME:EDT
DTSTART:20210314T070000
END:DAYLIGHT
BEGIN:STANDARD
TZOFFSETFROM:-0400
TZOFFSETTO:-0500
TZNAME:EST
DTSTART:20211107T060000
END:STANDARD
BEGIN:DAYLIGHT
TZOFFSETFROM:-0500
TZOFFSETTO:-0400
TZNAME:EDT
DTSTART:20220313T070000
END:DAYLIGHT
BEGIN:STANDARD
TZOFFSETFROM:-0400
TZOFFSETTO:-0500
TZNAME:EST
DTSTART:20221106T060000
END:STANDARD
BEGIN:DAYLIGHT
TZOFFSETFROM:-0500
TZOFFSETTO:-0400
TZNAME:EDT
DTSTART:20230312T070000
END:DAYLIGHT
BEGIN:STANDARD
TZOFFSETFROM:-0400
TZOFFSETTO:-0500
TZNAME:EST
DTSTART:20231105T060000
END:STANDARD
END:VTIMEZONE
BEGIN:VEVENT
DTSTART;VALUE=DATE:20221005
DTEND;VALUE=DATE:20221006
DTSTAMP:20260424T192621
CREATED:20220621T142416Z
LAST-MODIFIED:20220621T142416Z
UID:10000836-1664928000-1665014399@adathisraelnj.org
SUMMARY:Yom Kippur Services 5783/2022
DESCRIPTION:Morning Service 9:00 AM \nTorah Service (Approximately) 10:45 AM \nJunior Congregation 11:45 AM – 1:30 PM \nSermon (Approximately) 1:15 PM \nYizkor (Approximately) 1:30 PM \nStudy Session with Rabbi Adler 3:15 PM \nMincha 4:30 PM \nNeilah and Ma’ariv 6:00 PM \nFinal Shofar/Fast Ends 7:15 PM
URL:https://adathisraelnj.org/event/yom-kippur-services-5783-2022/
LOCATION:NJ
CATEGORIES:High Holidays,Worship
END:VEVENT
END:VCALENDAR