BEGIN:VCALENDAR
VERSION:2.0
PRODID:-//Adath Israel Congregation - ECPv6.15.12.2//NONSGML v1.0//EN
CALSCALE:GREGORIAN
METHOD:PUBLISH
X-ORIGINAL-URL:https://adathisraelnj.org
X-WR-CALDESC:Events for Adath Israel Congregation
REFRESH-INTERVAL;VALUE=DURATION:PT1H
X-Robots-Tag:noindex
X-PUBLISHED-TTL:PT1H
BEGIN:VTIMEZONE
TZID:America/New_York
BEGIN:DAYLIGHT
TZOFFSETFROM:-0500
TZOFFSETTO:-0400
TZNAME:EDT
DTSTART:20220313T070000
END:DAYLIGHT
BEGIN:STANDARD
TZOFFSETFROM:-0400
TZOFFSETTO:-0500
TZNAME:EST
DTSTART:20221106T060000
END:STANDARD
BEGIN:DAYLIGHT
TZOFFSETFROM:-0500
TZOFFSETTO:-0400
TZNAME:EDT
DTSTART:20230312T070000
END:DAYLIGHT
BEGIN:STANDARD
TZOFFSETFROM:-0400
TZOFFSETTO:-0500
TZNAME:EST
DTSTART:20231105T060000
END:STANDARD
BEGIN:DAYLIGHT
TZOFFSETFROM:-0500
TZOFFSETTO:-0400
TZNAME:EDT
DTSTART:20240310T070000
END:DAYLIGHT
BEGIN:STANDARD
TZOFFSETFROM:-0400
TZOFFSETTO:-0500
TZNAME:EST
DTSTART:20241103T060000
END:STANDARD
END:VTIMEZONE
BEGIN:VEVENT
DTSTART;TZID=America/New_York:20230916T083000
DTEND;TZID=America/New_York:20230916T130000
DTSTAMP:20260424T013409
CREATED:20230620T165442Z
LAST-MODIFIED:20230620T165454Z
UID:10002124-1694853000-1694869200@adathisraelnj.org
SUMMARY:Rosh Hashana Morning Service (Day 1)
DESCRIPTION:Contact the office for tickets or the Zoom link\nTorah Service and Sermon (Approximately)                        10:00 AM – 12:30 PM \nJunior Congregation                                                                     11:15 AM – 12:45 PM
URL:https://adathisraelnj.org/event/rosh-hashana-morning-service-day-1/
LOCATION:NJ
CATEGORIES:High Holidays,Worship
END:VEVENT
BEGIN:VEVENT
DTSTART;TZID=America/New_York:20230916T193000
DTEND;TZID=America/New_York:20230916T210000
DTSTAMP:20260424T013409
CREATED:20230620T165647Z
LAST-MODIFIED:20230620T165647Z
UID:10002125-1694892600-1694898000@adathisraelnj.org
SUMMARY:Rosh Hashana Evening Service
DESCRIPTION:Contact the office for tickets or the Zoom link\n 
URL:https://adathisraelnj.org/event/rosh-hashana-evening-service/
LOCATION:NJ
CATEGORIES:High Holidays,Worship
END:VEVENT
END:VCALENDAR