BEGIN:VCALENDAR
VERSION:2.0
PRODID:-//Adath Israel Congregation - ECPv6.15.12.2//NONSGML v1.0//EN
CALSCALE:GREGORIAN
METHOD:PUBLISH
X-ORIGINAL-URL:https://adathisraelnj.org
X-WR-CALDESC:Events for Adath Israel Congregation
REFRESH-INTERVAL;VALUE=DURATION:PT1H
X-Robots-Tag:noindex
X-PUBLISHED-TTL:PT1H
BEGIN:VTIMEZONE
TZID:America/New_York
BEGIN:DAYLIGHT
TZOFFSETFROM:-0500
TZOFFSETTO:-0400
TZNAME:EDT
DTSTART:20220313T070000
END:DAYLIGHT
BEGIN:STANDARD
TZOFFSETFROM:-0400
TZOFFSETTO:-0500
TZNAME:EST
DTSTART:20221106T060000
END:STANDARD
BEGIN:DAYLIGHT
TZOFFSETFROM:-0500
TZOFFSETTO:-0400
TZNAME:EDT
DTSTART:20230312T070000
END:DAYLIGHT
BEGIN:STANDARD
TZOFFSETFROM:-0400
TZOFFSETTO:-0500
TZNAME:EST
DTSTART:20231105T060000
END:STANDARD
BEGIN:DAYLIGHT
TZOFFSETFROM:-0500
TZOFFSETTO:-0400
TZNAME:EDT
DTSTART:20240310T070000
END:DAYLIGHT
BEGIN:STANDARD
TZOFFSETFROM:-0400
TZOFFSETTO:-0500
TZNAME:EST
DTSTART:20241103T060000
END:STANDARD
END:VTIMEZONE
BEGIN:VEVENT
DTSTART;TZID=America/New_York:20230925T080000
DTEND;TZID=America/New_York:20230925T140000
DTSTAMP:20260424T013407
CREATED:20230620T170238Z
LAST-MODIFIED:20230620T170238Z
UID:10002129-1695628800-1695650400@adathisraelnj.org
SUMMARY:Yom Kippur Morning Service
DESCRIPTION:Contact the office for tickets or the Zoom link\nTorah Service (Approximately)                                                 10:45 AM \nJunior Congregation                                                                     11:45 AM – 1:30 PM \nSermon (Approximately)                                                             1:15 PM \nYizkor (Approximately)                                                                 1:30 PM
URL:https://adathisraelnj.org/event/yom-kippur-morning-service/
LOCATION:NJ
CATEGORIES:High Holidays,Worship
END:VEVENT
BEGIN:VEVENT
DTSTART;TZID=America/New_York:20230925T153000
DTEND;TZID=America/New_York:20230925T200000
DTSTAMP:20260424T013407
CREATED:20230620T170425Z
LAST-MODIFIED:20230620T170425Z
UID:10002130-1695655800-1695672000@adathisraelnj.org
SUMMARY:Yom Kippur Afternoon Service
DESCRIPTION:Contact the office for tickets or the Zoom link\nStudy Session with Rabbi Adler                                                 3:45 PM \nMincha                                                                                                 4:45 PM \nNeilah and Ma’ariv                                                                         6:15 PM \nFinal Shofar/Fast Ends                                                                  7:33 PM
URL:https://adathisraelnj.org/event/yom-kippur-afternoon-service/
LOCATION:NJ
CATEGORIES:High Holidays,Women's League
END:VEVENT
END:VCALENDAR