BEGIN:VCALENDAR
VERSION:2.0
PRODID:-//Adath Israel Congregation - ECPv6.15.12.2//NONSGML v1.0//EN
CALSCALE:GREGORIAN
METHOD:PUBLISH
X-ORIGINAL-URL:https://adathisraelnj.org
X-WR-CALDESC:Events for Adath Israel Congregation
REFRESH-INTERVAL;VALUE=DURATION:PT1H
X-Robots-Tag:noindex
X-PUBLISHED-TTL:PT1H
BEGIN:VTIMEZONE
TZID:America/New_York
BEGIN:DAYLIGHT
TZOFFSETFROM:-0500
TZOFFSETTO:-0400
TZNAME:EDT
DTSTART:20170312T070000
END:DAYLIGHT
BEGIN:STANDARD
TZOFFSETFROM:-0400
TZOFFSETTO:-0500
TZNAME:EST
DTSTART:20171105T060000
END:STANDARD
BEGIN:DAYLIGHT
TZOFFSETFROM:-0500
TZOFFSETTO:-0400
TZNAME:EDT
DTSTART:20180311T070000
END:DAYLIGHT
BEGIN:STANDARD
TZOFFSETFROM:-0400
TZOFFSETTO:-0500
TZNAME:EST
DTSTART:20181104T060000
END:STANDARD
BEGIN:DAYLIGHT
TZOFFSETFROM:-0500
TZOFFSETTO:-0400
TZNAME:EDT
DTSTART:20190310T070000
END:DAYLIGHT
BEGIN:STANDARD
TZOFFSETFROM:-0400
TZOFFSETTO:-0500
TZNAME:EST
DTSTART:20191103T060000
END:STANDARD
BEGIN:DAYLIGHT
TZOFFSETFROM:-0500
TZOFFSETTO:-0400
TZNAME:EDT
DTSTART:20200308T070000
END:DAYLIGHT
BEGIN:STANDARD
TZOFFSETFROM:-0400
TZOFFSETTO:-0500
TZNAME:EST
DTSTART:20201101T060000
END:STANDARD
BEGIN:DAYLIGHT
TZOFFSETFROM:-0500
TZOFFSETTO:-0400
TZNAME:EDT
DTSTART:20210314T070000
END:DAYLIGHT
BEGIN:STANDARD
TZOFFSETFROM:-0400
TZOFFSETTO:-0500
TZNAME:EST
DTSTART:20211107T060000
END:STANDARD
BEGIN:DAYLIGHT
TZOFFSETFROM:-0500
TZOFFSETTO:-0400
TZNAME:EDT
DTSTART:20220313T070000
END:DAYLIGHT
BEGIN:STANDARD
TZOFFSETFROM:-0400
TZOFFSETTO:-0500
TZNAME:EST
DTSTART:20221106T060000
END:STANDARD
BEGIN:DAYLIGHT
TZOFFSETFROM:-0500
TZOFFSETTO:-0400
TZNAME:EDT
DTSTART:20230312T070000
END:DAYLIGHT
BEGIN:STANDARD
TZOFFSETFROM:-0400
TZOFFSETTO:-0500
TZNAME:EST
DTSTART:20231105T060000
END:STANDARD
BEGIN:DAYLIGHT
TZOFFSETFROM:-0500
TZOFFSETTO:-0400
TZNAME:EDT
DTSTART:20240310T070000
END:DAYLIGHT
BEGIN:STANDARD
TZOFFSETFROM:-0400
TZOFFSETTO:-0500
TZNAME:EST
DTSTART:20241103T060000
END:STANDARD
END:VTIMEZONE
BEGIN:VEVENT
DTSTART;TZID=America/New_York:20230507T160000
DTEND;TZID=America/New_York:20230507T180000
DTSTAMP:20260420T025338
CREATED:20230228T193409Z
LAST-MODIFIED:20230228T193409Z
UID:10002067-1683475200-1683482400@adathisraelnj.org
SUMMARY:BUSY BBQ & Elections
DESCRIPTION:BUSY BBQ & Elections \nat Congregation Beth El Yardley\, PA
URL:https://adathisraelnj.org/event/busy-bbq-elections/
CATEGORIES:Kadima and USY
END:VEVENT
BEGIN:VEVENT
DTSTART;TZID=America/New_York:20230423T160000
DTEND;TZID=America/New_York:20230423T163000
DTSTAMP:20260420T025339
CREATED:20230228T192541Z
LAST-MODIFIED:20230420T150649Z
UID:10002065-1682265600-1682267400@adathisraelnj.org
SUMMARY:Chaverim/Kadima/BUSY Post-Concert Ice Cream Social
DESCRIPTION:Chaverim/Kadima/BUSY Pre-Concert Ice Cream Social
URL:https://adathisraelnj.org/event/chaverim-kadima-busy-pre-concert-ice-cream-social/
CATEGORIES:Kadima and USY,Youth
END:VEVENT
BEGIN:VEVENT
DTSTART;VALUE=DATE:20191222
DTEND;VALUE=DATE:20191227
DTSTAMP:20260420T025339
CREATED:20191222T050000Z
LAST-MODIFIED:20191125T153207Z
UID:10001194-1576972800-1577404799@adathisraelnj.org
SUMMARY:USY International Convention
DESCRIPTION:
URL:https://adathisraelnj.org/event/usy-international-convention-2/
CATEGORIES:External,Kadima and USY,Youth
END:VEVENT
BEGIN:VEVENT
DTSTART;VALUE=DATE:20191219
DTEND;VALUE=DATE:20191222
DTSTAMP:20260420T025339
CREATED:20191219T050000Z
LAST-MODIFIED:20191125T153209Z
UID:10001187-1576713600-1576972799@adathisraelnj.org
SUMMARY:USY Pre-International Convention Shabbaton
DESCRIPTION:
URL:https://adathisraelnj.org/event/usy-pre-international-convention-shabbaton/
LOCATION:Valley Beth Shalom\, 15739 Ventura Blvd\, Encino\, CA 91436\, USA\, 15500 Ventura Blvd\, United States
CATEGORIES:External,Kadima and USY,Youth
GEO:34.15479;-118.472095
X-APPLE-STRUCTURED-LOCATION;VALUE=URI;X-ADDRESS=Valley Beth Shalom 15739 Ventura Blvd Encino CA 91436 USA 15500 Ventura Blvd United States;X-APPLE-RADIUS=500;X-TITLE=15500 Ventura Blvd:geo:-118.472095,34.15479
END:VEVENT
BEGIN:VEVENT
DTSTART;TZID=America/New_York:20191215T133000
DTEND;TZID=America/New_York:20191215T153000
DTSTAMP:20260420T025339
CREATED:20191215T183000Z
LAST-MODIFIED:20191125T153218Z
UID:10000389-1576416600-1576423800@adathisraelnj.org
SUMMARY:Chaverim/Kadima Ice Staking
DESCRIPTION:
URL:https://adathisraelnj.org/event/chaverim-kadima-ice-staking/
LOCATION:Grundy Ice Arena\, 475 Beaver St\, Bristol\, PA 19007\, USA\, 401 Beaver St\, United States
CATEGORIES:External,Kadima and USY,Youth
GEO:40.100769;-74.855941
X-APPLE-STRUCTURED-LOCATION;VALUE=URI;X-ADDRESS=Grundy Ice Arena 475 Beaver St Bristol PA 19007 USA 401 Beaver St United States;X-APPLE-RADIUS=500;X-TITLE=401 Beaver St:geo:-74.855941,40.100769
END:VEVENT
BEGIN:VEVENT
DTSTART;TZID=America/New_York:20191127T193000
DTEND;TZID=America/New_York:20191127T223000
DTSTAMP:20260420T025339
CREATED:20191128T003000Z
LAST-MODIFIED:20191125T153218Z
UID:10000351-1574883000-1574893800@adathisraelnj.org
SUMMARY:Mizrach USY/Kadima Turkey Trot
DESCRIPTION:Click Here To RSVP & Pay for this event: \nhttps://bethelsnj.wufoo.com/forms/usy-turkey-trot/ \nClick Here for the Pump It Up Waiver:\nhttps://kiosk.pumpitupparty.com/167
URL:https://adathisraelnj.org/event/mizrach-usy-kadima-turkey-trot-2/
LOCATION:Pump It Up\, 8 E Stow Rd Ste 160\, Marlton\, NJ 08053\, USA\, 2 8th St\, United States
CATEGORIES:External,Kadima and USY,Youth
GEO:39.888911;-74.875204
X-APPLE-STRUCTURED-LOCATION;VALUE=URI;X-ADDRESS=Pump It Up 8 E Stow Rd Ste 160 Marlton NJ 08053 USA 2 8th St United States;X-APPLE-RADIUS=500;X-TITLE=2 8th St:geo:-74.875204,39.888911
END:VEVENT
BEGIN:VEVENT
DTSTART;TZID=America/New_York:20191117T133000
DTEND;TZID=America/New_York:20191117T153000
DTSTAMP:20260420T025339
CREATED:20191101T153442Z
LAST-MODIFIED:20191125T151641Z
UID:10000978-1573997400-1574004600@adathisraelnj.org
SUMMARY:Chaverim/Kadima at Funzilla
DESCRIPTION:Click Here RSVP to & Pay for FUNZILLA: \nhttps://www.easyreg.org/cgi-bin/acct/KLF8UZATG6/displayForm.pl?dir=RZ3C3WW5_2019
URL:https://adathisraelnj.org/event/chaverim-kadima-at-funzilla/
LOCATION:Funzilla\, 500 Lincoln Ave\, Fairless Hills\, PA 19030\, USA\, 101 Lincoln Hwy\, United States
CATEGORIES:External,Kadima and USY,Youth
GEO:40.181191;-74.866759
X-APPLE-STRUCTURED-LOCATION;VALUE=URI;X-ADDRESS=Funzilla 500 Lincoln Ave Fairless Hills PA 19030 USA 101 Lincoln Hwy United States;X-APPLE-RADIUS=500;X-TITLE=101 Lincoln Hwy:geo:-74.866759,40.181191
END:VEVENT
BEGIN:VEVENT
DTSTART;VALUE=DATE:20191115
DTEND;VALUE=DATE:20191118
DTSTAMP:20260420T025339
CREATED:20191101T160922Z
LAST-MODIFIED:20191125T151641Z
UID:10000983-1573776000-1574035199@adathisraelnj.org
SUMMARY:Mizrach USY Fall Convention
DESCRIPTION:USY Fall Convention Hosted by Our BUSY Chapter!\nJoin Mizrach Region USY on November 16-16 for an amazing weekend at Congregation Tiffereth Israel in Bensalem. We are looking forward to joining teens from around Eastern PA\, Delaware and South Jersey\, for an amazing and inspiring weekend. \nMizrach USY is excited to come together to learn more about Israel and as the Jewish State. Please join Mizrach USY as we learn\, grow\, and have create amazing memories together!    \nCost of convention is $199. Cost covers Transportation from centralized location\, activities and food for the weekend. \nScholarships: There are several scholarship opportunities please reach out to your local chapters and fill out the scholarship form in regpacks. \nFor those of you in other areas\, please reach out to your federations\, chapters and Rabbis. When you apply for Fall Convention\, you can also find the regional scholarship application there as well. \nNever been to a convention\, want to know what it is? \nUSY/Kadima conventions are unlike any other Jewish Youth Movement’s. With incredible programming\, larger than life Ruach (Spirit) and wonderful people that become your lifelong friends\, Mizrach USY conventions are definitely something you don’t want to miss out on! \nThe duration of a convention is from Friday afternoon to Sunday morning. Some highlights include a fun-filled Saturday program like ice skating\, interactive activities\, meaningful prayer\, and meeting so many other Jewish people just like you!\nUSY/Kadima allows us to discover our Jewish identity\, leadership skills and our individuality in the world. You will make so many new friends along the way that become your second family. \nFor more information and the FAQ please visit our website at http://mizrachusy.com/regional \nCost: $199  \nClick here to register today!:\nhttps://www.regpacks.com/reg/templates/build/?g_id=100902669
URL:https://adathisraelnj.org/event/mizrach-usy-fall-convention-2/
LOCATION:Congregation Tifereth Israel\, 2909 Bristol Rd\, Bensalem\, PA 19020\, USA\, 1000 Bristol Rd\, United States
CATEGORIES:External,Kadima and USY,Youth
GEO:40.120262;-74.906021
X-APPLE-STRUCTURED-LOCATION;VALUE=URI;X-ADDRESS=Congregation Tifereth Israel 2909 Bristol Rd Bensalem PA 19020 USA 1000 Bristol Rd United States;X-APPLE-RADIUS=500;X-TITLE=1000 Bristol Rd:geo:-74.906021,40.120262
END:VEVENT
BEGIN:VEVENT
DTSTART;VALUE=DATE:20190405
DTEND;VALUE=DATE:20190408
DTSTAMP:20260420T025339
CREATED:20190405T040000Z
LAST-MODIFIED:20180815T192318Z
UID:10000236-1554422400-1554681599@adathisraelnj.org
SUMMARY:Mizrach USY Spring Convention
DESCRIPTION:
URL:https://adathisraelnj.org/event/mizrach-usy-spring-convention/
CATEGORIES:External,Kadima and USY
END:VEVENT
BEGIN:VEVENT
DTSTART;VALUE=DATE:20190404
DTEND;VALUE=DATE:20190405
DTSTAMP:20260420T025339
CREATED:20180813T194042Z
LAST-MODIFIED:20180815T192318Z
UID:10000153-1554336000-1554422399@adathisraelnj.org
SUMMARY:Mizrach USY Senior Night
DESCRIPTION:
URL:https://adathisraelnj.org/event/mizrach-usy-senior-night/
CATEGORIES:External,Kadima and USY
END:VEVENT
BEGIN:VEVENT
DTSTART;VALUE=DATE:20190316
DTEND;VALUE=DATE:20190317
DTSTAMP:20260420T025339
CREATED:20180813T194039Z
LAST-MODIFIED:20180815T192318Z
UID:10000151-1552694400-1552780799@adathisraelnj.org
SUMMARY:Mizrach USY Prom
DESCRIPTION:
URL:https://adathisraelnj.org/event/mizrach-usy-prom/
CATEGORIES:External,Kadima and USY
END:VEVENT
BEGIN:VEVENT
DTSTART;VALUE=DATE:20190315
DTEND;VALUE=DATE:20190317
DTSTAMP:20260420T025339
CREATED:20190315T040000Z
LAST-MODIFIED:20180815T192318Z
UID:10000694-1552608000-1552780799@adathisraelnj.org
SUMMARY:Mizrach Kadima Shabbaton
DESCRIPTION:
URL:https://adathisraelnj.org/event/mizrach-kadima-shabbaton-2/
CATEGORIES:External,Kadima and USY
END:VEVENT
BEGIN:VEVENT
DTSTART;VALUE=DATE:20190222
DTEND;VALUE=DATE:20190225
DTSTAMP:20260420T025339
CREATED:20190222T050000Z
LAST-MODIFIED:20180815T192318Z
UID:10000678-1550793600-1551052799@adathisraelnj.org
SUMMARY:Mizrach USY Winter Convention
DESCRIPTION:offsite
URL:https://adathisraelnj.org/event/mizrach-usy-winter-convention/
CATEGORIES:External,Kadima and USY
END:VEVENT
BEGIN:VEVENT
DTSTART;VALUE=DATE:20190125
DTEND;VALUE=DATE:20190127
DTSTAMP:20260420T025339
CREATED:20190125T050000Z
LAST-MODIFIED:20180815T192317Z
UID:10000212-1548374400-1548547199@adathisraelnj.org
SUMMARY:Mizrach Kadima Shabbaton
DESCRIPTION:
URL:https://adathisraelnj.org/event/mizrach-kadima-shabbaton/
CATEGORIES:External,Kadima and USY
END:VEVENT
BEGIN:VEVENT
DTSTART;VALUE=DATE:20181228
DTEND;VALUE=DATE:20181229
DTSTAMP:20260420T025339
CREATED:20180813T194215Z
LAST-MODIFIED:20180815T192317Z
UID:10000160-1545955200-1546041599@adathisraelnj.org
SUMMARY:USY IC Plus
DESCRIPTION:offsite
URL:https://adathisraelnj.org/event/usy-ic-plus/
CATEGORIES:External,Kadima and USY
END:VEVENT
BEGIN:VEVENT
DTSTART;VALUE=DATE:20181223
DTEND;VALUE=DATE:20181228
DTSTAMP:20260420T025339
CREATED:20181223T050000Z
LAST-MODIFIED:20180815T192317Z
UID:10000662-1545523200-1545955199@adathisraelnj.org
SUMMARY:USY International Convention
DESCRIPTION:offsite
URL:https://adathisraelnj.org/event/usy-international-convention/
CATEGORIES:External,Kadima and USY
END:VEVENT
BEGIN:VEVENT
DTSTART;VALUE=DATE:20181216
DTEND;VALUE=DATE:20181217
DTSTAMP:20260420T025339
CREATED:20180813T194135Z
LAST-MODIFIED:20180815T192317Z
UID:10000154-1544918400-1545004799@adathisraelnj.org
SUMMARY:Mizrach USY/Kadima Goes to Jewish Relief Agency
DESCRIPTION:offsite
URL:https://adathisraelnj.org/event/mizrach-usy-kadima-goes-to-jewish-relief-agency/
CATEGORIES:External,Kadima and USY
END:VEVENT
BEGIN:VEVENT
DTSTART;VALUE=DATE:20181208
DTEND;VALUE=DATE:20181209
DTSTAMP:20260420T025339
CREATED:20180813T194022Z
LAST-MODIFIED:20180815T192315Z
UID:10000148-1544227200-1544313599@adathisraelnj.org
SUMMARY:Mizrach Kadima Saturday Night Outing
DESCRIPTION:
URL:https://adathisraelnj.org/event/mizrach-kadima-saturday-night-outing/
CATEGORIES:External,Kadima and USY
END:VEVENT
BEGIN:VEVENT
DTSTART;VALUE=DATE:20181207
DTEND;VALUE=DATE:20181208
DTSTAMP:20260420T025339
CREATED:20180813T194135Z
LAST-MODIFIED:20180815T192315Z
UID:10000157-1544140800-1544227199@adathisraelnj.org
SUMMARY:Mizrach USY/Kadima Shabbat Dinner
DESCRIPTION:
URL:https://adathisraelnj.org/event/mizrach-usy-kadima-shabbat-dinner-2/
CATEGORIES:External,Kadima and USY
END:VEVENT
BEGIN:VEVENT
DTSTART;VALUE=DATE:20181121
DTEND;VALUE=DATE:20181122
DTSTAMP:20260420T025339
CREATED:20180813T194211Z
LAST-MODIFIED:20180815T192315Z
UID:10000159-1542758400-1542844799@adathisraelnj.org
SUMMARY:Mizrach USY/Kadima Turkey Trot
DESCRIPTION:offsite
URL:https://adathisraelnj.org/event/mizrach-usy-kadima-turkey-trot/
CATEGORIES:External,Kadima and USY
END:VEVENT
BEGIN:VEVENT
DTSTART;VALUE=DATE:20181116
DTEND;VALUE=DATE:20181119
DTSTAMP:20260420T025339
CREATED:20181116T050000Z
LAST-MODIFIED:20180815T192314Z
UID:10000201-1542326400-1542585599@adathisraelnj.org
SUMMARY:Mizrach USY Fall Convention
DESCRIPTION:offsite
URL:https://adathisraelnj.org/event/mizrach-usy-fall-convention/
CATEGORIES:External,Kadima and USY
END:VEVENT
BEGIN:VEVENT
DTSTART;VALUE=DATE:20181012
DTEND;VALUE=DATE:20181015
DTSTAMP:20260420T025339
CREATED:20181012T040000Z
LAST-MODIFIED:20180815T192314Z
UID:10000601-1539302400-1539561599@adathisraelnj.org
SUMMARY:Mizrach USY LTI
DESCRIPTION:offsite
URL:https://adathisraelnj.org/event/mizrach-usy-lti/
CATEGORIES:External,Kadima and USY
END:VEVENT
BEGIN:VEVENT
DTSTART;VALUE=DATE:20181012
DTEND;VALUE=DATE:20181013
DTSTAMP:20260420T025339
CREATED:20180813T194135Z
LAST-MODIFIED:20180815T192314Z
UID:10000155-1539302400-1539388799@adathisraelnj.org
SUMMARY:Mizrach USY/Kadima Shabbat Dinner
DESCRIPTION:
URL:https://adathisraelnj.org/event/mizrach-usy-kadima-shabbat-dinner/
CATEGORIES:External,Kadima and USY
END:VEVENT
BEGIN:VEVENT
DTSTART;VALUE=DATE:20180922
DTEND;VALUE=DATE:20180923
DTSTAMP:20260420T025339
CREATED:20180813T194034Z
LAST-MODIFIED:20180815T192314Z
UID:10000150-1537574400-1537660799@adathisraelnj.org
SUMMARY:Mizrach USY Kickoff
DESCRIPTION:
URL:https://adathisraelnj.org/event/mizrach-usy-kickoff/
CATEGORIES:External,Kadima and USY
END:VEVENT
BEGIN:VEVENT
DTSTART;VALUE=DATE:20180819
DTEND;VALUE=DATE:20180827
DTSTAMP:20260420T025339
CREATED:20180819T040000Z
LAST-MODIFIED:20180815T192314Z
UID:10000180-1534636800-1535327999@adathisraelnj.org
SUMMARY:USY Mid Atlantic District Encampment
DESCRIPTION:offsite
URL:https://adathisraelnj.org/event/usy-mid-atlantic-district-encampment/
CATEGORIES:External,Kadima and USY
END:VEVENT
END:VCALENDAR