BEGIN:VCALENDAR
VERSION:2.0
PRODID:-//Adath Israel Congregation - ECPv6.15.12.2//NONSGML v1.0//EN
CALSCALE:GREGORIAN
METHOD:PUBLISH
X-ORIGINAL-URL:https://adathisraelnj.org
X-WR-CALDESC:Events for Adath Israel Congregation
REFRESH-INTERVAL;VALUE=DURATION:PT1H
X-Robots-Tag:noindex
X-PUBLISHED-TTL:PT1H
BEGIN:VTIMEZONE
TZID:America/New_York
BEGIN:DAYLIGHT
TZOFFSETFROM:-0500
TZOFFSETTO:-0400
TZNAME:EDT
DTSTART:20170312T070000
END:DAYLIGHT
BEGIN:STANDARD
TZOFFSETFROM:-0400
TZOFFSETTO:-0500
TZNAME:EST
DTSTART:20171105T060000
END:STANDARD
BEGIN:DAYLIGHT
TZOFFSETFROM:-0500
TZOFFSETTO:-0400
TZNAME:EDT
DTSTART:20180311T070000
END:DAYLIGHT
BEGIN:STANDARD
TZOFFSETFROM:-0400
TZOFFSETTO:-0500
TZNAME:EST
DTSTART:20181104T060000
END:STANDARD
BEGIN:DAYLIGHT
TZOFFSETFROM:-0500
TZOFFSETTO:-0400
TZNAME:EDT
DTSTART:20190310T070000
END:DAYLIGHT
BEGIN:STANDARD
TZOFFSETFROM:-0400
TZOFFSETTO:-0500
TZNAME:EST
DTSTART:20191103T060000
END:STANDARD
BEGIN:DAYLIGHT
TZOFFSETFROM:-0500
TZOFFSETTO:-0400
TZNAME:EDT
DTSTART:20200308T070000
END:DAYLIGHT
BEGIN:STANDARD
TZOFFSETFROM:-0400
TZOFFSETTO:-0500
TZNAME:EST
DTSTART:20201101T060000
END:STANDARD
END:VTIMEZONE
BEGIN:VEVENT
DTSTART;TZID=America/New_York:20190414T090000
DTEND;TZID=America/New_York:20190414T101500
DTSTAMP:20260425T195446
CREATED:20180802T210735Z
LAST-MODIFIED:20180815T192809Z
UID:10000030-1555232400-1555236900@adathisraelnj.org
SUMMARY:Tot Sunday Funday
DESCRIPTION:A FREE special program for parents and tots (age 3 or 4) that teaches our youngest learners about Judaism in a social and fun way!CRAFTS\, STORIES\, SNACKS & MORE!Please RSVP to Adath Israel (609) 896-4977
URL:https://adathisraelnj.org/event/tot-sunday-funday-4/
LOCATION:Adath Israel Congregation\, 1958 Lawrenceville Rd\, Lawrenceville\, NJ\, 08648\, United States
CATEGORIES:Tot Sunday Funday
END:VEVENT
BEGIN:VEVENT
DTSTART;TZID=America/New_York:20190310T090000
DTEND;TZID=America/New_York:20190310T101500
DTSTAMP:20260425T195446
CREATED:20190303T140000Z
LAST-MODIFIED:20190125T191453Z
UID:10000685-1552208400-1552212900@adathisraelnj.org
SUMMARY:Tot Sunday Funday
DESCRIPTION:A FREE special program for parents and tots (age 3 or 4) that teaches our youngest learners about Judaism in a social and fun way!CRAFTS\, STORIES\, SNACKS & MORE!Please RSVP to Adath Israel (609) 896-4977
URL:https://adathisraelnj.org/event/tot-sunday-funday-3/
LOCATION:Adath Israel Congregation\, 1958 Lawrenceville Rd\, Lawrenceville\, NJ\, 08648\, United States
CATEGORIES:Tot Sunday Funday
END:VEVENT
BEGIN:VEVENT
DTSTART;TZID=America/New_York:20190224T090000
DTEND;TZID=America/New_York:20190224T101500
DTSTAMP:20260425T195446
CREATED:20190224T140000Z
LAST-MODIFIED:20190125T191305Z
UID:10000683-1550998800-1551003300@adathisraelnj.org
SUMMARY:Tot Sunday Funday
DESCRIPTION:A FREE special program for parents and tots (age 3 or 4) that teaches our youngest learners about Judaism in a social and fun way!CRAFTS\, STORIES\, SNACKS & MORE!Please RSVP to Adath Israel (609) 896-4977
URL:https://adathisraelnj.org/event/tot-sunday-funday-possible-date-4/
LOCATION:Adath Israel Congregation\, 1958 Lawrenceville Rd\, Lawrenceville\, NJ\, 08648\, United States
CATEGORIES:Tot Sunday Funday
END:VEVENT
BEGIN:VEVENT
DTSTART;TZID=America/New_York:20190113T090000
DTEND;TZID=America/New_York:20190113T101500
DTSTAMP:20260425T195446
CREATED:20180802T210737Z
LAST-MODIFIED:20180815T192811Z
UID:10000032-1547370000-1547374500@adathisraelnj.org
SUMMARY:Tot Sunday Funday -Possible Date
DESCRIPTION:A FREE special program for parents and tots (age 3 or 4) that teaches our youngest learners about Judaism in a social and fun way!CRAFTS\, STORIES\, SNACKS & MORE!Please RSVP to Adath Israel (609) 896-4977
URL:https://adathisraelnj.org/event/tot-sunday-funday-possible-date-3/
LOCATION:Adath Israel Congregation\, 1958 Lawrenceville Rd\, Lawrenceville\, NJ\, 08648\, United States
CATEGORIES:Tot Sunday Funday
END:VEVENT
BEGIN:VEVENT
DTSTART;TZID=America/New_York:20181202T090000
DTEND;TZID=America/New_York:20181202T101500
DTSTAMP:20260425T195446
CREATED:20181209T140000Z
LAST-MODIFIED:20181026T155859Z
UID:10000644-1543741200-1543745700@adathisraelnj.org
SUMMARY:Tot Sunday Funday
DESCRIPTION:A FREE special program for parents and tots (age 3 or 4) that teaches our youngest learners about Judaism in a social and fun way!CRAFTS\, STORIES\, SNACKS & MORE!Please RSVP to Adath Israel (609) 896-4977
URL:https://adathisraelnj.org/event/tot-sunday-funday-2/
LOCATION:Adath Israel Congregation\, 1958 Lawrenceville Rd\, Lawrenceville\, NJ\, 08648\, United States
CATEGORIES:Tot Sunday Funday
END:VEVENT
BEGIN:VEVENT
DTSTART;TZID=America/New_York:20181104T090000
DTEND;TZID=America/New_York:20181104T101500
DTSTAMP:20260425T195446
CREATED:20181104T140000Z
LAST-MODIFIED:20181026T160045Z
UID:10000197-1541322000-1541326500@adathisraelnj.org
SUMMARY:Tot Sunday Funday
DESCRIPTION:A FREE special program for parents and tots (age 3 or 4) that teaches our youngest learners about Judaism in a social and fun way!CRAFTS\, STORIES\, SNACKS & MORE!Please RSVP to Adath Israel (609) 896-4977
URL:https://adathisraelnj.org/event/tot-sunday-funday-possible-date-2/
LOCATION:Adath Israel Congregation\, 1958 Lawrenceville Rd\, Lawrenceville\, NJ\, 08648\, United States
CATEGORIES:Tot Sunday Funday
END:VEVENT
BEGIN:VEVENT
DTSTART;TZID=America/New_York:20181014T090000
DTEND;TZID=America/New_York:20181014T101500
DTSTAMP:20260425T195446
CREATED:20180802T210734Z
LAST-MODIFIED:20180815T192812Z
UID:10000029-1539507600-1539512100@adathisraelnj.org
SUMMARY:Tot Sunday Funday
DESCRIPTION:A FREE special program for parents and tots (age 3 or 4) that teaches our youngest learners about Judaism in a social and fun way!CRAFTS\, STORIES\, SNACKS & MORE!Please RSVP to Adath Israel (609) 896-4977
URL:https://adathisraelnj.org/event/tot-sunday-funday/
LOCATION:Adath Israel Congregation\, 1958 Lawrenceville Rd\, Lawrenceville\, NJ\, 08648\, United States
CATEGORIES:Tot Sunday Funday
END:VEVENT
END:VCALENDAR