BEGIN:VCALENDAR
VERSION:2.0
PRODID:-//Adath Israel Congregation - ECPv6.15.12.2//NONSGML v1.0//EN
CALSCALE:GREGORIAN
METHOD:PUBLISH
X-ORIGINAL-URL:https://adathisraelnj.org
X-WR-CALDESC:Events for Adath Israel Congregation
REFRESH-INTERVAL;VALUE=DURATION:PT1H
X-Robots-Tag:noindex
X-PUBLISHED-TTL:PT1H
BEGIN:VTIMEZONE
TZID:America/New_York
BEGIN:DAYLIGHT
TZOFFSETFROM:-0500
TZOFFSETTO:-0400
TZNAME:EDT
DTSTART:20230312T070000
END:DAYLIGHT
BEGIN:STANDARD
TZOFFSETFROM:-0400
TZOFFSETTO:-0500
TZNAME:EST
DTSTART:20231105T060000
END:STANDARD
BEGIN:DAYLIGHT
TZOFFSETFROM:-0500
TZOFFSETTO:-0400
TZNAME:EDT
DTSTART:20240310T070000
END:DAYLIGHT
BEGIN:STANDARD
TZOFFSETFROM:-0400
TZOFFSETTO:-0500
TZNAME:EST
DTSTART:20241103T060000
END:STANDARD
BEGIN:DAYLIGHT
TZOFFSETFROM:-0500
TZOFFSETTO:-0400
TZNAME:EDT
DTSTART:20250309T070000
END:DAYLIGHT
BEGIN:STANDARD
TZOFFSETFROM:-0400
TZOFFSETTO:-0500
TZNAME:EST
DTSTART:20251102T060000
END:STANDARD
END:VTIMEZONE
BEGIN:VEVENT
DTSTART;TZID=America/New_York:20240101T070000
DTEND;TZID=America/New_York:20240101T080000
DTSTAMP:20260419T203851
CREATED:20230815T165229Z
LAST-MODIFIED:20240829T191002Z
UID:10005241-1704092400-1704096000@adathisraelnj.org
SUMMARY:Morning Minyan
DESCRIPTION:Attend in-person or contact the Adath Israel Office 609-896-4977 for the Zoom login information\nTo download Siddur Sim Shalom: https://www.rabbinicalassembly.org/webform/form-download-e-siddur
URL:https://adathisraelnj.org/event/morning-minyan-400/2024-01-01/
CATEGORIES:Worship
END:VEVENT
BEGIN:VEVENT
DTSTART;TZID=America/New_York:20240104T070000
DTEND;TZID=America/New_York:20240104T080000
DTSTAMP:20260419T203851
CREATED:20230815T165229Z
LAST-MODIFIED:20240829T191002Z
UID:10005242-1704351600-1704355200@adathisraelnj.org
SUMMARY:Morning Minyan
DESCRIPTION:Attend in-person or contact the Adath Israel Office 609-896-4977 for the Zoom login information\nTo download Siddur Sim Shalom: https://www.rabbinicalassembly.org/webform/form-download-e-siddur
URL:https://adathisraelnj.org/event/morning-minyan-400/2024-01-04/
CATEGORIES:Worship
END:VEVENT
BEGIN:VEVENT
DTSTART;TZID=America/New_York:20240105T193000
DTEND;TZID=America/New_York:20240105T210000
DTSTAMP:20260419T203851
CREATED:20230815T164728Z
LAST-MODIFIED:20241210T164116Z
UID:10002209-1704483000-1704488400@adathisraelnj.org
SUMMARY:Shabbat Evening Service
DESCRIPTION:Attend in-person or contact the Adath Israel Office 609-896-4977 for the Zoom login information. \nJoin us for a Kabbalat Shabbat Service and interactive teaching led by Rabbi Adler and Hazzan Katlin. So that we can all literally be on the same page (or screen)\, we will be using the Kabbalat Shabbat and Shabbat Evening Service in the Sim Shalom for Shabbat and Festivals\, which can be downloaded at: https://www.rabbinicalassembly.org/form-download-e-siddur-
URL:https://adathisraelnj.org/event/shabbat-evening-service-110/2024-01-05/
CATEGORIES:Worship
END:VEVENT
BEGIN:VEVENT
DTSTART;TZID=America/New_York:20240106T093000
DTEND;TZID=America/New_York:20240106T123000
DTSTAMP:20260419T203851
CREATED:20230815T165551Z
LAST-MODIFIED:20240829T144153Z
UID:10002967-1704533400-1704544200@adathisraelnj.org
SUMMARY:Shabbat Morning Service
DESCRIPTION:Contact the Adath Israel Office 609-896-4977 for the Zoom login information or if you’d like to attend in person.\n\n\n\nJoin us for a Shabbat Morning Service and interactive teaching led by Rabbi Adler and Hazzan Katlin. The siddur can be downloaded at: https://www.rabbinicalassembly.org/form-download-e-siddur-
URL:https://adathisraelnj.org/event/shabbat-morning-service-140/2024-01-06/
CATEGORIES:Worship
END:VEVENT
BEGIN:VEVENT
DTSTART;TZID=America/New_York:20240108T070000
DTEND;TZID=America/New_York:20240108T080000
DTSTAMP:20260419T203851
CREATED:20230815T165229Z
LAST-MODIFIED:20240829T191002Z
UID:10005243-1704697200-1704700800@adathisraelnj.org
SUMMARY:Morning Minyan
DESCRIPTION:Attend in-person or contact the Adath Israel Office 609-896-4977 for the Zoom login information\nTo download Siddur Sim Shalom: https://www.rabbinicalassembly.org/webform/form-download-e-siddur
URL:https://adathisraelnj.org/event/morning-minyan-400/2024-01-08/
CATEGORIES:Worship
END:VEVENT
BEGIN:VEVENT
DTSTART;TZID=America/New_York:20240111T070000
DTEND;TZID=America/New_York:20240111T080000
DTSTAMP:20260419T203851
CREATED:20230815T165229Z
LAST-MODIFIED:20240829T191002Z
UID:10005244-1704956400-1704960000@adathisraelnj.org
SUMMARY:Morning Minyan
DESCRIPTION:Attend in-person or contact the Adath Israel Office 609-896-4977 for the Zoom login information\nTo download Siddur Sim Shalom: https://www.rabbinicalassembly.org/webform/form-download-e-siddur
URL:https://adathisraelnj.org/event/morning-minyan-400/2024-01-11/
CATEGORIES:Worship
END:VEVENT
BEGIN:VEVENT
DTSTART;TZID=America/New_York:20240112T193000
DTEND;TZID=America/New_York:20240112T210000
DTSTAMP:20260419T203851
CREATED:20230815T164728Z
LAST-MODIFIED:20241210T164116Z
UID:10005003-1705087800-1705093200@adathisraelnj.org
SUMMARY:Shabbat Evening Service
DESCRIPTION:Attend in-person or contact the Adath Israel Office 609-896-4977 for the Zoom login information. \nJoin us for a Kabbalat Shabbat Service and interactive teaching led by Rabbi Adler and Hazzan Katlin. So that we can all literally be on the same page (or screen)\, we will be using the Kabbalat Shabbat and Shabbat Evening Service in the Sim Shalom for Shabbat and Festivals\, which can be downloaded at: https://www.rabbinicalassembly.org/form-download-e-siddur-
URL:https://adathisraelnj.org/event/shabbat-evening-service-110/2024-01-12/
CATEGORIES:Worship
END:VEVENT
BEGIN:VEVENT
DTSTART;TZID=America/New_York:20240112T193000
DTEND;TZID=America/New_York:20240112T210000
DTSTAMP:20260419T203851
CREATED:20231221T211020Z
LAST-MODIFIED:20231221T211021Z
UID:10002210-1705087800-1705093200@adathisraelnj.org
SUMMARY:Instrumental Shabbat with a Healing Service
DESCRIPTION:Attend in-person or contact the Adath Israel Office 609-896-4977 for the Zoom login information. \nJoin us for a Kabbalat Shabbat Service and interactive teaching led by Rabbi Adler and Hazzan Katlin. So that we can all literally be on the same page (or screen)\, we will be using the Kabbalat Shabbat and Shabbat Evening Service in the Sim Shalom for Shabbat and Festivals\, which can be downloaded at: https://www.rabbinicalassembly.org/form-download-e-siddur-
URL:https://adathisraelnj.org/event/shabbat-evening-service-110-5/
CATEGORIES:Worship
END:VEVENT
BEGIN:VEVENT
DTSTART;TZID=America/New_York:20240113T093000
DTEND;TZID=America/New_York:20240113T123000
DTSTAMP:20260419T203851
CREATED:20230815T165551Z
LAST-MODIFIED:20240829T144153Z
UID:10002968-1705138200-1705149000@adathisraelnj.org
SUMMARY:Shabbat Morning Service
DESCRIPTION:Contact the Adath Israel Office 609-896-4977 for the Zoom login information or if you’d like to attend in person.\n\n\n\nJoin us for a Shabbat Morning Service and interactive teaching led by Rabbi Adler and Hazzan Katlin. The siddur can be downloaded at: https://www.rabbinicalassembly.org/form-download-e-siddur-
URL:https://adathisraelnj.org/event/shabbat-morning-service-140/2024-01-13/
CATEGORIES:Worship
END:VEVENT
BEGIN:VEVENT
DTSTART;TZID=America/New_York:20240115T070000
DTEND;TZID=America/New_York:20240115T080000
DTSTAMP:20260419T203851
CREATED:20230815T165229Z
LAST-MODIFIED:20240829T191002Z
UID:10005245-1705302000-1705305600@adathisraelnj.org
SUMMARY:Morning Minyan
DESCRIPTION:Attend in-person or contact the Adath Israel Office 609-896-4977 for the Zoom login information\nTo download Siddur Sim Shalom: https://www.rabbinicalassembly.org/webform/form-download-e-siddur
URL:https://adathisraelnj.org/event/morning-minyan-400/2024-01-15/
CATEGORIES:Worship
END:VEVENT
BEGIN:VEVENT
DTSTART;TZID=America/New_York:20240118T070000
DTEND;TZID=America/New_York:20240118T080000
DTSTAMP:20260419T203851
CREATED:20230815T165229Z
LAST-MODIFIED:20240829T191002Z
UID:10005246-1705561200-1705564800@adathisraelnj.org
SUMMARY:Morning Minyan
DESCRIPTION:Attend in-person or contact the Adath Israel Office 609-896-4977 for the Zoom login information\nTo download Siddur Sim Shalom: https://www.rabbinicalassembly.org/webform/form-download-e-siddur
URL:https://adathisraelnj.org/event/morning-minyan-400/2024-01-18/
CATEGORIES:Worship
END:VEVENT
BEGIN:VEVENT
DTSTART;TZID=America/New_York:20240119T190000
DTEND;TZID=America/New_York:20240119T210000
DTSTAMP:20260419T203851
CREATED:20231130T133304Z
LAST-MODIFIED:20231130T133305Z
UID:10004442-1705690800-1705698000@adathisraelnj.org
SUMMARY:Shabbat in the Round
DESCRIPTION:
URL:https://adathisraelnj.org/event/shabbat-in-the-round-3/
CATEGORIES:Worship
END:VEVENT
BEGIN:VEVENT
DTSTART;TZID=America/New_York:20240119T193000
DTEND;TZID=America/New_York:20240119T210000
DTSTAMP:20260419T203851
CREATED:20230815T164728Z
LAST-MODIFIED:20241210T164116Z
UID:10002211-1705692600-1705698000@adathisraelnj.org
SUMMARY:Shabbat Evening Service
DESCRIPTION:Attend in-person or contact the Adath Israel Office 609-896-4977 for the Zoom login information. \nJoin us for a Kabbalat Shabbat Service and interactive teaching led by Rabbi Adler and Hazzan Katlin. So that we can all literally be on the same page (or screen)\, we will be using the Kabbalat Shabbat and Shabbat Evening Service in the Sim Shalom for Shabbat and Festivals\, which can be downloaded at: https://www.rabbinicalassembly.org/form-download-e-siddur-
URL:https://adathisraelnj.org/event/shabbat-evening-service-110/2024-01-19/
CATEGORIES:Worship
END:VEVENT
BEGIN:VEVENT
DTSTART;TZID=America/New_York:20240120T093000
DTEND;TZID=America/New_York:20240120T123000
DTSTAMP:20260419T203851
CREATED:20230815T165551Z
LAST-MODIFIED:20240829T144153Z
UID:10002969-1705743000-1705753800@adathisraelnj.org
SUMMARY:Shabbat Morning Service
DESCRIPTION:Contact the Adath Israel Office 609-896-4977 for the Zoom login information or if you’d like to attend in person.\n\n\n\nJoin us for a Shabbat Morning Service and interactive teaching led by Rabbi Adler and Hazzan Katlin. The siddur can be downloaded at: https://www.rabbinicalassembly.org/form-download-e-siddur-
URL:https://adathisraelnj.org/event/shabbat-morning-service-140/2024-01-20/
CATEGORIES:Worship
END:VEVENT
BEGIN:VEVENT
DTSTART;TZID=America/New_York:20240122T070000
DTEND;TZID=America/New_York:20240122T080000
DTSTAMP:20260419T203851
CREATED:20230815T165229Z
LAST-MODIFIED:20240829T191002Z
UID:10005247-1705906800-1705910400@adathisraelnj.org
SUMMARY:Morning Minyan
DESCRIPTION:Attend in-person or contact the Adath Israel Office 609-896-4977 for the Zoom login information\nTo download Siddur Sim Shalom: https://www.rabbinicalassembly.org/webform/form-download-e-siddur
URL:https://adathisraelnj.org/event/morning-minyan-400/2024-01-22/
CATEGORIES:Worship
END:VEVENT
BEGIN:VEVENT
DTSTART;TZID=America/New_York:20240125T070000
DTEND;TZID=America/New_York:20240125T080000
DTSTAMP:20260419T203851
CREATED:20230815T165229Z
LAST-MODIFIED:20240829T191002Z
UID:10005248-1706166000-1706169600@adathisraelnj.org
SUMMARY:Morning Minyan
DESCRIPTION:Attend in-person or contact the Adath Israel Office 609-896-4977 for the Zoom login information\nTo download Siddur Sim Shalom: https://www.rabbinicalassembly.org/webform/form-download-e-siddur
URL:https://adathisraelnj.org/event/morning-minyan-400/2024-01-25/
CATEGORIES:Worship
END:VEVENT
BEGIN:VEVENT
DTSTART;TZID=America/New_York:20240126T193000
DTEND;TZID=America/New_York:20240126T210000
DTSTAMP:20260419T203851
CREATED:20230815T164728Z
LAST-MODIFIED:20241210T164116Z
UID:10005004-1706297400-1706302800@adathisraelnj.org
SUMMARY:Shabbat Evening Service
DESCRIPTION:Attend in-person or contact the Adath Israel Office 609-896-4977 for the Zoom login information. \nJoin us for a Kabbalat Shabbat Service and interactive teaching led by Rabbi Adler and Hazzan Katlin. So that we can all literally be on the same page (or screen)\, we will be using the Kabbalat Shabbat and Shabbat Evening Service in the Sim Shalom for Shabbat and Festivals\, which can be downloaded at: https://www.rabbinicalassembly.org/form-download-e-siddur-
URL:https://adathisraelnj.org/event/shabbat-evening-service-110/2024-01-26/
CATEGORIES:Worship
END:VEVENT
BEGIN:VEVENT
DTSTART;TZID=America/New_York:20240126T193000
DTEND;TZID=America/New_York:20240126T210000
DTSTAMP:20260419T203851
CREATED:20231017T151911Z
LAST-MODIFIED:20231017T151939Z
UID:10002212-1706297400-1706302800@adathisraelnj.org
SUMMARY:Women's League Shabbat Evening Service
DESCRIPTION:Attend in-person or contact the Adath Israel Office 609-896-4977 for the Zoom login information. \nWe will be using the Kabbalat Shabbat and Shabbat Evening Service in the Sim Shalom for Shabbat and Festivals\, which can be downloaded at: https://www.rabbinicalassembly.org/form-download-e-siddur-
URL:https://adathisraelnj.org/event/shabbat-evening-service-110-4/
CATEGORIES:Women's League,Worship
END:VEVENT
BEGIN:VEVENT
DTSTART;TZID=America/New_York:20240127T093000
DTEND;TZID=America/New_York:20240127T123000
DTSTAMP:20260419T203851
CREATED:20230815T165551Z
LAST-MODIFIED:20240829T144153Z
UID:10002970-1706347800-1706358600@adathisraelnj.org
SUMMARY:Shabbat Morning Service
DESCRIPTION:Contact the Adath Israel Office 609-896-4977 for the Zoom login information or if you’d like to attend in person.\n\n\n\nJoin us for a Shabbat Morning Service and interactive teaching led by Rabbi Adler and Hazzan Katlin. The siddur can be downloaded at: https://www.rabbinicalassembly.org/form-download-e-siddur-
URL:https://adathisraelnj.org/event/shabbat-morning-service-140/2024-01-27/
CATEGORIES:Worship
END:VEVENT
BEGIN:VEVENT
DTSTART;TZID=America/New_York:20240129T070000
DTEND;TZID=America/New_York:20240129T080000
DTSTAMP:20260419T203851
CREATED:20230815T165229Z
LAST-MODIFIED:20240829T191002Z
UID:10005249-1706511600-1706515200@adathisraelnj.org
SUMMARY:Morning Minyan
DESCRIPTION:Attend in-person or contact the Adath Israel Office 609-896-4977 for the Zoom login information\nTo download Siddur Sim Shalom: https://www.rabbinicalassembly.org/webform/form-download-e-siddur
URL:https://adathisraelnj.org/event/morning-minyan-400/2024-01-29/
CATEGORIES:Worship
END:VEVENT
END:VCALENDAR