BEGIN:VCALENDAR
VERSION:2.0
PRODID:-//Adath Israel Congregation - ECPv6.15.12.2//NONSGML v1.0//EN
CALSCALE:GREGORIAN
METHOD:PUBLISH
X-ORIGINAL-URL:https://adathisraelnj.org
X-WR-CALDESC:Events for Adath Israel Congregation
REFRESH-INTERVAL;VALUE=DURATION:PT1H
X-Robots-Tag:noindex
X-PUBLISHED-TTL:PT1H
BEGIN:VTIMEZONE
TZID:America/New_York
BEGIN:DAYLIGHT
TZOFFSETFROM:-0500
TZOFFSETTO:-0400
TZNAME:EDT
DTSTART:20230312T070000
END:DAYLIGHT
BEGIN:STANDARD
TZOFFSETFROM:-0400
TZOFFSETTO:-0500
TZNAME:EST
DTSTART:20231105T060000
END:STANDARD
BEGIN:DAYLIGHT
TZOFFSETFROM:-0500
TZOFFSETTO:-0400
TZNAME:EDT
DTSTART:20240310T070000
END:DAYLIGHT
BEGIN:STANDARD
TZOFFSETFROM:-0400
TZOFFSETTO:-0500
TZNAME:EST
DTSTART:20241103T060000
END:STANDARD
BEGIN:DAYLIGHT
TZOFFSETFROM:-0500
TZOFFSETTO:-0400
TZNAME:EDT
DTSTART:20250309T070000
END:DAYLIGHT
BEGIN:STANDARD
TZOFFSETFROM:-0400
TZOFFSETTO:-0500
TZNAME:EST
DTSTART:20251102T060000
END:STANDARD
END:VTIMEZONE
BEGIN:VEVENT
DTSTART;TZID=America/New_York:20240601T093000
DTEND;TZID=America/New_York:20240601T123000
DTSTAMP:20260419T082932
CREATED:20230815T165551Z
LAST-MODIFIED:20240829T144153Z
UID:10002988-1717234200-1717245000@adathisraelnj.org
SUMMARY:Shabbat Morning Service
DESCRIPTION:Contact the Adath Israel Office 609-896-4977 for the Zoom login information or if you’d like to attend in person.\n\n\n\nJoin us for a Shabbat Morning Service and interactive teaching led by Rabbi Adler and Hazzan Katlin. The siddur can be downloaded at: https://www.rabbinicalassembly.org/form-download-e-siddur-
URL:https://adathisraelnj.org/event/shabbat-morning-service-140/2024-06-01/
CATEGORIES:Worship
END:VEVENT
BEGIN:VEVENT
DTSTART;TZID=America/New_York:20240603T070000
DTEND;TZID=America/New_York:20240603T080000
DTSTAMP:20260419T082932
CREATED:20230815T165229Z
LAST-MODIFIED:20240829T191002Z
UID:10005285-1717398000-1717401600@adathisraelnj.org
SUMMARY:Morning Minyan
DESCRIPTION:Attend in-person or contact the Adath Israel Office 609-896-4977 for the Zoom login information\nTo download Siddur Sim Shalom: https://www.rabbinicalassembly.org/webform/form-download-e-siddur
URL:https://adathisraelnj.org/event/morning-minyan-400/2024-06-03/
CATEGORIES:Worship
END:VEVENT
BEGIN:VEVENT
DTSTART;TZID=America/New_York:20240606T070000
DTEND;TZID=America/New_York:20240606T080000
DTSTAMP:20260419T082932
CREATED:20230815T165229Z
LAST-MODIFIED:20240829T191002Z
UID:10005286-1717657200-1717660800@adathisraelnj.org
SUMMARY:Morning Minyan
DESCRIPTION:Attend in-person or contact the Adath Israel Office 609-896-4977 for the Zoom login information\nTo download Siddur Sim Shalom: https://www.rabbinicalassembly.org/webform/form-download-e-siddur
URL:https://adathisraelnj.org/event/morning-minyan-400/2024-06-06/
CATEGORIES:Worship
END:VEVENT
BEGIN:VEVENT
DTSTART;TZID=America/New_York:20240607T193000
DTEND;TZID=America/New_York:20240607T210000
DTSTAMP:20260419T082932
CREATED:20240402T182859Z
LAST-MODIFIED:20240516T132457Z
UID:10002231-1717788600-1717794000@adathisraelnj.org
SUMMARY:Instrumental Shabbat Evening Service Including Healing Prayers & Meditations - Enjoy the music and memory of Evette Katlin
DESCRIPTION:Attend in-person or contact the Adath Israel Office 609-896-4977 for the Zoom login information. \nJoin us for a Kabbalat Shabbat Service and interactive teaching led by Rabbi Adler and Hazzan Katlin. So that we can all literally be on the same page (or screen)\, we will be using the Kabbalat Shabbat and Shabbat Evening Service in the Sim Shalom for Shabbat and Festivals\, which can be downloaded at: https://www.rabbinicalassembly.org/form-download-e-siddur-
URL:https://adathisraelnj.org/event/shabbat-evening-service-110-7/
CATEGORIES:Worship
END:VEVENT
BEGIN:VEVENT
DTSTART;TZID=America/New_York:20240608T093000
DTEND;TZID=America/New_York:20240608T123000
DTSTAMP:20260419T082932
CREATED:20230815T165551Z
LAST-MODIFIED:20240829T144153Z
UID:10002989-1717839000-1717849800@adathisraelnj.org
SUMMARY:Shabbat Morning Service
DESCRIPTION:Contact the Adath Israel Office 609-896-4977 for the Zoom login information or if you’d like to attend in person.\n\n\n\nJoin us for a Shabbat Morning Service and interactive teaching led by Rabbi Adler and Hazzan Katlin. The siddur can be downloaded at: https://www.rabbinicalassembly.org/form-download-e-siddur-
URL:https://adathisraelnj.org/event/shabbat-morning-service-140/2024-06-08/
CATEGORIES:Worship
END:VEVENT
BEGIN:VEVENT
DTSTART;TZID=America/New_York:20240610T070000
DTEND;TZID=America/New_York:20240610T080000
DTSTAMP:20260419T082932
CREATED:20230815T165229Z
LAST-MODIFIED:20240829T191002Z
UID:10005287-1718002800-1718006400@adathisraelnj.org
SUMMARY:Morning Minyan
DESCRIPTION:Attend in-person or contact the Adath Israel Office 609-896-4977 for the Zoom login information\nTo download Siddur Sim Shalom: https://www.rabbinicalassembly.org/webform/form-download-e-siddur
URL:https://adathisraelnj.org/event/morning-minyan-400/2024-06-10/
CATEGORIES:Worship
END:VEVENT
BEGIN:VEVENT
DTSTART;TZID=America/New_York:20240611T200000
DTEND;TZID=America/New_York:20240611T200000
DTSTAMP:20260419T082932
CREATED:20240516T135316Z
LAST-MODIFIED:20240516T135316Z
UID:10005048-1718136000-1718136000@adathisraelnj.org
SUMMARY:Tikkun Leil Shavuot Learning Session - Torah Study with Rabbi Adler
DESCRIPTION:
URL:https://adathisraelnj.org/event/tikkun-leil-shavuot-learning-session-torah-study-with-rabbi-adler/
CATEGORIES:Worship
END:VEVENT
BEGIN:VEVENT
DTSTART;TZID=America/New_York:20240613T070000
DTEND;TZID=America/New_York:20240613T080000
DTSTAMP:20260419T082932
CREATED:20230815T165229Z
LAST-MODIFIED:20240829T191002Z
UID:10005288-1718262000-1718265600@adathisraelnj.org
SUMMARY:Morning Minyan
DESCRIPTION:Attend in-person or contact the Adath Israel Office 609-896-4977 for the Zoom login information\nTo download Siddur Sim Shalom: https://www.rabbinicalassembly.org/webform/form-download-e-siddur
URL:https://adathisraelnj.org/event/morning-minyan-400/2024-06-13/
CATEGORIES:Worship
END:VEVENT
BEGIN:VEVENT
DTSTART;TZID=America/New_York:20240614T193000
DTEND;TZID=America/New_York:20240614T210000
DTSTAMP:20260419T082932
CREATED:20240402T183237Z
LAST-MODIFIED:20240516T132746Z
UID:10002232-1718393400-1718398800@adathisraelnj.org
SUMMARY:Outdoor Instrumental Shabbat Evening Service - LGBTQ Pride
DESCRIPTION:   \nAttend in-person or contact the Adath Israel Office 609-896-4977 for the Zoom login information. \nJoin us for a Kabbalat Shabbat Service and interactive teaching led by Rabbi Adler and Hazzan Katlin. So that we can all literally be on the same page (or screen)\, we will be using the Kabbalat Shabbat and Shabbat Evening Service in the Sim Shalom for Shabbat and Festivals\, which can be downloaded at: https://www.rabbinicalassembly.org/form-download-e-siddur-
URL:https://adathisraelnj.org/event/shabbat-evening-service-110-8/
CATEGORIES:Worship
END:VEVENT
BEGIN:VEVENT
DTSTART;TZID=America/New_York:20240615T093000
DTEND;TZID=America/New_York:20240615T123000
DTSTAMP:20260419T082932
CREATED:20230815T165551Z
LAST-MODIFIED:20240829T144153Z
UID:10002990-1718443800-1718454600@adathisraelnj.org
SUMMARY:Shabbat Morning Service
DESCRIPTION:Contact the Adath Israel Office 609-896-4977 for the Zoom login information or if you’d like to attend in person.\n\n\n\nJoin us for a Shabbat Morning Service and interactive teaching led by Rabbi Adler and Hazzan Katlin. The siddur can be downloaded at: https://www.rabbinicalassembly.org/form-download-e-siddur-
URL:https://adathisraelnj.org/event/shabbat-morning-service-140/2024-06-15/
CATEGORIES:Worship
END:VEVENT
BEGIN:VEVENT
DTSTART;TZID=America/New_York:20240617T070000
DTEND;TZID=America/New_York:20240617T080000
DTSTAMP:20260419T082932
CREATED:20230815T165229Z
LAST-MODIFIED:20240829T191002Z
UID:10005289-1718607600-1718611200@adathisraelnj.org
SUMMARY:Morning Minyan
DESCRIPTION:Attend in-person or contact the Adath Israel Office 609-896-4977 for the Zoom login information\nTo download Siddur Sim Shalom: https://www.rabbinicalassembly.org/webform/form-download-e-siddur
URL:https://adathisraelnj.org/event/morning-minyan-400/2024-06-17/
CATEGORIES:Worship
END:VEVENT
BEGIN:VEVENT
DTSTART;TZID=America/New_York:20240620T070000
DTEND;TZID=America/New_York:20240620T080000
DTSTAMP:20260419T082932
CREATED:20230815T165229Z
LAST-MODIFIED:20240829T191002Z
UID:10005290-1718866800-1718870400@adathisraelnj.org
SUMMARY:Morning Minyan
DESCRIPTION:Attend in-person or contact the Adath Israel Office 609-896-4977 for the Zoom login information\nTo download Siddur Sim Shalom: https://www.rabbinicalassembly.org/webform/form-download-e-siddur
URL:https://adathisraelnj.org/event/morning-minyan-400/2024-06-20/
CATEGORIES:Worship
END:VEVENT
BEGIN:VEVENT
DTSTART;TZID=America/New_York:20240621T193000
DTEND;TZID=America/New_York:20240621T210000
DTSTAMP:20260419T082932
CREATED:20230815T164728Z
LAST-MODIFIED:20241210T164116Z
UID:10002233-1718998200-1719003600@adathisraelnj.org
SUMMARY:Shabbat Evening Service
DESCRIPTION:Attend in-person or contact the Adath Israel Office 609-896-4977 for the Zoom login information. \nJoin us for a Kabbalat Shabbat Service and interactive teaching led by Rabbi Adler and Hazzan Katlin. So that we can all literally be on the same page (or screen)\, we will be using the Kabbalat Shabbat and Shabbat Evening Service in the Sim Shalom for Shabbat and Festivals\, which can be downloaded at: https://www.rabbinicalassembly.org/form-download-e-siddur-
URL:https://adathisraelnj.org/event/shabbat-evening-service-110/2024-06-21/
CATEGORIES:Worship
END:VEVENT
BEGIN:VEVENT
DTSTART;TZID=America/New_York:20240622T093000
DTEND;TZID=America/New_York:20240622T123000
DTSTAMP:20260419T082932
CREATED:20230815T165551Z
LAST-MODIFIED:20240829T144153Z
UID:10002991-1719048600-1719059400@adathisraelnj.org
SUMMARY:Shabbat Morning Service
DESCRIPTION:Contact the Adath Israel Office 609-896-4977 for the Zoom login information or if you’d like to attend in person.\n\n\n\nJoin us for a Shabbat Morning Service and interactive teaching led by Rabbi Adler and Hazzan Katlin. The siddur can be downloaded at: https://www.rabbinicalassembly.org/form-download-e-siddur-
URL:https://adathisraelnj.org/event/shabbat-morning-service-140/2024-06-22/
CATEGORIES:Worship
END:VEVENT
BEGIN:VEVENT
DTSTART;TZID=America/New_York:20240624T070000
DTEND;TZID=America/New_York:20240624T080000
DTSTAMP:20260419T082932
CREATED:20230815T165229Z
LAST-MODIFIED:20240829T191002Z
UID:10005291-1719212400-1719216000@adathisraelnj.org
SUMMARY:Morning Minyan
DESCRIPTION:Attend in-person or contact the Adath Israel Office 609-896-4977 for the Zoom login information\nTo download Siddur Sim Shalom: https://www.rabbinicalassembly.org/webform/form-download-e-siddur
URL:https://adathisraelnj.org/event/morning-minyan-400/2024-06-24/
CATEGORIES:Worship
END:VEVENT
BEGIN:VEVENT
DTSTART;TZID=America/New_York:20240627T070000
DTEND;TZID=America/New_York:20240627T080000
DTSTAMP:20260419T082932
CREATED:20230815T165229Z
LAST-MODIFIED:20240829T191002Z
UID:10005292-1719471600-1719475200@adathisraelnj.org
SUMMARY:Morning Minyan
DESCRIPTION:Attend in-person or contact the Adath Israel Office 609-896-4977 for the Zoom login information\nTo download Siddur Sim Shalom: https://www.rabbinicalassembly.org/webform/form-download-e-siddur
URL:https://adathisraelnj.org/event/morning-minyan-400/2024-06-27/
CATEGORIES:Worship
END:VEVENT
BEGIN:VEVENT
DTSTART;TZID=America/New_York:20240628T193000
DTEND;TZID=America/New_York:20240628T210000
DTSTAMP:20260419T082932
CREATED:20230815T164728Z
LAST-MODIFIED:20241210T164116Z
UID:10002234-1719603000-1719608400@adathisraelnj.org
SUMMARY:Shabbat Evening Service
DESCRIPTION:Attend in-person or contact the Adath Israel Office 609-896-4977 for the Zoom login information. \nJoin us for a Kabbalat Shabbat Service and interactive teaching led by Rabbi Adler and Hazzan Katlin. So that we can all literally be on the same page (or screen)\, we will be using the Kabbalat Shabbat and Shabbat Evening Service in the Sim Shalom for Shabbat and Festivals\, which can be downloaded at: https://www.rabbinicalassembly.org/form-download-e-siddur-
URL:https://adathisraelnj.org/event/shabbat-evening-service-110/2024-06-28/
CATEGORIES:Worship
END:VEVENT
BEGIN:VEVENT
DTSTART;TZID=America/New_York:20240629T093000
DTEND;TZID=America/New_York:20240629T123000
DTSTAMP:20260419T082932
CREATED:20230815T165551Z
LAST-MODIFIED:20240829T144153Z
UID:10002992-1719653400-1719664200@adathisraelnj.org
SUMMARY:Shabbat Morning Service
DESCRIPTION:Contact the Adath Israel Office 609-896-4977 for the Zoom login information or if you’d like to attend in person.\n\n\n\nJoin us for a Shabbat Morning Service and interactive teaching led by Rabbi Adler and Hazzan Katlin. The siddur can be downloaded at: https://www.rabbinicalassembly.org/form-download-e-siddur-
URL:https://adathisraelnj.org/event/shabbat-morning-service-140/2024-06-29/
CATEGORIES:Worship
END:VEVENT
END:VCALENDAR