BEGIN:VCALENDAR
VERSION:2.0
PRODID:-//Adath Israel Congregation - ECPv6.15.12.2//NONSGML v1.0//EN
CALSCALE:GREGORIAN
METHOD:PUBLISH
X-WR-CALNAME:Adath Israel Congregation
X-ORIGINAL-URL:https://adathisraelnj.org
X-WR-CALDESC:Events for Adath Israel Congregation
REFRESH-INTERVAL;VALUE=DURATION:PT1H
X-Robots-Tag:noindex
X-PUBLISHED-TTL:PT1H
BEGIN:VTIMEZONE
TZID:America/New_York
BEGIN:DAYLIGHT
TZOFFSETFROM:-0500
TZOFFSETTO:-0400
TZNAME:EDT
DTSTART:20240310T070000
END:DAYLIGHT
BEGIN:STANDARD
TZOFFSETFROM:-0400
TZOFFSETTO:-0500
TZNAME:EST
DTSTART:20241103T060000
END:STANDARD
BEGIN:DAYLIGHT
TZOFFSETFROM:-0500
TZOFFSETTO:-0400
TZNAME:EDT
DTSTART:20250309T070000
END:DAYLIGHT
BEGIN:STANDARD
TZOFFSETFROM:-0400
TZOFFSETTO:-0500
TZNAME:EST
DTSTART:20251102T060000
END:STANDARD
BEGIN:DAYLIGHT
TZOFFSETFROM:-0500
TZOFFSETTO:-0400
TZNAME:EDT
DTSTART:20260308T070000
END:DAYLIGHT
BEGIN:STANDARD
TZOFFSETFROM:-0400
TZOFFSETTO:-0500
TZNAME:EST
DTSTART:20261101T060000
END:STANDARD
END:VTIMEZONE
BEGIN:VEVENT
DTSTART;TZID=America/New_York:20250707T070000
DTEND;TZID=America/New_York:20250707T080000
DTSTAMP:20260420T002005
CREATED:20230815T165229Z
LAST-MODIFIED:20240829T191002Z
UID:10005399-1751871600-1751875200@adathisraelnj.org
SUMMARY:Morning Minyan
DESCRIPTION:Attend in-person or contact the Adath Israel Office 609-896-4977 for the Zoom login information\nTo download Siddur Sim Shalom: https://www.rabbinicalassembly.org/webform/form-download-e-siddur
URL:https://adathisraelnj.org/event/morning-minyan-400/2025-07-07/
CATEGORIES:Worship
END:VEVENT
BEGIN:VEVENT
DTSTART;TZID=America/New_York:20250705T093000
DTEND;TZID=America/New_York:20250705T123000
DTSTAMP:20260420T002005
CREATED:20230815T165551Z
LAST-MODIFIED:20240829T144153Z
UID:10003045-1751707800-1751718600@adathisraelnj.org
SUMMARY:Shabbat Morning Service
DESCRIPTION:Contact the Adath Israel Office 609-896-4977 for the Zoom login information or if you’d like to attend in person.\n\n\n\nJoin us for a Shabbat Morning Service and interactive teaching led by Rabbi Adler and Hazzan Katlin. The siddur can be downloaded at: https://www.rabbinicalassembly.org/form-download-e-siddur-
URL:https://adathisraelnj.org/event/shabbat-morning-service-140/2025-07-05/
CATEGORIES:Worship
END:VEVENT
BEGIN:VEVENT
DTSTART;TZID=America/New_York:20250704T193000
DTEND;TZID=America/New_York:20250704T210000
DTSTAMP:20260420T002005
CREATED:20241210T163935Z
LAST-MODIFIED:20250501T174338Z
UID:10002287-1751657400-1751662800@adathisraelnj.org
SUMMARY:Shabbat Evening Service
DESCRIPTION:Attend in-person or contact the Adath Israel Office 609-896-4977 for the Zoom login information. \nJoin us for a Kabbalat Shabbat Service and interactive teaching led by Rabbi Adler and Hazzan Katlin. So that we can all literally be on the same page (or screen)\, we will be using the Kabbalat Shabbat and Shabbat Evening Service in the Sim Shalom for Shabbat and Festivals\, which can be downloaded at: https://www.rabbinicalassembly.org/form-download-e-siddur-
URL:https://adathisraelnj.org/event/shabbat-evening-service-110-16/2025-07-04/
CATEGORIES:Worship
END:VEVENT
BEGIN:VEVENT
DTSTART;TZID=America/New_York:20250703T070000
DTEND;TZID=America/New_York:20250703T080000
DTSTAMP:20260420T002005
CREATED:20230815T165229Z
LAST-MODIFIED:20240829T191002Z
UID:10005398-1751526000-1751529600@adathisraelnj.org
SUMMARY:Morning Minyan
DESCRIPTION:Attend in-person or contact the Adath Israel Office 609-896-4977 for the Zoom login information\nTo download Siddur Sim Shalom: https://www.rabbinicalassembly.org/webform/form-download-e-siddur
URL:https://adathisraelnj.org/event/morning-minyan-400/2025-07-03/
CATEGORIES:Worship
END:VEVENT
BEGIN:VEVENT
DTSTART;TZID=America/New_York:20250630T070000
DTEND;TZID=America/New_York:20250630T080000
DTSTAMP:20260420T002005
CREATED:20230815T165229Z
LAST-MODIFIED:20240829T191002Z
UID:10005397-1751266800-1751270400@adathisraelnj.org
SUMMARY:Morning Minyan
DESCRIPTION:Attend in-person or contact the Adath Israel Office 609-896-4977 for the Zoom login information\nTo download Siddur Sim Shalom: https://www.rabbinicalassembly.org/webform/form-download-e-siddur
URL:https://adathisraelnj.org/event/morning-minyan-400/2025-06-30/
CATEGORIES:Worship
END:VEVENT
BEGIN:VEVENT
DTSTART;TZID=America/New_York:20250628T101500
DTEND;TZID=America/New_York:20250628T104500
DTSTAMP:20260420T002005
CREATED:20240620T193340Z
LAST-MODIFIED:20240723T184110Z
UID:10005159-1751105700-1751107500@adathisraelnj.org
SUMMARY:Torah Talk with Rabbi Adler
DESCRIPTION:
URL:https://adathisraelnj.org/event/torah-talk-3/2025-06-28/
CATEGORIES:Worship
END:VEVENT
BEGIN:VEVENT
DTSTART;TZID=America/New_York:20250628T093000
DTEND;TZID=America/New_York:20250628T123000
DTSTAMP:20260420T002005
CREATED:20230815T165551Z
LAST-MODIFIED:20240829T144153Z
UID:10003044-1751103000-1751113800@adathisraelnj.org
SUMMARY:Shabbat Morning Service
DESCRIPTION:Contact the Adath Israel Office 609-896-4977 for the Zoom login information or if you’d like to attend in person.\n\n\n\nJoin us for a Shabbat Morning Service and interactive teaching led by Rabbi Adler and Hazzan Katlin. The siddur can be downloaded at: https://www.rabbinicalassembly.org/form-download-e-siddur-
URL:https://adathisraelnj.org/event/shabbat-morning-service-140/2025-06-28/
CATEGORIES:Worship
END:VEVENT
BEGIN:VEVENT
DTSTART;TZID=America/New_York:20250627T193000
DTEND;TZID=America/New_York:20250627T210000
DTSTAMP:20260420T002005
CREATED:20241210T163935Z
LAST-MODIFIED:20250501T174338Z
UID:10002286-1751052600-1751058000@adathisraelnj.org
SUMMARY:Shabbat Evening Service
DESCRIPTION:Attend in-person or contact the Adath Israel Office 609-896-4977 for the Zoom login information. \nJoin us for a Kabbalat Shabbat Service and interactive teaching led by Rabbi Adler and Hazzan Katlin. So that we can all literally be on the same page (or screen)\, we will be using the Kabbalat Shabbat and Shabbat Evening Service in the Sim Shalom for Shabbat and Festivals\, which can be downloaded at: https://www.rabbinicalassembly.org/form-download-e-siddur-
URL:https://adathisraelnj.org/event/shabbat-evening-service-110-16/2025-06-27/
CATEGORIES:Worship
END:VEVENT
BEGIN:VEVENT
DTSTART;TZID=America/New_York:20250626T070000
DTEND;TZID=America/New_York:20250626T080000
DTSTAMP:20260420T002005
CREATED:20230815T165229Z
LAST-MODIFIED:20240829T191002Z
UID:10005396-1750921200-1750924800@adathisraelnj.org
SUMMARY:Morning Minyan
DESCRIPTION:Attend in-person or contact the Adath Israel Office 609-896-4977 for the Zoom login information\nTo download Siddur Sim Shalom: https://www.rabbinicalassembly.org/webform/form-download-e-siddur
URL:https://adathisraelnj.org/event/morning-minyan-400/2025-06-26/
CATEGORIES:Worship
END:VEVENT
BEGIN:VEVENT
DTSTART;TZID=America/New_York:20250623T070000
DTEND;TZID=America/New_York:20250623T080000
DTSTAMP:20260420T002005
CREATED:20230815T165229Z
LAST-MODIFIED:20240829T191002Z
UID:10005395-1750662000-1750665600@adathisraelnj.org
SUMMARY:Morning Minyan
DESCRIPTION:Attend in-person or contact the Adath Israel Office 609-896-4977 for the Zoom login information\nTo download Siddur Sim Shalom: https://www.rabbinicalassembly.org/webform/form-download-e-siddur
URL:https://adathisraelnj.org/event/morning-minyan-400/2025-06-23/
CATEGORIES:Worship
END:VEVENT
BEGIN:VEVENT
DTSTART;TZID=America/New_York:20250621T093000
DTEND;TZID=America/New_York:20250621T123000
DTSTAMP:20260420T002005
CREATED:20230815T165551Z
LAST-MODIFIED:20240829T144153Z
UID:10003043-1750498200-1750509000@adathisraelnj.org
SUMMARY:Shabbat Morning Service
DESCRIPTION:Contact the Adath Israel Office 609-896-4977 for the Zoom login information or if you’d like to attend in person.\n\n\n\nJoin us for a Shabbat Morning Service and interactive teaching led by Rabbi Adler and Hazzan Katlin. The siddur can be downloaded at: https://www.rabbinicalassembly.org/form-download-e-siddur-
URL:https://adathisraelnj.org/event/shabbat-morning-service-140/2025-06-21/
CATEGORIES:Worship
END:VEVENT
BEGIN:VEVENT
DTSTART;TZID=America/New_York:20250620T193000
DTEND;TZID=America/New_York:20250620T210000
DTSTAMP:20260420T002005
CREATED:20241210T163935Z
LAST-MODIFIED:20250501T174338Z
UID:10002285-1750447800-1750453200@adathisraelnj.org
SUMMARY:Shabbat Evening Service
DESCRIPTION:Attend in-person or contact the Adath Israel Office 609-896-4977 for the Zoom login information. \nJoin us for a Kabbalat Shabbat Service and interactive teaching led by Rabbi Adler and Hazzan Katlin. So that we can all literally be on the same page (or screen)\, we will be using the Kabbalat Shabbat and Shabbat Evening Service in the Sim Shalom for Shabbat and Festivals\, which can be downloaded at: https://www.rabbinicalassembly.org/form-download-e-siddur-
URL:https://adathisraelnj.org/event/shabbat-evening-service-110-16/2025-06-20/
CATEGORIES:Worship
END:VEVENT
BEGIN:VEVENT
DTSTART;TZID=America/New_York:20250619T070000
DTEND;TZID=America/New_York:20250619T080000
DTSTAMP:20260420T002005
CREATED:20230815T165229Z
LAST-MODIFIED:20240829T191002Z
UID:10005394-1750316400-1750320000@adathisraelnj.org
SUMMARY:Morning Minyan
DESCRIPTION:Attend in-person or contact the Adath Israel Office 609-896-4977 for the Zoom login information\nTo download Siddur Sim Shalom: https://www.rabbinicalassembly.org/webform/form-download-e-siddur
URL:https://adathisraelnj.org/event/morning-minyan-400/2025-06-19/
CATEGORIES:Worship
END:VEVENT
BEGIN:VEVENT
DTSTART;TZID=America/New_York:20250616T070000
DTEND;TZID=America/New_York:20250616T080000
DTSTAMP:20260420T002005
CREATED:20230815T165229Z
LAST-MODIFIED:20240829T191002Z
UID:10005393-1750057200-1750060800@adathisraelnj.org
SUMMARY:Morning Minyan
DESCRIPTION:Attend in-person or contact the Adath Israel Office 609-896-4977 for the Zoom login information\nTo download Siddur Sim Shalom: https://www.rabbinicalassembly.org/webform/form-download-e-siddur
URL:https://adathisraelnj.org/event/morning-minyan-400/2025-06-16/
CATEGORIES:Worship
END:VEVENT
BEGIN:VEVENT
DTSTART;TZID=America/New_York:20250614T170000
DTEND;TZID=America/New_York:20250614T170000
DTSTAMP:20260420T002005
CREATED:20240723T165557Z
LAST-MODIFIED:20240723T182131Z
UID:10005139-1749920400-1749920400@adathisraelnj.org
SUMMARY:Shabbat Lunch
DESCRIPTION:
URL:https://adathisraelnj.org/event/shabbat-lunch-3/2025-06-14/
CATEGORIES:General,Worship
END:VEVENT
BEGIN:VEVENT
DTSTART;TZID=America/New_York:20250614T093000
DTEND;TZID=America/New_York:20250614T123000
DTSTAMP:20260420T002005
CREATED:20230815T165551Z
LAST-MODIFIED:20240829T144153Z
UID:10003042-1749893400-1749904200@adathisraelnj.org
SUMMARY:Shabbat Morning Service
DESCRIPTION:Contact the Adath Israel Office 609-896-4977 for the Zoom login information or if you’d like to attend in person.\n\n\n\nJoin us for a Shabbat Morning Service and interactive teaching led by Rabbi Adler and Hazzan Katlin. The siddur can be downloaded at: https://www.rabbinicalassembly.org/form-download-e-siddur-
URL:https://adathisraelnj.org/event/shabbat-morning-service-140/2025-06-14/
CATEGORIES:Worship
END:VEVENT
BEGIN:VEVENT
DTSTART;TZID=America/New_York:20250613T193000
DTEND;TZID=America/New_York:20250613T210000
DTSTAMP:20260420T002005
CREATED:20241210T163935Z
LAST-MODIFIED:20250501T174338Z
UID:10002284-1749843000-1749848400@adathisraelnj.org
SUMMARY:Shabbat Evening Service
DESCRIPTION:Attend in-person or contact the Adath Israel Office 609-896-4977 for the Zoom login information. \nJoin us for a Kabbalat Shabbat Service and interactive teaching led by Rabbi Adler and Hazzan Katlin. So that we can all literally be on the same page (or screen)\, we will be using the Kabbalat Shabbat and Shabbat Evening Service in the Sim Shalom for Shabbat and Festivals\, which can be downloaded at: https://www.rabbinicalassembly.org/form-download-e-siddur-
URL:https://adathisraelnj.org/event/shabbat-evening-service-110-16/2025-06-13/
CATEGORIES:Worship
END:VEVENT
BEGIN:VEVENT
DTSTART;TZID=America/New_York:20250612T070000
DTEND;TZID=America/New_York:20250612T080000
DTSTAMP:20260420T002005
CREATED:20230815T165229Z
LAST-MODIFIED:20240829T191002Z
UID:10005392-1749711600-1749715200@adathisraelnj.org
SUMMARY:Morning Minyan
DESCRIPTION:Attend in-person or contact the Adath Israel Office 609-896-4977 for the Zoom login information\nTo download Siddur Sim Shalom: https://www.rabbinicalassembly.org/webform/form-download-e-siddur
URL:https://adathisraelnj.org/event/morning-minyan-400/2025-06-12/
CATEGORIES:Worship
END:VEVENT
BEGIN:VEVENT
DTSTART;TZID=America/New_York:20250609T070000
DTEND;TZID=America/New_York:20250609T080000
DTSTAMP:20260420T002005
CREATED:20230815T165229Z
LAST-MODIFIED:20240829T191002Z
UID:10005391-1749452400-1749456000@adathisraelnj.org
SUMMARY:Morning Minyan
DESCRIPTION:Attend in-person or contact the Adath Israel Office 609-896-4977 for the Zoom login information\nTo download Siddur Sim Shalom: https://www.rabbinicalassembly.org/webform/form-download-e-siddur
URL:https://adathisraelnj.org/event/morning-minyan-400/2025-06-09/
CATEGORIES:Worship
END:VEVENT
BEGIN:VEVENT
DTSTART;TZID=America/New_York:20250607T093000
DTEND;TZID=America/New_York:20250607T123000
DTSTAMP:20260420T002005
CREATED:20230815T165551Z
LAST-MODIFIED:20240829T144153Z
UID:10003041-1749288600-1749299400@adathisraelnj.org
SUMMARY:Shabbat Morning Service
DESCRIPTION:Contact the Adath Israel Office 609-896-4977 for the Zoom login information or if you’d like to attend in person.\n\n\n\nJoin us for a Shabbat Morning Service and interactive teaching led by Rabbi Adler and Hazzan Katlin. The siddur can be downloaded at: https://www.rabbinicalassembly.org/form-download-e-siddur-
URL:https://adathisraelnj.org/event/shabbat-morning-service-140/2025-06-07/
CATEGORIES:Worship
END:VEVENT
BEGIN:VEVENT
DTSTART;TZID=America/New_York:20250606T193000
DTEND;TZID=America/New_York:20250606T210000
DTSTAMP:20260420T002005
CREATED:20241210T163935Z
LAST-MODIFIED:20250501T174338Z
UID:10002283-1749238200-1749243600@adathisraelnj.org
SUMMARY:Shabbat Evening Service
DESCRIPTION:Attend in-person or contact the Adath Israel Office 609-896-4977 for the Zoom login information. \nJoin us for a Kabbalat Shabbat Service and interactive teaching led by Rabbi Adler and Hazzan Katlin. So that we can all literally be on the same page (or screen)\, we will be using the Kabbalat Shabbat and Shabbat Evening Service in the Sim Shalom for Shabbat and Festivals\, which can be downloaded at: https://www.rabbinicalassembly.org/form-download-e-siddur-
URL:https://adathisraelnj.org/event/shabbat-evening-service-110-16/2025-06-06/
CATEGORIES:Worship
END:VEVENT
BEGIN:VEVENT
DTSTART;TZID=America/New_York:20250605T070000
DTEND;TZID=America/New_York:20250605T080000
DTSTAMP:20260420T002005
CREATED:20230815T165229Z
LAST-MODIFIED:20240829T191002Z
UID:10005390-1749106800-1749110400@adathisraelnj.org
SUMMARY:Morning Minyan
DESCRIPTION:Attend in-person or contact the Adath Israel Office 609-896-4977 for the Zoom login information\nTo download Siddur Sim Shalom: https://www.rabbinicalassembly.org/webform/form-download-e-siddur
URL:https://adathisraelnj.org/event/morning-minyan-400/2025-06-05/
CATEGORIES:Worship
END:VEVENT
BEGIN:VEVENT
DTSTART;TZID=America/New_York:20250602T070000
DTEND;TZID=America/New_York:20250602T080000
DTSTAMP:20260420T002005
CREATED:20230815T165229Z
LAST-MODIFIED:20240829T191002Z
UID:10005389-1748847600-1748851200@adathisraelnj.org
SUMMARY:Morning Minyan
DESCRIPTION:Attend in-person or contact the Adath Israel Office 609-896-4977 for the Zoom login information\nTo download Siddur Sim Shalom: https://www.rabbinicalassembly.org/webform/form-download-e-siddur
URL:https://adathisraelnj.org/event/morning-minyan-400/2025-06-02/
CATEGORIES:Worship
END:VEVENT
BEGIN:VEVENT
DTSTART;TZID=America/New_York:20250531T093000
DTEND;TZID=America/New_York:20250531T123000
DTSTAMP:20260420T002005
CREATED:20230815T165551Z
LAST-MODIFIED:20240829T144153Z
UID:10003040-1748683800-1748694600@adathisraelnj.org
SUMMARY:Shabbat Morning Service
DESCRIPTION:Contact the Adath Israel Office 609-896-4977 for the Zoom login information or if you’d like to attend in person.\n\n\n\nJoin us for a Shabbat Morning Service and interactive teaching led by Rabbi Adler and Hazzan Katlin. The siddur can be downloaded at: https://www.rabbinicalassembly.org/form-download-e-siddur-
URL:https://adathisraelnj.org/event/shabbat-morning-service-140/2025-05-31/
CATEGORIES:Worship
END:VEVENT
BEGIN:VEVENT
DTSTART;TZID=America/New_York:20250530T193000
DTEND;TZID=America/New_York:20250530T210000
DTSTAMP:20260420T002005
CREATED:20241210T163935Z
LAST-MODIFIED:20250501T174338Z
UID:10002282-1748633400-1748638800@adathisraelnj.org
SUMMARY:Shabbat Evening Service
DESCRIPTION:Attend in-person or contact the Adath Israel Office 609-896-4977 for the Zoom login information. \nJoin us for a Kabbalat Shabbat Service and interactive teaching led by Rabbi Adler and Hazzan Katlin. So that we can all literally be on the same page (or screen)\, we will be using the Kabbalat Shabbat and Shabbat Evening Service in the Sim Shalom for Shabbat and Festivals\, which can be downloaded at: https://www.rabbinicalassembly.org/form-download-e-siddur-
URL:https://adathisraelnj.org/event/shabbat-evening-service-110-16/2025-05-30/
CATEGORIES:Worship
END:VEVENT
BEGIN:VEVENT
DTSTART;TZID=America/New_York:20250529T070000
DTEND;TZID=America/New_York:20250529T080000
DTSTAMP:20260420T002005
CREATED:20230815T165229Z
LAST-MODIFIED:20240829T191002Z
UID:10005388-1748502000-1748505600@adathisraelnj.org
SUMMARY:Morning Minyan
DESCRIPTION:Attend in-person or contact the Adath Israel Office 609-896-4977 for the Zoom login information\nTo download Siddur Sim Shalom: https://www.rabbinicalassembly.org/webform/form-download-e-siddur
URL:https://adathisraelnj.org/event/morning-minyan-400/2025-05-29/
CATEGORIES:Worship
END:VEVENT
BEGIN:VEVENT
DTSTART;TZID=America/New_York:20250526T070000
DTEND;TZID=America/New_York:20250526T080000
DTSTAMP:20260420T002005
CREATED:20230815T165229Z
LAST-MODIFIED:20240829T191002Z
UID:10005387-1748242800-1748246400@adathisraelnj.org
SUMMARY:Morning Minyan
DESCRIPTION:Attend in-person or contact the Adath Israel Office 609-896-4977 for the Zoom login information\nTo download Siddur Sim Shalom: https://www.rabbinicalassembly.org/webform/form-download-e-siddur
URL:https://adathisraelnj.org/event/morning-minyan-400/2025-05-26/
CATEGORIES:Worship
END:VEVENT
BEGIN:VEVENT
DTSTART;TZID=America/New_York:20250524T101500
DTEND;TZID=America/New_York:20250524T104500
DTSTAMP:20260420T002005
CREATED:20240620T193340Z
LAST-MODIFIED:20240723T184110Z
UID:10005158-1748081700-1748083500@adathisraelnj.org
SUMMARY:Torah Talk with Rabbi Adler
DESCRIPTION:
URL:https://adathisraelnj.org/event/torah-talk-3/2025-05-24/
CATEGORIES:Worship
END:VEVENT
BEGIN:VEVENT
DTSTART;TZID=America/New_York:20250524T093000
DTEND;TZID=America/New_York:20250524T123000
DTSTAMP:20260420T002005
CREATED:20230815T165551Z
LAST-MODIFIED:20240829T144153Z
UID:10003039-1748079000-1748089800@adathisraelnj.org
SUMMARY:Shabbat Morning Service
DESCRIPTION:Contact the Adath Israel Office 609-896-4977 for the Zoom login information or if you’d like to attend in person.\n\n\n\nJoin us for a Shabbat Morning Service and interactive teaching led by Rabbi Adler and Hazzan Katlin. The siddur can be downloaded at: https://www.rabbinicalassembly.org/form-download-e-siddur-
URL:https://adathisraelnj.org/event/shabbat-morning-service-140/2025-05-24/
CATEGORIES:Worship
END:VEVENT
BEGIN:VEVENT
DTSTART;TZID=America/New_York:20250523T193000
DTEND;TZID=America/New_York:20250523T210000
DTSTAMP:20260420T002005
CREATED:20241210T163935Z
LAST-MODIFIED:20250501T174338Z
UID:10002281-1748028600-1748034000@adathisraelnj.org
SUMMARY:Shabbat Evening Service
DESCRIPTION:Attend in-person or contact the Adath Israel Office 609-896-4977 for the Zoom login information. \nJoin us for a Kabbalat Shabbat Service and interactive teaching led by Rabbi Adler and Hazzan Katlin. So that we can all literally be on the same page (or screen)\, we will be using the Kabbalat Shabbat and Shabbat Evening Service in the Sim Shalom for Shabbat and Festivals\, which can be downloaded at: https://www.rabbinicalassembly.org/form-download-e-siddur-
URL:https://adathisraelnj.org/event/shabbat-evening-service-110-16/2025-05-23/
CATEGORIES:Worship
END:VEVENT
END:VCALENDAR