BEGIN:VCALENDAR
VERSION:2.0
PRODID:-//Adath Israel Congregation - ECPv6.15.12.2//NONSGML v1.0//EN
CALSCALE:GREGORIAN
METHOD:PUBLISH
X-ORIGINAL-URL:https://adathisraelnj.org
X-WR-CALDESC:Events for Adath Israel Congregation
REFRESH-INTERVAL;VALUE=DURATION:PT1H
X-Robots-Tag:noindex
X-PUBLISHED-TTL:PT1H
BEGIN:VTIMEZONE
TZID:America/New_York
BEGIN:DAYLIGHT
TZOFFSETFROM:-0500
TZOFFSETTO:-0400
TZNAME:EDT
DTSTART:20230312T070000
END:DAYLIGHT
BEGIN:STANDARD
TZOFFSETFROM:-0400
TZOFFSETTO:-0500
TZNAME:EST
DTSTART:20231105T060000
END:STANDARD
BEGIN:DAYLIGHT
TZOFFSETFROM:-0500
TZOFFSETTO:-0400
TZNAME:EDT
DTSTART:20240310T070000
END:DAYLIGHT
BEGIN:STANDARD
TZOFFSETFROM:-0400
TZOFFSETTO:-0500
TZNAME:EST
DTSTART:20241103T060000
END:STANDARD
BEGIN:DAYLIGHT
TZOFFSETFROM:-0500
TZOFFSETTO:-0400
TZNAME:EDT
DTSTART:20250309T070000
END:DAYLIGHT
BEGIN:STANDARD
TZOFFSETFROM:-0400
TZOFFSETTO:-0500
TZNAME:EST
DTSTART:20251102T060000
END:STANDARD
END:VTIMEZONE
BEGIN:VEVENT
DTSTART;TZID=America/New_York:20241018T090000
DTEND;TZID=America/New_York:20241018T120000
DTSTAMP:20260421T220344
CREATED:20240829T191305Z
LAST-MODIFIED:20240829T191319Z
UID:10006048-1729242000-1729252800@adathisraelnj.org
SUMMARY:Sukkot Second Day Service
DESCRIPTION:Morning Service 9:30 am
URL:https://adathisraelnj.org/event/sukkot-second-day-service/
CATEGORIES:Worship
END:VEVENT
BEGIN:VEVENT
DTSTART;TZID=America/New_York:20241017T070000
DTEND;TZID=America/New_York:20241017T100000
DTSTAMP:20260421T220344
CREATED:20240829T191153Z
LAST-MODIFIED:20240829T191153Z
UID:10006047-1729148400-1729159200@adathisraelnj.org
SUMMARY:Sukkot First Day morning service
DESCRIPTION:Morning Service 7 am \nBreakfast and Torah Study in the Sukkah 9 am
URL:https://adathisraelnj.org/event/sukkot-first-day-morning-service/
CATEGORIES:Worship
END:VEVENT
BEGIN:VEVENT
DTSTART;TZID=America/New_York:20241014T070000
DTEND;TZID=America/New_York:20241014T080000
DTSTAMP:20260421T220344
CREATED:20230815T165229Z
LAST-MODIFIED:20240829T191002Z
UID:10005323-1728889200-1728892800@adathisraelnj.org
SUMMARY:Morning Minyan
DESCRIPTION:Attend in-person or contact the Adath Israel Office 609-896-4977 for the Zoom login information\nTo download Siddur Sim Shalom: https://www.rabbinicalassembly.org/webform/form-download-e-siddur
URL:https://adathisraelnj.org/event/morning-minyan-400/2024-10-14/
CATEGORIES:Worship
END:VEVENT
BEGIN:VEVENT
DTSTART;TZID=America/New_York:20241012T153000
DTEND;TZID=America/New_York:20241012T190000
DTSTAMP:20260421T220344
CREATED:20240829T144035Z
LAST-MODIFIED:20240829T144035Z
UID:10006040-1728747000-1728759600@adathisraelnj.org
SUMMARY:Yom Kippur Afternoon/Evening Service
DESCRIPTION:Study Session with Rabbi Adler 3:15 PM\nMincha 4:15 PM\nNe’ilah and Ma’ariv 5:45 PM\nFinal Shofar/Fast Ends 7:06 PM
URL:https://adathisraelnj.org/event/yom-kippur-afternoon-evening-service/
CATEGORIES:High Holidays,Worship
END:VEVENT
BEGIN:VEVENT
DTSTART;TZID=America/New_York:20241012T090000
DTEND;TZID=America/New_York:20241012T140000
DTSTAMP:20260421T220344
CREATED:20240829T143850Z
LAST-MODIFIED:20240829T143850Z
UID:10006039-1728723600-1728741600@adathisraelnj.org
SUMMARY:Yom Kippur Morning Services with Yizkor
DESCRIPTION:Morning Service  9:00 AM\nTorah Service (Approximately) 10:45 AM\nJunior Congregation 11:45 AM – 1:30 PM\nSermon (Approximately) 1:15 PM\nYizkor (Approximately) 1:30 PM
URL:https://adathisraelnj.org/event/yom-kippur-morning-services-with-yizkor/
CATEGORIES:High Holidays,Worship
END:VEVENT
BEGIN:VEVENT
DTSTART;TZID=America/New_York:20241011T180000
DTEND;TZID=America/New_York:20241011T210000
DTSTAMP:20260421T220344
CREATED:20240829T143432Z
LAST-MODIFIED:20240829T143432Z
UID:10006038-1728669600-1728680400@adathisraelnj.org
SUMMARY:Kol Nidre Services
DESCRIPTION:Erev Yom Kippur services.
URL:https://adathisraelnj.org/event/kol-nidre-services/
CATEGORIES:High Holidays,Worship
END:VEVENT
BEGIN:VEVENT
DTSTART;TZID=America/New_York:20241010T070000
DTEND;TZID=America/New_York:20241010T080000
DTSTAMP:20260421T220344
CREATED:20230815T165229Z
LAST-MODIFIED:20240829T191002Z
UID:10005322-1728543600-1728547200@adathisraelnj.org
SUMMARY:Morning Minyan
DESCRIPTION:Attend in-person or contact the Adath Israel Office 609-896-4977 for the Zoom login information\nTo download Siddur Sim Shalom: https://www.rabbinicalassembly.org/webform/form-download-e-siddur
URL:https://adathisraelnj.org/event/morning-minyan-400/2024-10-10/
CATEGORIES:Worship
END:VEVENT
BEGIN:VEVENT
DTSTART;TZID=America/New_York:20241007T070000
DTEND;TZID=America/New_York:20241007T080000
DTSTAMP:20260421T220344
CREATED:20230815T165229Z
LAST-MODIFIED:20240829T191002Z
UID:10005321-1728284400-1728288000@adathisraelnj.org
SUMMARY:Morning Minyan
DESCRIPTION:Attend in-person or contact the Adath Israel Office 609-896-4977 for the Zoom login information\nTo download Siddur Sim Shalom: https://www.rabbinicalassembly.org/webform/form-download-e-siddur
URL:https://adathisraelnj.org/event/morning-minyan-400/2024-10-07/
CATEGORIES:Worship
END:VEVENT
BEGIN:VEVENT
DTSTART;TZID=America/New_York:20241005T093000
DTEND;TZID=America/New_York:20241005T123000
DTSTAMP:20260421T220344
CREATED:20230815T165551Z
LAST-MODIFIED:20240829T144153Z
UID:10003006-1728120600-1728131400@adathisraelnj.org
SUMMARY:Shabbat Morning Service
DESCRIPTION:Contact the Adath Israel Office 609-896-4977 for the Zoom login information or if you’d like to attend in person.\n\n\n\nJoin us for a Shabbat Morning Service and interactive teaching led by Rabbi Adler and Hazzan Katlin. The siddur can be downloaded at: https://www.rabbinicalassembly.org/form-download-e-siddur-
URL:https://adathisraelnj.org/event/shabbat-morning-service-140/2024-10-05/
CATEGORIES:Worship
END:VEVENT
BEGIN:VEVENT
DTSTART;TZID=America/New_York:20241004T193000
DTEND;TZID=America/New_York:20241004T210000
DTSTAMP:20260421T220344
CREATED:20230815T164728Z
LAST-MODIFIED:20241210T164116Z
UID:10002248-1728070200-1728075600@adathisraelnj.org
SUMMARY:Shabbat Evening Service
DESCRIPTION:Attend in-person or contact the Adath Israel Office 609-896-4977 for the Zoom login information. \nJoin us for a Kabbalat Shabbat Service and interactive teaching led by Rabbi Adler and Hazzan Katlin. So that we can all literally be on the same page (or screen)\, we will be using the Kabbalat Shabbat and Shabbat Evening Service in the Sim Shalom for Shabbat and Festivals\, which can be downloaded at: https://www.rabbinicalassembly.org/form-download-e-siddur-
URL:https://adathisraelnj.org/event/shabbat-evening-service-110/2024-10-04/
CATEGORIES:Worship
END:VEVENT
BEGIN:VEVENT
DTSTART;TZID=America/New_York:20241004T083000
DTEND;TZID=America/New_York:20241004T130000
DTSTAMP:20260421T220344
CREATED:20240829T141827Z
LAST-MODIFIED:20240829T141827Z
UID:10005834-1728030600-1728046800@adathisraelnj.org
SUMMARY:Services Second Day Rosh Hashana
DESCRIPTION:Morning Service 8:30 AM\nTorah Service and Sermon (Approximately) 10:00 AM – 12:30 PM\nJunior Congregation 11:15 AM – 12:45 PM
URL:https://adathisraelnj.org/event/services-second-day-rosh-hashana/
CATEGORIES:High Holidays,Worship
END:VEVENT
BEGIN:VEVENT
DTSTART;TZID=America/New_York:20241003T193000
DTEND;TZID=America/New_York:20241003T210000
DTSTAMP:20260421T220344
CREATED:20240829T141702Z
LAST-MODIFIED:20240829T141702Z
UID:10005833-1727983800-1727989200@adathisraelnj.org
SUMMARY:First Day Rosh Hashana Evening Service
DESCRIPTION:Evening Services on First Day Rosh Hashana
URL:https://adathisraelnj.org/event/first-day-rosh-hashana-evening-service-2/
CATEGORIES:High Holidays,Worship
END:VEVENT
BEGIN:VEVENT
DTSTART;TZID=America/New_York:20241003T080000
DTEND;TZID=America/New_York:20241003T140000
DTSTAMP:20260421T220344
CREATED:20240829T141541Z
LAST-MODIFIED:20240829T141541Z
UID:10005832-1727942400-1727964000@adathisraelnj.org
SUMMARY:First Day Rosh Hashana Services
DESCRIPTION:Morning Service 8:30 AM\nTorah Service and Sermon (Approximately)10:00 AM – 12:30 PM\nJunior Congregation 11:15 AM – 12:45 PM\nTashlich 1:15 PM
URL:https://adathisraelnj.org/event/first-day-rosh-hashana-services/
CATEGORIES:High Holidays,Worship
END:VEVENT
BEGIN:VEVENT
DTSTART;TZID=America/New_York:20241003T070000
DTEND;TZID=America/New_York:20241003T080000
DTSTAMP:20260421T220344
CREATED:20230815T165229Z
LAST-MODIFIED:20240829T191002Z
UID:10006046-1727938800-1727942400@adathisraelnj.org
SUMMARY:Morning Minyan
DESCRIPTION:Attend in-person or contact the Adath Israel Office 609-896-4977 for the Zoom login information\nTo download Siddur Sim Shalom: https://www.rabbinicalassembly.org/webform/form-download-e-siddur
URL:https://adathisraelnj.org/event/morning-minyan-400/2024-10-03/
CATEGORIES:Worship
END:VEVENT
BEGIN:VEVENT
DTSTART;TZID=America/New_York:20241002T193000
DTEND;TZID=America/New_York:20241002T210000
DTSTAMP:20260421T220344
CREATED:20240829T141355Z
LAST-MODIFIED:20240829T141355Z
UID:10005831-1727897400-1727902800@adathisraelnj.org
SUMMARY:Erev Rosh Hashana Service
DESCRIPTION:Services for Erev Rosh Hashana
URL:https://adathisraelnj.org/event/erev-rosh-hashana-service-2/
CATEGORIES:High Holidays,Worship
END:VEVENT
BEGIN:VEVENT
DTSTART;TZID=America/New_York:20240930T070000
DTEND;TZID=America/New_York:20240930T080000
DTSTAMP:20260421T220344
CREATED:20230815T165229Z
LAST-MODIFIED:20240829T191002Z
UID:10005319-1727679600-1727683200@adathisraelnj.org
SUMMARY:Morning Minyan
DESCRIPTION:Attend in-person or contact the Adath Israel Office 609-896-4977 for the Zoom login information\nTo download Siddur Sim Shalom: https://www.rabbinicalassembly.org/webform/form-download-e-siddur
URL:https://adathisraelnj.org/event/morning-minyan-400/2024-09-30/
CATEGORIES:Worship
END:VEVENT
BEGIN:VEVENT
DTSTART;TZID=America/New_York:20240928T194500
DTEND;TZID=America/New_York:20240928T230000
DTSTAMP:20260421T220344
CREATED:20240829T140304Z
LAST-MODIFIED:20240829T140518Z
UID:10005830-1727552700-1727564400@adathisraelnj.org
SUMMARY:Slichot Evening Activities
DESCRIPTION:
URL:https://adathisraelnj.org/event/slichot-evening-activities/
LOCATION:The Jewish Center (Princeton)\, 435 Nassau St.\, Princeton\, NJ\, 08540
CATEGORIES:High Holidays,Worship
END:VEVENT
BEGIN:VEVENT
DTSTART;TZID=America/New_York:20240928T101500
DTEND;TZID=America/New_York:20240928T104500
DTSTAMP:20260421T220344
CREATED:20240620T193340Z
LAST-MODIFIED:20240723T184110Z
UID:10005152-1727518500-1727520300@adathisraelnj.org
SUMMARY:Torah Talk with Rabbi Adler
DESCRIPTION:
URL:https://adathisraelnj.org/event/torah-talk-3/2024-09-28/
CATEGORIES:Worship
END:VEVENT
BEGIN:VEVENT
DTSTART;TZID=America/New_York:20240928T093000
DTEND;TZID=America/New_York:20240928T123000
DTSTAMP:20260421T220344
CREATED:20230815T165551Z
LAST-MODIFIED:20240829T144153Z
UID:10003005-1727515800-1727526600@adathisraelnj.org
SUMMARY:Shabbat Morning Service
DESCRIPTION:Contact the Adath Israel Office 609-896-4977 for the Zoom login information or if you’d like to attend in person.\n\n\n\nJoin us for a Shabbat Morning Service and interactive teaching led by Rabbi Adler and Hazzan Katlin. The siddur can be downloaded at: https://www.rabbinicalassembly.org/form-download-e-siddur-
URL:https://adathisraelnj.org/event/shabbat-morning-service-140/2024-09-28/
CATEGORIES:Worship
END:VEVENT
BEGIN:VEVENT
DTSTART;TZID=America/New_York:20240927T193000
DTEND;TZID=America/New_York:20240927T210000
DTSTAMP:20260421T220344
CREATED:20230815T164728Z
LAST-MODIFIED:20241210T164116Z
UID:10002247-1727465400-1727470800@adathisraelnj.org
SUMMARY:Shabbat Evening Service
DESCRIPTION:Attend in-person or contact the Adath Israel Office 609-896-4977 for the Zoom login information. \nJoin us for a Kabbalat Shabbat Service and interactive teaching led by Rabbi Adler and Hazzan Katlin. So that we can all literally be on the same page (or screen)\, we will be using the Kabbalat Shabbat and Shabbat Evening Service in the Sim Shalom for Shabbat and Festivals\, which can be downloaded at: https://www.rabbinicalassembly.org/form-download-e-siddur-
URL:https://adathisraelnj.org/event/shabbat-evening-service-110/2024-09-27/
CATEGORIES:Worship
END:VEVENT
BEGIN:VEVENT
DTSTART;TZID=America/New_York:20240927T183000
DTEND;TZID=America/New_York:20240927T203000
DTSTAMP:20260421T220344
CREATED:20240821T182340Z
LAST-MODIFIED:20240821T182340Z
UID:10005829-1727461800-1727469000@adathisraelnj.org
SUMMARY:Shabbat in the Round
DESCRIPTION:
URL:https://adathisraelnj.org/event/shabbat-in-the-round-11/
CATEGORIES:Worship
END:VEVENT
BEGIN:VEVENT
DTSTART;TZID=America/New_York:20240926T070000
DTEND;TZID=America/New_York:20240926T080000
DTSTAMP:20260421T220344
CREATED:20230815T165229Z
LAST-MODIFIED:20240829T191002Z
UID:10005318-1727334000-1727337600@adathisraelnj.org
SUMMARY:Morning Minyan
DESCRIPTION:Attend in-person or contact the Adath Israel Office 609-896-4977 for the Zoom login information\nTo download Siddur Sim Shalom: https://www.rabbinicalassembly.org/webform/form-download-e-siddur
URL:https://adathisraelnj.org/event/morning-minyan-400/2024-09-26/
CATEGORIES:Worship
END:VEVENT
BEGIN:VEVENT
DTSTART;TZID=America/New_York:20240923T070000
DTEND;TZID=America/New_York:20240923T080000
DTSTAMP:20260421T220344
CREATED:20230815T165229Z
LAST-MODIFIED:20240829T191002Z
UID:10005317-1727074800-1727078400@adathisraelnj.org
SUMMARY:Morning Minyan
DESCRIPTION:Attend in-person or contact the Adath Israel Office 609-896-4977 for the Zoom login information\nTo download Siddur Sim Shalom: https://www.rabbinicalassembly.org/webform/form-download-e-siddur
URL:https://adathisraelnj.org/event/morning-minyan-400/2024-09-23/
CATEGORIES:Worship
END:VEVENT
BEGIN:VEVENT
DTSTART;TZID=America/New_York:20240921T093000
DTEND;TZID=America/New_York:20240921T123000
DTSTAMP:20260421T220344
CREATED:20230815T165551Z
LAST-MODIFIED:20240829T144153Z
UID:10003004-1726911000-1726921800@adathisraelnj.org
SUMMARY:Shabbat Morning Service
DESCRIPTION:Contact the Adath Israel Office 609-896-4977 for the Zoom login information or if you’d like to attend in person.\n\n\n\nJoin us for a Shabbat Morning Service and interactive teaching led by Rabbi Adler and Hazzan Katlin. The siddur can be downloaded at: https://www.rabbinicalassembly.org/form-download-e-siddur-
URL:https://adathisraelnj.org/event/shabbat-morning-service-140/2024-09-21/
CATEGORIES:Worship
END:VEVENT
BEGIN:VEVENT
DTSTART;TZID=America/New_York:20240920T193000
DTEND;TZID=America/New_York:20240920T210000
DTSTAMP:20260421T220344
CREATED:20230815T164728Z
LAST-MODIFIED:20241210T164116Z
UID:10002246-1726860600-1726866000@adathisraelnj.org
SUMMARY:Shabbat Evening Service
DESCRIPTION:Attend in-person or contact the Adath Israel Office 609-896-4977 for the Zoom login information. \nJoin us for a Kabbalat Shabbat Service and interactive teaching led by Rabbi Adler and Hazzan Katlin. So that we can all literally be on the same page (or screen)\, we will be using the Kabbalat Shabbat and Shabbat Evening Service in the Sim Shalom for Shabbat and Festivals\, which can be downloaded at: https://www.rabbinicalassembly.org/form-download-e-siddur-
URL:https://adathisraelnj.org/event/shabbat-evening-service-110/2024-09-20/
CATEGORIES:Worship
END:VEVENT
BEGIN:VEVENT
DTSTART;TZID=America/New_York:20240919T070000
DTEND;TZID=America/New_York:20240919T080000
DTSTAMP:20260421T220344
CREATED:20230815T165229Z
LAST-MODIFIED:20240829T191002Z
UID:10005316-1726729200-1726732800@adathisraelnj.org
SUMMARY:Morning Minyan
DESCRIPTION:Attend in-person or contact the Adath Israel Office 609-896-4977 for the Zoom login information\nTo download Siddur Sim Shalom: https://www.rabbinicalassembly.org/webform/form-download-e-siddur
URL:https://adathisraelnj.org/event/morning-minyan-400/2024-09-19/
CATEGORIES:Worship
END:VEVENT
BEGIN:VEVENT
DTSTART;TZID=America/New_York:20240916T070000
DTEND;TZID=America/New_York:20240916T080000
DTSTAMP:20260421T220344
CREATED:20230815T165229Z
LAST-MODIFIED:20240829T191002Z
UID:10005315-1726470000-1726473600@adathisraelnj.org
SUMMARY:Morning Minyan
DESCRIPTION:Attend in-person or contact the Adath Israel Office 609-896-4977 for the Zoom login information\nTo download Siddur Sim Shalom: https://www.rabbinicalassembly.org/webform/form-download-e-siddur
URL:https://adathisraelnj.org/event/morning-minyan-400/2024-09-16/
CATEGORIES:Worship
END:VEVENT
BEGIN:VEVENT
DTSTART;TZID=America/New_York:20240914T093000
DTEND;TZID=America/New_York:20240914T123000
DTSTAMP:20260421T220344
CREATED:20230815T165551Z
LAST-MODIFIED:20240829T144153Z
UID:10003003-1726306200-1726317000@adathisraelnj.org
SUMMARY:Shabbat Morning Service
DESCRIPTION:Contact the Adath Israel Office 609-896-4977 for the Zoom login information or if you’d like to attend in person.\n\n\n\nJoin us for a Shabbat Morning Service and interactive teaching led by Rabbi Adler and Hazzan Katlin. The siddur can be downloaded at: https://www.rabbinicalassembly.org/form-download-e-siddur-
URL:https://adathisraelnj.org/event/shabbat-morning-service-140/2024-09-14/
CATEGORIES:Worship
END:VEVENT
BEGIN:VEVENT
DTSTART;TZID=America/New_York:20240913T193000
DTEND;TZID=America/New_York:20240913T210000
DTSTAMP:20260421T220344
CREATED:20240913T144407Z
LAST-MODIFIED:20240913T144408Z
UID:10002245-1726255800-1726261200@adathisraelnj.org
SUMMARY:Instrumental Shabbat Evening Service
DESCRIPTION:Attend in-person or contact the Adath Israel Office 609-896-4977 for the Zoom login information. \nJoin us for a Kabbalat Shabbat Service and interactive teaching led by Rabbi Adler and Hazzan Katlin. So that we can all literally be on the same page (or screen)\, we will be using the Kabbalat Shabbat and Shabbat Evening Service in the Sim Shalom for Shabbat and Festivals\, which can be downloaded at: https://www.rabbinicalassembly.org/form-download-e-siddur-
URL:https://adathisraelnj.org/event/shabbat-evening-service-110-11/
CATEGORIES:Worship
END:VEVENT
BEGIN:VEVENT
DTSTART;TZID=America/New_York:20240912T070000
DTEND;TZID=America/New_York:20240912T080000
DTSTAMP:20260421T220344
CREATED:20230815T165229Z
LAST-MODIFIED:20240829T191002Z
UID:10005314-1726124400-1726128000@adathisraelnj.org
SUMMARY:Morning Minyan
DESCRIPTION:Attend in-person or contact the Adath Israel Office 609-896-4977 for the Zoom login information\nTo download Siddur Sim Shalom: https://www.rabbinicalassembly.org/webform/form-download-e-siddur
URL:https://adathisraelnj.org/event/morning-minyan-400/2024-09-12/
CATEGORIES:Worship
END:VEVENT
END:VCALENDAR