BEGIN:VCALENDAR
VERSION:2.0
PRODID:-//Adath Israel Congregation - ECPv6.15.12.2//NONSGML v1.0//EN
CALSCALE:GREGORIAN
METHOD:PUBLISH
X-WR-CALNAME:Adath Israel Congregation
X-ORIGINAL-URL:https://adathisraelnj.org
X-WR-CALDESC:Events for Adath Israel Congregation
REFRESH-INTERVAL;VALUE=DURATION:PT1H
X-Robots-Tag:noindex
X-PUBLISHED-TTL:PT1H
BEGIN:VTIMEZONE
TZID:America/New_York
BEGIN:DAYLIGHT
TZOFFSETFROM:-0500
TZOFFSETTO:-0400
TZNAME:EDT
DTSTART:20240310T070000
END:DAYLIGHT
BEGIN:STANDARD
TZOFFSETFROM:-0400
TZOFFSETTO:-0500
TZNAME:EST
DTSTART:20241103T060000
END:STANDARD
BEGIN:DAYLIGHT
TZOFFSETFROM:-0500
TZOFFSETTO:-0400
TZNAME:EDT
DTSTART:20250309T070000
END:DAYLIGHT
BEGIN:STANDARD
TZOFFSETFROM:-0400
TZOFFSETTO:-0500
TZNAME:EST
DTSTART:20251102T060000
END:STANDARD
BEGIN:DAYLIGHT
TZOFFSETFROM:-0500
TZOFFSETTO:-0400
TZNAME:EDT
DTSTART:20260308T070000
END:DAYLIGHT
BEGIN:STANDARD
TZOFFSETFROM:-0400
TZOFFSETTO:-0500
TZNAME:EST
DTSTART:20261101T060000
END:STANDARD
END:VTIMEZONE
BEGIN:VEVENT
DTSTART;TZID=America/New_York:20250814T070000
DTEND;TZID=America/New_York:20250814T080000
DTSTAMP:20260419T185451
CREATED:20230815T165229Z
LAST-MODIFIED:20240829T191002Z
UID:10005410-1755154800-1755158400@adathisraelnj.org
SUMMARY:Morning Minyan
DESCRIPTION:Attend in-person or contact the Adath Israel Office 609-896-4977 for the Zoom login information\nTo download Siddur Sim Shalom: https://www.rabbinicalassembly.org/webform/form-download-e-siddur
URL:https://adathisraelnj.org/event/morning-minyan-400/2025-08-14/
CATEGORIES:Worship
END:VEVENT
BEGIN:VEVENT
DTSTART;TZID=America/New_York:20250811T070000
DTEND;TZID=America/New_York:20250811T080000
DTSTAMP:20260419T185451
CREATED:20230815T165229Z
LAST-MODIFIED:20240829T191002Z
UID:10005409-1754895600-1754899200@adathisraelnj.org
SUMMARY:Morning Minyan
DESCRIPTION:Attend in-person or contact the Adath Israel Office 609-896-4977 for the Zoom login information\nTo download Siddur Sim Shalom: https://www.rabbinicalassembly.org/webform/form-download-e-siddur
URL:https://adathisraelnj.org/event/morning-minyan-400/2025-08-11/
CATEGORIES:Worship
END:VEVENT
BEGIN:VEVENT
DTSTART;TZID=America/New_York:20250809T093000
DTEND;TZID=America/New_York:20250809T123000
DTSTAMP:20260419T185451
CREATED:20230815T165551Z
LAST-MODIFIED:20240829T144153Z
UID:10003050-1754731800-1754742600@adathisraelnj.org
SUMMARY:Shabbat Morning Service
DESCRIPTION:Contact the Adath Israel Office 609-896-4977 for the Zoom login information or if you’d like to attend in person.\n\n\n\nJoin us for a Shabbat Morning Service and interactive teaching led by Rabbi Adler and Hazzan Katlin. The siddur can be downloaded at: https://www.rabbinicalassembly.org/form-download-e-siddur-
URL:https://adathisraelnj.org/event/shabbat-morning-service-140/2025-08-09/
CATEGORIES:Worship
END:VEVENT
BEGIN:VEVENT
DTSTART;TZID=America/New_York:20250808T193000
DTEND;TZID=America/New_York:20250808T210000
DTSTAMP:20260419T185451
CREATED:20241210T163935Z
LAST-MODIFIED:20250501T174338Z
UID:10002292-1754681400-1754686800@adathisraelnj.org
SUMMARY:Shabbat Evening Service
DESCRIPTION:Attend in-person or contact the Adath Israel Office 609-896-4977 for the Zoom login information. \nJoin us for a Kabbalat Shabbat Service and interactive teaching led by Rabbi Adler and Hazzan Katlin. So that we can all literally be on the same page (or screen)\, we will be using the Kabbalat Shabbat and Shabbat Evening Service in the Sim Shalom for Shabbat and Festivals\, which can be downloaded at: https://www.rabbinicalassembly.org/form-download-e-siddur-
URL:https://adathisraelnj.org/event/shabbat-evening-service-110-16/2025-08-08/
CATEGORIES:Worship
END:VEVENT
BEGIN:VEVENT
DTSTART;TZID=America/New_York:20250807T070000
DTEND;TZID=America/New_York:20250807T080000
DTSTAMP:20260419T185451
CREATED:20230815T165229Z
LAST-MODIFIED:20240829T191002Z
UID:10005408-1754550000-1754553600@adathisraelnj.org
SUMMARY:Morning Minyan
DESCRIPTION:Attend in-person or contact the Adath Israel Office 609-896-4977 for the Zoom login information\nTo download Siddur Sim Shalom: https://www.rabbinicalassembly.org/webform/form-download-e-siddur
URL:https://adathisraelnj.org/event/morning-minyan-400/2025-08-07/
CATEGORIES:Worship
END:VEVENT
BEGIN:VEVENT
DTSTART;TZID=America/New_York:20250804T070000
DTEND;TZID=America/New_York:20250804T080000
DTSTAMP:20260419T185451
CREATED:20230815T165229Z
LAST-MODIFIED:20240829T191002Z
UID:10005407-1754290800-1754294400@adathisraelnj.org
SUMMARY:Morning Minyan
DESCRIPTION:Attend in-person or contact the Adath Israel Office 609-896-4977 for the Zoom login information\nTo download Siddur Sim Shalom: https://www.rabbinicalassembly.org/webform/form-download-e-siddur
URL:https://adathisraelnj.org/event/morning-minyan-400/2025-08-04/
CATEGORIES:Worship
END:VEVENT
BEGIN:VEVENT
DTSTART;TZID=America/New_York:20250802T093000
DTEND;TZID=America/New_York:20250802T123000
DTSTAMP:20260419T185451
CREATED:20230815T165551Z
LAST-MODIFIED:20240829T144153Z
UID:10003049-1754127000-1754137800@adathisraelnj.org
SUMMARY:Shabbat Morning Service
DESCRIPTION:Contact the Adath Israel Office 609-896-4977 for the Zoom login information or if you’d like to attend in person.\n\n\n\nJoin us for a Shabbat Morning Service and interactive teaching led by Rabbi Adler and Hazzan Katlin. The siddur can be downloaded at: https://www.rabbinicalassembly.org/form-download-e-siddur-
URL:https://adathisraelnj.org/event/shabbat-morning-service-140/2025-08-02/
CATEGORIES:Worship
END:VEVENT
BEGIN:VEVENT
DTSTART;TZID=America/New_York:20250801T193000
DTEND;TZID=America/New_York:20250801T210000
DTSTAMP:20260419T185451
CREATED:20241210T163935Z
LAST-MODIFIED:20250501T174338Z
UID:10002291-1754076600-1754082000@adathisraelnj.org
SUMMARY:Shabbat Evening Service
DESCRIPTION:Attend in-person or contact the Adath Israel Office 609-896-4977 for the Zoom login information. \nJoin us for a Kabbalat Shabbat Service and interactive teaching led by Rabbi Adler and Hazzan Katlin. So that we can all literally be on the same page (or screen)\, we will be using the Kabbalat Shabbat and Shabbat Evening Service in the Sim Shalom for Shabbat and Festivals\, which can be downloaded at: https://www.rabbinicalassembly.org/form-download-e-siddur-
URL:https://adathisraelnj.org/event/shabbat-evening-service-110-16/2025-08-01/
CATEGORIES:Worship
END:VEVENT
BEGIN:VEVENT
DTSTART;TZID=America/New_York:20250731T070000
DTEND;TZID=America/New_York:20250731T080000
DTSTAMP:20260419T185452
CREATED:20230815T165229Z
LAST-MODIFIED:20240829T191002Z
UID:10005406-1753945200-1753948800@adathisraelnj.org
SUMMARY:Morning Minyan
DESCRIPTION:Attend in-person or contact the Adath Israel Office 609-896-4977 for the Zoom login information\nTo download Siddur Sim Shalom: https://www.rabbinicalassembly.org/webform/form-download-e-siddur
URL:https://adathisraelnj.org/event/morning-minyan-400/2025-07-31/
CATEGORIES:Worship
END:VEVENT
BEGIN:VEVENT
DTSTART;TZID=America/New_York:20250728T070000
DTEND;TZID=America/New_York:20250728T080000
DTSTAMP:20260419T185452
CREATED:20230815T165229Z
LAST-MODIFIED:20240829T191002Z
UID:10005405-1753686000-1753689600@adathisraelnj.org
SUMMARY:Morning Minyan
DESCRIPTION:Attend in-person or contact the Adath Israel Office 609-896-4977 for the Zoom login information\nTo download Siddur Sim Shalom: https://www.rabbinicalassembly.org/webform/form-download-e-siddur
URL:https://adathisraelnj.org/event/morning-minyan-400/2025-07-28/
CATEGORIES:Worship
END:VEVENT
BEGIN:VEVENT
DTSTART;TZID=America/New_York:20250726T093000
DTEND;TZID=America/New_York:20250726T123000
DTSTAMP:20260419T185452
CREATED:20230815T165551Z
LAST-MODIFIED:20240829T144153Z
UID:10003048-1753522200-1753533000@adathisraelnj.org
SUMMARY:Shabbat Morning Service
DESCRIPTION:Contact the Adath Israel Office 609-896-4977 for the Zoom login information or if you’d like to attend in person.\n\n\n\nJoin us for a Shabbat Morning Service and interactive teaching led by Rabbi Adler and Hazzan Katlin. The siddur can be downloaded at: https://www.rabbinicalassembly.org/form-download-e-siddur-
URL:https://adathisraelnj.org/event/shabbat-morning-service-140/2025-07-26/
CATEGORIES:Worship
END:VEVENT
BEGIN:VEVENT
DTSTART;TZID=America/New_York:20250725T193000
DTEND;TZID=America/New_York:20250725T210000
DTSTAMP:20260419T185452
CREATED:20241210T163935Z
LAST-MODIFIED:20250501T174338Z
UID:10002290-1753471800-1753477200@adathisraelnj.org
SUMMARY:Shabbat Evening Service
DESCRIPTION:Attend in-person or contact the Adath Israel Office 609-896-4977 for the Zoom login information. \nJoin us for a Kabbalat Shabbat Service and interactive teaching led by Rabbi Adler and Hazzan Katlin. So that we can all literally be on the same page (or screen)\, we will be using the Kabbalat Shabbat and Shabbat Evening Service in the Sim Shalom for Shabbat and Festivals\, which can be downloaded at: https://www.rabbinicalassembly.org/form-download-e-siddur-
URL:https://adathisraelnj.org/event/shabbat-evening-service-110-16/2025-07-25/
CATEGORIES:Worship
END:VEVENT
BEGIN:VEVENT
DTSTART;TZID=America/New_York:20250724T070000
DTEND;TZID=America/New_York:20250724T080000
DTSTAMP:20260419T185452
CREATED:20230815T165229Z
LAST-MODIFIED:20240829T191002Z
UID:10005404-1753340400-1753344000@adathisraelnj.org
SUMMARY:Morning Minyan
DESCRIPTION:Attend in-person or contact the Adath Israel Office 609-896-4977 for the Zoom login information\nTo download Siddur Sim Shalom: https://www.rabbinicalassembly.org/webform/form-download-e-siddur
URL:https://adathisraelnj.org/event/morning-minyan-400/2025-07-24/
CATEGORIES:Worship
END:VEVENT
BEGIN:VEVENT
DTSTART;TZID=America/New_York:20250721T070000
DTEND;TZID=America/New_York:20250721T080000
DTSTAMP:20260419T185452
CREATED:20230815T165229Z
LAST-MODIFIED:20240829T191002Z
UID:10005403-1753081200-1753084800@adathisraelnj.org
SUMMARY:Morning Minyan
DESCRIPTION:Attend in-person or contact the Adath Israel Office 609-896-4977 for the Zoom login information\nTo download Siddur Sim Shalom: https://www.rabbinicalassembly.org/webform/form-download-e-siddur
URL:https://adathisraelnj.org/event/morning-minyan-400/2025-07-21/
CATEGORIES:Worship
END:VEVENT
BEGIN:VEVENT
DTSTART;TZID=America/New_York:20250719T093000
DTEND;TZID=America/New_York:20250719T123000
DTSTAMP:20260419T185452
CREATED:20230815T165551Z
LAST-MODIFIED:20240829T144153Z
UID:10003047-1752917400-1752928200@adathisraelnj.org
SUMMARY:Shabbat Morning Service
DESCRIPTION:Contact the Adath Israel Office 609-896-4977 for the Zoom login information or if you’d like to attend in person.\n\n\n\nJoin us for a Shabbat Morning Service and interactive teaching led by Rabbi Adler and Hazzan Katlin. The siddur can be downloaded at: https://www.rabbinicalassembly.org/form-download-e-siddur-
URL:https://adathisraelnj.org/event/shabbat-morning-service-140/2025-07-19/
CATEGORIES:Worship
END:VEVENT
BEGIN:VEVENT
DTSTART;TZID=America/New_York:20250718T193000
DTEND;TZID=America/New_York:20250718T210000
DTSTAMP:20260419T185452
CREATED:20241210T163935Z
LAST-MODIFIED:20250501T174338Z
UID:10002289-1752867000-1752872400@adathisraelnj.org
SUMMARY:Shabbat Evening Service
DESCRIPTION:Attend in-person or contact the Adath Israel Office 609-896-4977 for the Zoom login information. \nJoin us for a Kabbalat Shabbat Service and interactive teaching led by Rabbi Adler and Hazzan Katlin. So that we can all literally be on the same page (or screen)\, we will be using the Kabbalat Shabbat and Shabbat Evening Service in the Sim Shalom for Shabbat and Festivals\, which can be downloaded at: https://www.rabbinicalassembly.org/form-download-e-siddur-
URL:https://adathisraelnj.org/event/shabbat-evening-service-110-16/2025-07-18/
CATEGORIES:Worship
END:VEVENT
BEGIN:VEVENT
DTSTART;TZID=America/New_York:20250717T070000
DTEND;TZID=America/New_York:20250717T080000
DTSTAMP:20260419T185452
CREATED:20230815T165229Z
LAST-MODIFIED:20240829T191002Z
UID:10005402-1752735600-1752739200@adathisraelnj.org
SUMMARY:Morning Minyan
DESCRIPTION:Attend in-person or contact the Adath Israel Office 609-896-4977 for the Zoom login information\nTo download Siddur Sim Shalom: https://www.rabbinicalassembly.org/webform/form-download-e-siddur
URL:https://adathisraelnj.org/event/morning-minyan-400/2025-07-17/
CATEGORIES:Worship
END:VEVENT
BEGIN:VEVENT
DTSTART;TZID=America/New_York:20250714T070000
DTEND;TZID=America/New_York:20250714T080000
DTSTAMP:20260419T185452
CREATED:20230815T165229Z
LAST-MODIFIED:20240829T191002Z
UID:10005401-1752476400-1752480000@adathisraelnj.org
SUMMARY:Morning Minyan
DESCRIPTION:Attend in-person or contact the Adath Israel Office 609-896-4977 for the Zoom login information\nTo download Siddur Sim Shalom: https://www.rabbinicalassembly.org/webform/form-download-e-siddur
URL:https://adathisraelnj.org/event/morning-minyan-400/2025-07-14/
CATEGORIES:Worship
END:VEVENT
BEGIN:VEVENT
DTSTART;TZID=America/New_York:20250712T093000
DTEND;TZID=America/New_York:20250712T123000
DTSTAMP:20260419T185452
CREATED:20230815T165551Z
LAST-MODIFIED:20240829T144153Z
UID:10003046-1752312600-1752323400@adathisraelnj.org
SUMMARY:Shabbat Morning Service
DESCRIPTION:Contact the Adath Israel Office 609-896-4977 for the Zoom login information or if you’d like to attend in person.\n\n\n\nJoin us for a Shabbat Morning Service and interactive teaching led by Rabbi Adler and Hazzan Katlin. The siddur can be downloaded at: https://www.rabbinicalassembly.org/form-download-e-siddur-
URL:https://adathisraelnj.org/event/shabbat-morning-service-140/2025-07-12/
CATEGORIES:Worship
END:VEVENT
BEGIN:VEVENT
DTSTART;TZID=America/New_York:20250711T193000
DTEND;TZID=America/New_York:20250711T210000
DTSTAMP:20260419T185452
CREATED:20241210T163935Z
LAST-MODIFIED:20250501T174338Z
UID:10002288-1752262200-1752267600@adathisraelnj.org
SUMMARY:Shabbat Evening Service
DESCRIPTION:Attend in-person or contact the Adath Israel Office 609-896-4977 for the Zoom login information. \nJoin us for a Kabbalat Shabbat Service and interactive teaching led by Rabbi Adler and Hazzan Katlin. So that we can all literally be on the same page (or screen)\, we will be using the Kabbalat Shabbat and Shabbat Evening Service in the Sim Shalom for Shabbat and Festivals\, which can be downloaded at: https://www.rabbinicalassembly.org/form-download-e-siddur-
URL:https://adathisraelnj.org/event/shabbat-evening-service-110-16/2025-07-11/
CATEGORIES:Worship
END:VEVENT
BEGIN:VEVENT
DTSTART;TZID=America/New_York:20250710T070000
DTEND;TZID=America/New_York:20250710T080000
DTSTAMP:20260419T185452
CREATED:20230815T165229Z
LAST-MODIFIED:20240829T191002Z
UID:10005400-1752130800-1752134400@adathisraelnj.org
SUMMARY:Morning Minyan
DESCRIPTION:Attend in-person or contact the Adath Israel Office 609-896-4977 for the Zoom login information\nTo download Siddur Sim Shalom: https://www.rabbinicalassembly.org/webform/form-download-e-siddur
URL:https://adathisraelnj.org/event/morning-minyan-400/2025-07-10/
CATEGORIES:Worship
END:VEVENT
BEGIN:VEVENT
DTSTART;TZID=America/New_York:20250707T070000
DTEND;TZID=America/New_York:20250707T080000
DTSTAMP:20260419T185452
CREATED:20230815T165229Z
LAST-MODIFIED:20240829T191002Z
UID:10005399-1751871600-1751875200@adathisraelnj.org
SUMMARY:Morning Minyan
DESCRIPTION:Attend in-person or contact the Adath Israel Office 609-896-4977 for the Zoom login information\nTo download Siddur Sim Shalom: https://www.rabbinicalassembly.org/webform/form-download-e-siddur
URL:https://adathisraelnj.org/event/morning-minyan-400/2025-07-07/
CATEGORIES:Worship
END:VEVENT
BEGIN:VEVENT
DTSTART;TZID=America/New_York:20250705T093000
DTEND;TZID=America/New_York:20250705T123000
DTSTAMP:20260419T185452
CREATED:20230815T165551Z
LAST-MODIFIED:20240829T144153Z
UID:10003045-1751707800-1751718600@adathisraelnj.org
SUMMARY:Shabbat Morning Service
DESCRIPTION:Contact the Adath Israel Office 609-896-4977 for the Zoom login information or if you’d like to attend in person.\n\n\n\nJoin us for a Shabbat Morning Service and interactive teaching led by Rabbi Adler and Hazzan Katlin. The siddur can be downloaded at: https://www.rabbinicalassembly.org/form-download-e-siddur-
URL:https://adathisraelnj.org/event/shabbat-morning-service-140/2025-07-05/
CATEGORIES:Worship
END:VEVENT
BEGIN:VEVENT
DTSTART;TZID=America/New_York:20250704T193000
DTEND;TZID=America/New_York:20250704T210000
DTSTAMP:20260419T185453
CREATED:20241210T163935Z
LAST-MODIFIED:20250501T174338Z
UID:10002287-1751657400-1751662800@adathisraelnj.org
SUMMARY:Shabbat Evening Service
DESCRIPTION:Attend in-person or contact the Adath Israel Office 609-896-4977 for the Zoom login information. \nJoin us for a Kabbalat Shabbat Service and interactive teaching led by Rabbi Adler and Hazzan Katlin. So that we can all literally be on the same page (or screen)\, we will be using the Kabbalat Shabbat and Shabbat Evening Service in the Sim Shalom for Shabbat and Festivals\, which can be downloaded at: https://www.rabbinicalassembly.org/form-download-e-siddur-
URL:https://adathisraelnj.org/event/shabbat-evening-service-110-16/2025-07-04/
CATEGORIES:Worship
END:VEVENT
BEGIN:VEVENT
DTSTART;TZID=America/New_York:20250703T070000
DTEND;TZID=America/New_York:20250703T080000
DTSTAMP:20260419T185453
CREATED:20230815T165229Z
LAST-MODIFIED:20240829T191002Z
UID:10005398-1751526000-1751529600@adathisraelnj.org
SUMMARY:Morning Minyan
DESCRIPTION:Attend in-person or contact the Adath Israel Office 609-896-4977 for the Zoom login information\nTo download Siddur Sim Shalom: https://www.rabbinicalassembly.org/webform/form-download-e-siddur
URL:https://adathisraelnj.org/event/morning-minyan-400/2025-07-03/
CATEGORIES:Worship
END:VEVENT
BEGIN:VEVENT
DTSTART;TZID=America/New_York:20250630T070000
DTEND;TZID=America/New_York:20250630T080000
DTSTAMP:20260419T185453
CREATED:20230815T165229Z
LAST-MODIFIED:20240829T191002Z
UID:10005397-1751266800-1751270400@adathisraelnj.org
SUMMARY:Morning Minyan
DESCRIPTION:Attend in-person or contact the Adath Israel Office 609-896-4977 for the Zoom login information\nTo download Siddur Sim Shalom: https://www.rabbinicalassembly.org/webform/form-download-e-siddur
URL:https://adathisraelnj.org/event/morning-minyan-400/2025-06-30/
CATEGORIES:Worship
END:VEVENT
BEGIN:VEVENT
DTSTART;TZID=America/New_York:20250628T101500
DTEND;TZID=America/New_York:20250628T104500
DTSTAMP:20260419T185453
CREATED:20240620T193340Z
LAST-MODIFIED:20240723T184110Z
UID:10005159-1751105700-1751107500@adathisraelnj.org
SUMMARY:Torah Talk with Rabbi Adler
DESCRIPTION:
URL:https://adathisraelnj.org/event/torah-talk-3/2025-06-28/
CATEGORIES:Worship
END:VEVENT
BEGIN:VEVENT
DTSTART;TZID=America/New_York:20250628T093000
DTEND;TZID=America/New_York:20250628T123000
DTSTAMP:20260419T185453
CREATED:20230815T165551Z
LAST-MODIFIED:20240829T144153Z
UID:10003044-1751103000-1751113800@adathisraelnj.org
SUMMARY:Shabbat Morning Service
DESCRIPTION:Contact the Adath Israel Office 609-896-4977 for the Zoom login information or if you’d like to attend in person.\n\n\n\nJoin us for a Shabbat Morning Service and interactive teaching led by Rabbi Adler and Hazzan Katlin. The siddur can be downloaded at: https://www.rabbinicalassembly.org/form-download-e-siddur-
URL:https://adathisraelnj.org/event/shabbat-morning-service-140/2025-06-28/
CATEGORIES:Worship
END:VEVENT
BEGIN:VEVENT
DTSTART;TZID=America/New_York:20250627T193000
DTEND;TZID=America/New_York:20250627T210000
DTSTAMP:20260419T185453
CREATED:20241210T163935Z
LAST-MODIFIED:20250501T174338Z
UID:10002286-1751052600-1751058000@adathisraelnj.org
SUMMARY:Shabbat Evening Service
DESCRIPTION:Attend in-person or contact the Adath Israel Office 609-896-4977 for the Zoom login information. \nJoin us for a Kabbalat Shabbat Service and interactive teaching led by Rabbi Adler and Hazzan Katlin. So that we can all literally be on the same page (or screen)\, we will be using the Kabbalat Shabbat and Shabbat Evening Service in the Sim Shalom for Shabbat and Festivals\, which can be downloaded at: https://www.rabbinicalassembly.org/form-download-e-siddur-
URL:https://adathisraelnj.org/event/shabbat-evening-service-110-16/2025-06-27/
CATEGORIES:Worship
END:VEVENT
BEGIN:VEVENT
DTSTART;TZID=America/New_York:20250626T070000
DTEND;TZID=America/New_York:20250626T080000
DTSTAMP:20260419T185453
CREATED:20230815T165229Z
LAST-MODIFIED:20240829T191002Z
UID:10005396-1750921200-1750924800@adathisraelnj.org
SUMMARY:Morning Minyan
DESCRIPTION:Attend in-person or contact the Adath Israel Office 609-896-4977 for the Zoom login information\nTo download Siddur Sim Shalom: https://www.rabbinicalassembly.org/webform/form-download-e-siddur
URL:https://adathisraelnj.org/event/morning-minyan-400/2025-06-26/
CATEGORIES:Worship
END:VEVENT
END:VCALENDAR