BEGIN:VCALENDAR
VERSION:2.0
PRODID:-//Adath Israel Congregation - ECPv6.15.12.2//NONSGML v1.0//EN
CALSCALE:GREGORIAN
METHOD:PUBLISH
X-WR-CALNAME:Adath Israel Congregation
X-ORIGINAL-URL:https://adathisraelnj.org
X-WR-CALDESC:Events for Adath Israel Congregation
REFRESH-INTERVAL;VALUE=DURATION:PT1H
X-Robots-Tag:noindex
X-PUBLISHED-TTL:PT1H
BEGIN:VTIMEZONE
TZID:America/New_York
BEGIN:DAYLIGHT
TZOFFSETFROM:-0500
TZOFFSETTO:-0400
TZNAME:EDT
DTSTART:20180311T070000
END:DAYLIGHT
BEGIN:STANDARD
TZOFFSETFROM:-0400
TZOFFSETTO:-0500
TZNAME:EST
DTSTART:20181104T060000
END:STANDARD
BEGIN:DAYLIGHT
TZOFFSETFROM:-0500
TZOFFSETTO:-0400
TZNAME:EDT
DTSTART:20190310T070000
END:DAYLIGHT
BEGIN:STANDARD
TZOFFSETFROM:-0400
TZOFFSETTO:-0500
TZNAME:EST
DTSTART:20191103T060000
END:STANDARD
BEGIN:DAYLIGHT
TZOFFSETFROM:-0500
TZOFFSETTO:-0400
TZNAME:EDT
DTSTART:20200308T070000
END:DAYLIGHT
BEGIN:STANDARD
TZOFFSETFROM:-0400
TZOFFSETTO:-0500
TZNAME:EST
DTSTART:20201101T060000
END:STANDARD
BEGIN:DAYLIGHT
TZOFFSETFROM:-0500
TZOFFSETTO:-0400
TZNAME:EDT
DTSTART:20210314T070000
END:DAYLIGHT
BEGIN:STANDARD
TZOFFSETFROM:-0400
TZOFFSETTO:-0500
TZNAME:EST
DTSTART:20211107T060000
END:STANDARD
BEGIN:DAYLIGHT
TZOFFSETFROM:-0500
TZOFFSETTO:-0400
TZNAME:EDT
DTSTART:20220313T070000
END:DAYLIGHT
BEGIN:STANDARD
TZOFFSETFROM:-0400
TZOFFSETTO:-0500
TZNAME:EST
DTSTART:20221106T060000
END:STANDARD
BEGIN:DAYLIGHT
TZOFFSETFROM:-0500
TZOFFSETTO:-0400
TZNAME:EDT
DTSTART:20230312T070000
END:DAYLIGHT
BEGIN:STANDARD
TZOFFSETFROM:-0400
TZOFFSETTO:-0500
TZNAME:EST
DTSTART:20231105T060000
END:STANDARD
BEGIN:DAYLIGHT
TZOFFSETFROM:-0500
TZOFFSETTO:-0400
TZNAME:EDT
DTSTART:20240310T070000
END:DAYLIGHT
BEGIN:STANDARD
TZOFFSETFROM:-0400
TZOFFSETTO:-0500
TZNAME:EST
DTSTART:20241103T060000
END:STANDARD
END:VTIMEZONE
BEGIN:VEVENT
DTSTART;TZID=America/New_York:20230312T133000
DTEND;TZID=America/New_York:20230312T163000
DTSTAMP:20260419T194121
CREATED:20230214T193523Z
LAST-MODIFIED:20230228T185424Z
UID:10001016-1678627800-1678638600@adathisraelnj.org
SUMMARY:Bucks/AI Youth - Waffle Pageant
DESCRIPTION:Email Ari Weiss for more information at ariweiss089@gmail.com.
URL:https://adathisraelnj.org/event/bucks-ai-youth-waffle-pageant/
CATEGORIES:Youth
END:VEVENT
BEGIN:VEVENT
DTSTART;TZID=America/New_York:20230304T093000
DTEND;TZID=America/New_York:20230304T101500
DTSTAMP:20260419T194121
CREATED:20230228T143510Z
LAST-MODIFIED:20230228T143557Z
UID:10001018-1677922200-1677924900@adathisraelnj.org
SUMMARY:Tot Shabbat
DESCRIPTION:
URL:https://adathisraelnj.org/event/tot-shabbat-5/
CATEGORIES:Worship,Youth
END:VEVENT
BEGIN:VEVENT
DTSTART;TZID=America/New_York:20230303T183000
DTEND;TZID=America/New_York:20230303T203000
DTSTAMP:20260419T194121
CREATED:20230214T192427Z
LAST-MODIFIED:20230214T193823Z
UID:10001015-1677868200-1677875400@adathisraelnj.org
SUMMARY:BUSY-AI USY Shabbat Dinner
DESCRIPTION:Email Ari Weiss for more information at ariweiss089@gmail.com.
URL:https://adathisraelnj.org/event/busy-ai-usy-shabbat-dinner/
CATEGORIES:Youth
END:VEVENT
BEGIN:VEVENT
DTSTART;TZID=America/New_York:20230212T103000
DTEND;TZID=America/New_York:20230212T123000
DTSTAMP:20260419T194121
CREATED:20220908T153450Z
LAST-MODIFIED:20230206T155012Z
UID:10001000-1676197800-1676205000@adathisraelnj.org
SUMMARY:Adath Teen Connection
DESCRIPTION:Adath’s new group for teens (grades 8-12)\, led by Rabbi Adler \nThe content of the program will consist of meetings led by me divided between:\n1. Social time\n\n2. Informal learning time\n3. Community service time
URL:https://adathisraelnj.org/event/adath-teen-connection-7/
CATEGORIES:Youth
END:VEVENT
BEGIN:VEVENT
DTSTART;TZID=America/New_York:20230204T093000
DTEND;TZID=America/New_York:20230204T101500
DTSTAMP:20260419T194121
CREATED:20230126T163311Z
LAST-MODIFIED:20230126T164039Z
UID:10001011-1675503000-1675505700@adathisraelnj.org
SUMMARY:Tot Shabbat
DESCRIPTION:
URL:https://adathisraelnj.org/event/tot-shabbat-4/
CATEGORIES:Worship,Youth
END:VEVENT
BEGIN:VEVENT
DTSTART;TZID=America/New_York:20230122T103000
DTEND;TZID=America/New_York:20230122T123000
DTSTAMP:20260419T194121
CREATED:20220908T153413Z
LAST-MODIFIED:20221025T153413Z
UID:10000998-1674383400-1674390600@adathisraelnj.org
SUMMARY:Adath Teen Connection
DESCRIPTION:Adath’s new group for teens (grades 8-12)\, led by Rabbi Adler \nThe content of the program will consist of meetings led by me divided between:\n1. Social time\n\n2. Informal learning time\n3. Community service time
URL:https://adathisraelnj.org/event/adath-teen-connection-6/
CATEGORIES:Youth
END:VEVENT
BEGIN:VEVENT
DTSTART;TZID=America/New_York:20221218T103000
DTEND;TZID=America/New_York:20221218T123000
DTSTAMP:20260419T194121
CREATED:20220908T153333Z
LAST-MODIFIED:20221025T153337Z
UID:10001817-1671359400-1671366600@adathisraelnj.org
SUMMARY:Adath Teen Connection
DESCRIPTION:Adath’s new group for teens (grades 8-12)\, led by Rabbi Adler \nThe content of the program will consist of meetings led by me divided between:\n1. Social time\n\n2. Informal learning time\n3. Community service time
URL:https://adathisraelnj.org/event/adath-teen-connection-5/
CATEGORIES:Youth
END:VEVENT
BEGIN:VEVENT
DTSTART;TZID=America/New_York:20221204T123000
DTEND;TZID=America/New_York:20221204T153000
DTSTAMP:20260419T194121
CREATED:20221025T141903Z
LAST-MODIFIED:20221025T141903Z
UID:10001007-1670157000-1670167800@adathisraelnj.org
SUMMARY:Jewish Children's Festival
DESCRIPTION:
URL:https://adathisraelnj.org/event/jewish-childrens-festival/
CATEGORIES:Festival,Youth
END:VEVENT
BEGIN:VEVENT
DTSTART;TZID=America/New_York:20221203T093000
DTEND;TZID=America/New_York:20221203T101500
DTSTAMP:20260419T194121
CREATED:20221025T140020Z
LAST-MODIFIED:20221025T152914Z
UID:10001005-1670059800-1670062500@adathisraelnj.org
SUMMARY:Tot Shabbat
DESCRIPTION:
URL:https://adathisraelnj.org/event/tot-shabbat-2/
CATEGORIES:General,Worship,Youth
END:VEVENT
BEGIN:VEVENT
DTSTART;TZID=America/New_York:20221120T103000
DTEND;TZID=America/New_York:20221120T123000
DTSTAMP:20260419T194121
CREATED:20220908T153213Z
LAST-MODIFIED:20221025T153159Z
UID:10001816-1668940200-1668947400@adathisraelnj.org
SUMMARY:Adath Teen Connection
DESCRIPTION:Adath’s new group for teens (grades 8-12)\, led by Rabbi Adler \nThe content of the program will consist of meetings led by me divided between:\n1. Social time\n\n2. Informal learning time\n3. Community service time
URL:https://adathisraelnj.org/event/adath-teen-connection-4/
CATEGORIES:Youth
END:VEVENT
BEGIN:VEVENT
DTSTART;TZID=America/New_York:20221120T103000
DTEND;TZID=America/New_York:20221120T123000
DTSTAMP:20260419T194121
CREATED:20220908T153135Z
LAST-MODIFIED:20220908T153135Z
UID:10001815-1668940200-1668947400@adathisraelnj.org
SUMMARY:Adath Teen Connection
DESCRIPTION:Adath’s new group for teens (grades 8-12)\, led by Rabbi Adler \nThe content of the program will consist of meetings led by me divided between:\n1. Social time\n\n2. Informal learning time\n3. Community service time
URL:https://adathisraelnj.org/event/adath-teen-connection-3/
CATEGORIES:Youth
END:VEVENT
BEGIN:VEVENT
DTSTART;TZID=America/New_York:20221029T093000
DTEND;TZID=America/New_York:20221029T101500
DTSTAMP:20260419T194121
CREATED:20221025T135901Z
LAST-MODIFIED:20221025T152643Z
UID:10001004-1667035800-1667038500@adathisraelnj.org
SUMMARY:Tot Shabbat
DESCRIPTION:
URL:https://adathisraelnj.org/event/tot-shabbat/
CATEGORIES:General,Worship,Youth
END:VEVENT
BEGIN:VEVENT
DTSTART;TZID=America/New_York:20221016T103000
DTEND;TZID=America/New_York:20221016T123000
DTSTAMP:20260419T194121
CREATED:20220908T153031Z
LAST-MODIFIED:20220908T153031Z
UID:10001814-1665916200-1665923400@adathisraelnj.org
SUMMARY:Adath Teen Connection
DESCRIPTION:Adath’s new group for teens (grades 8-12)\, led by Rabbi Adler \nThe content of the program will consist of meetings led by me divided between:\n1. Social time\n\n2. Informal learning time\n3. Community service time
URL:https://adathisraelnj.org/event/adath-teen-connection-2/
CATEGORIES:Youth
END:VEVENT
BEGIN:VEVENT
DTSTART;TZID=America/New_York:20220918T103000
DTEND;TZID=America/New_York:20220918T123000
DTSTAMP:20260419T194121
CREATED:20220908T152549Z
LAST-MODIFIED:20220908T152759Z
UID:10001813-1663497000-1663504200@adathisraelnj.org
SUMMARY:Adath Teen Connection
DESCRIPTION:The first session of our new Adath Teen Connection will meet in Social Hall 1\, nearest the kitchen. The program will start with bagels and socializing.
URL:https://adathisraelnj.org/event/adath-teen-connection/
CATEGORIES:Youth
END:VEVENT
BEGIN:VEVENT
DTSTART;TZID=America/New_York:20210611T163000
DTEND;TZID=America/New_York:20210611T170000
DTSTAMP:20260419T194121
CREATED:20210223T151457Z
LAST-MODIFIED:20210223T151457Z
UID:10000632-1623429000-1623430800@adathisraelnj.org
SUMMARY:Junior Congregation
DESCRIPTION:Junior Congregation \nJoin us for stories\, prayer and music with Rabbi Adler and Hazzan Katlin for kids of all ages and their families. \nContact the Adath Israel Office 609-896-4977 for the Zoom login information
URL:https://adathisraelnj.org/event/junior-congregation-14/
CATEGORIES:Worship,Youth
END:VEVENT
BEGIN:VEVENT
DTSTART;TZID=America/New_York:20210514T163000
DTEND;TZID=America/New_York:20210514T170000
DTSTAMP:20260419T194121
CREATED:20210223T151401Z
LAST-MODIFIED:20210223T151401Z
UID:10000631-1621009800-1621011600@adathisraelnj.org
SUMMARY:Junior Congregation
DESCRIPTION:Junior Congregation \nJoin us for stories\, prayer and music with Rabbi Adler and Hazzan Katlin for kids of all ages and their families. \nContact the Adath Israel Office 609-896-4977 for the Zoom login information \n 
URL:https://adathisraelnj.org/event/junior-congregation-13/
CATEGORIES:Worship,Youth
END:VEVENT
BEGIN:VEVENT
DTSTART;TZID=America/New_York:20210409T163000
DTEND;TZID=America/New_York:20210409T170000
DTSTAMP:20260419T194121
CREATED:20210223T151222Z
LAST-MODIFIED:20210223T151222Z
UID:10000630-1617985800-1617987600@adathisraelnj.org
SUMMARY:Junior Congregation
DESCRIPTION:Join us for stories\, prayer and music with Rabbi Adler and Hazzan Katlin for kids of all ages and their families. \nContact the Adath Israel Office 609-896-4977 for the Zoom login information
URL:https://adathisraelnj.org/event/junior-congregation-12/
CATEGORIES:Worship,Youth
END:VEVENT
BEGIN:VEVENT
DTSTART;TZID=America/New_York:20210312T163000
DTEND;TZID=America/New_York:20210312T170000
DTSTAMP:20260419T194121
CREATED:20210223T151019Z
LAST-MODIFIED:20210223T151019Z
UID:10000627-1615566600-1615568400@adathisraelnj.org
SUMMARY:Junior Congregation
DESCRIPTION:Join us for stories\, prayer and music with Rabbi Adler and Hazzan Katlin for kids of all ages and their families. \nContact the Adath Israel Office 609-896-4977 for the Zoom login information
URL:https://adathisraelnj.org/event/junior-congregation-11/
CATEGORIES:Worship,Youth
END:VEVENT
BEGIN:VEVENT
DTSTART;TZID=America/New_York:20200125T110000
DTEND;TZID=America/New_York:20200125T110000
DTSTAMP:20260419T194121
CREATED:20200104T220904Z
LAST-MODIFIED:20200104T220904Z
UID:10001200-1579950000-1579950000@adathisraelnj.org
SUMMARY:Shabbes Fun with Jonah
DESCRIPTION:Contact Adath Israel Office 609-896-4977 for information about this program
URL:https://adathisraelnj.org/event/shabbes-fun-with-jonah-3/
CATEGORIES:Worship,Youth
END:VEVENT
BEGIN:VEVENT
DTSTART;VALUE=DATE:20191222
DTEND;VALUE=DATE:20191227
DTSTAMP:20260419T194121
CREATED:20191222T050000Z
LAST-MODIFIED:20191125T153207Z
UID:10001194-1576972800-1577404799@adathisraelnj.org
SUMMARY:USY International Convention
DESCRIPTION:
URL:https://adathisraelnj.org/event/usy-international-convention-2/
CATEGORIES:External,Kadima and USY,Youth
END:VEVENT
BEGIN:VEVENT
DTSTART;VALUE=DATE:20191219
DTEND;VALUE=DATE:20191222
DTSTAMP:20260419T194121
CREATED:20191219T050000Z
LAST-MODIFIED:20191125T153209Z
UID:10001187-1576713600-1576972799@adathisraelnj.org
SUMMARY:USY Pre-International Convention Shabbaton
DESCRIPTION:
URL:https://adathisraelnj.org/event/usy-pre-international-convention-shabbaton/
LOCATION:Valley Beth Shalom\, 15739 Ventura Blvd\, Encino\, CA 91436\, USA\, 15500 Ventura Blvd\, United States
CATEGORIES:External,Kadima and USY,Youth
GEO:34.15479;-118.472095
X-APPLE-STRUCTURED-LOCATION;VALUE=URI;X-ADDRESS=Valley Beth Shalom 15739 Ventura Blvd Encino CA 91436 USA 15500 Ventura Blvd United States;X-APPLE-RADIUS=500;X-TITLE=15500 Ventura Blvd:geo:-118.472095,34.15479
END:VEVENT
BEGIN:VEVENT
DTSTART;TZID=America/New_York:20191215T133000
DTEND;TZID=America/New_York:20191215T153000
DTSTAMP:20260419T194121
CREATED:20191215T183000Z
LAST-MODIFIED:20191125T153218Z
UID:10000389-1576416600-1576423800@adathisraelnj.org
SUMMARY:Chaverim/Kadima Ice Staking
DESCRIPTION:
URL:https://adathisraelnj.org/event/chaverim-kadima-ice-staking/
LOCATION:Grundy Ice Arena\, 475 Beaver St\, Bristol\, PA 19007\, USA\, 401 Beaver St\, United States
CATEGORIES:External,Kadima and USY,Youth
GEO:40.100769;-74.855941
X-APPLE-STRUCTURED-LOCATION;VALUE=URI;X-ADDRESS=Grundy Ice Arena 475 Beaver St Bristol PA 19007 USA 401 Beaver St United States;X-APPLE-RADIUS=500;X-TITLE=401 Beaver St:geo:-74.855941,40.100769
END:VEVENT
BEGIN:VEVENT
DTSTART;TZID=America/New_York:20191214T110000
DTEND;TZID=America/New_York:20191214T120000
DTSTAMP:20260419T194121
CREATED:20191101T162215Z
LAST-MODIFIED:20191101T162410Z
UID:10000331-1576321200-1576324800@adathisraelnj.org
SUMMARY:Shabbes Fun with Jonah
DESCRIPTION:Join Jonah Adler in the library during Torah reading for Shabbes Fun with Jonah. It’s a fun and interactive way to learn a little bit more about everyone’s favorite day of the week. \nRoom: Chapel
URL:https://adathisraelnj.org/event/shabbes-fun-with-jonah-2/
LOCATION:Adath Israel Congregation\, 1958 Lawrenceville Rd\, Lawrenceville\, NJ 08648\, USA\, United States
CATEGORIES:Worship,Youth
GEO:40.29733;-74.729605
END:VEVENT
BEGIN:VEVENT
DTSTART;TZID=America/New_York:20191127T193000
DTEND;TZID=America/New_York:20191127T223000
DTSTAMP:20260419T194121
CREATED:20191128T003000Z
LAST-MODIFIED:20191125T153218Z
UID:10000351-1574883000-1574893800@adathisraelnj.org
SUMMARY:Mizrach USY/Kadima Turkey Trot
DESCRIPTION:Click Here To RSVP & Pay for this event: \nhttps://bethelsnj.wufoo.com/forms/usy-turkey-trot/ \nClick Here for the Pump It Up Waiver:\nhttps://kiosk.pumpitupparty.com/167
URL:https://adathisraelnj.org/event/mizrach-usy-kadima-turkey-trot-2/
LOCATION:Pump It Up\, 8 E Stow Rd Ste 160\, Marlton\, NJ 08053\, USA\, 2 8th St\, United States
CATEGORIES:External,Kadima and USY,Youth
GEO:39.888911;-74.875204
X-APPLE-STRUCTURED-LOCATION;VALUE=URI;X-ADDRESS=Pump It Up 8 E Stow Rd Ste 160 Marlton NJ 08053 USA 2 8th St United States;X-APPLE-RADIUS=500;X-TITLE=2 8th St:geo:-74.875204,39.888911
END:VEVENT
BEGIN:VEVENT
DTSTART;TZID=America/New_York:20191123T110000
DTEND;TZID=America/New_York:20191123T120000
DTSTAMP:20260419T194121
CREATED:20191101T161055Z
LAST-MODIFIED:20191101T161339Z
UID:10000996-1574506800-1574510400@adathisraelnj.org
SUMMARY:Shabbes Fun with Jonah
DESCRIPTION:Join Jonah Adler in the library during Torah reading for Shabbes Fun with Jonah. It’s a fun and interactive way to learn a little bit more about everyone’s favorite day of the week. \nRoom: Chapel
URL:https://adathisraelnj.org/event/shabbes-fun-with-jonah/
LOCATION:Adath Israel Congregation\, 1958 Lawrenceville Rd\, Lawrenceville\, NJ 08648\, USA\, United States
CATEGORIES:Worship,Youth
GEO:40.29733;-74.729605
END:VEVENT
BEGIN:VEVENT
DTSTART;TZID=America/New_York:20191117T133000
DTEND;TZID=America/New_York:20191117T153000
DTSTAMP:20260419T194121
CREATED:20191101T153442Z
LAST-MODIFIED:20191125T151641Z
UID:10000978-1573997400-1574004600@adathisraelnj.org
SUMMARY:Chaverim/Kadima at Funzilla
DESCRIPTION:Click Here RSVP to & Pay for FUNZILLA: \nhttps://www.easyreg.org/cgi-bin/acct/KLF8UZATG6/displayForm.pl?dir=RZ3C3WW5_2019
URL:https://adathisraelnj.org/event/chaverim-kadima-at-funzilla/
LOCATION:Funzilla\, 500 Lincoln Ave\, Fairless Hills\, PA 19030\, USA\, 101 Lincoln Hwy\, United States
CATEGORIES:External,Kadima and USY,Youth
GEO:40.181191;-74.866759
X-APPLE-STRUCTURED-LOCATION;VALUE=URI;X-ADDRESS=Funzilla 500 Lincoln Ave Fairless Hills PA 19030 USA 101 Lincoln Hwy United States;X-APPLE-RADIUS=500;X-TITLE=101 Lincoln Hwy:geo:-74.866759,40.181191
END:VEVENT
BEGIN:VEVENT
DTSTART;VALUE=DATE:20191115
DTEND;VALUE=DATE:20191118
DTSTAMP:20260419T194121
CREATED:20191101T160922Z
LAST-MODIFIED:20191125T151641Z
UID:10000983-1573776000-1574035199@adathisraelnj.org
SUMMARY:Mizrach USY Fall Convention
DESCRIPTION:USY Fall Convention Hosted by Our BUSY Chapter!\nJoin Mizrach Region USY on November 16-16 for an amazing weekend at Congregation Tiffereth Israel in Bensalem. We are looking forward to joining teens from around Eastern PA\, Delaware and South Jersey\, for an amazing and inspiring weekend. \nMizrach USY is excited to come together to learn more about Israel and as the Jewish State. Please join Mizrach USY as we learn\, grow\, and have create amazing memories together!    \nCost of convention is $199. Cost covers Transportation from centralized location\, activities and food for the weekend. \nScholarships: There are several scholarship opportunities please reach out to your local chapters and fill out the scholarship form in regpacks. \nFor those of you in other areas\, please reach out to your federations\, chapters and Rabbis. When you apply for Fall Convention\, you can also find the regional scholarship application there as well. \nNever been to a convention\, want to know what it is? \nUSY/Kadima conventions are unlike any other Jewish Youth Movement’s. With incredible programming\, larger than life Ruach (Spirit) and wonderful people that become your lifelong friends\, Mizrach USY conventions are definitely something you don’t want to miss out on! \nThe duration of a convention is from Friday afternoon to Sunday morning. Some highlights include a fun-filled Saturday program like ice skating\, interactive activities\, meaningful prayer\, and meeting so many other Jewish people just like you!\nUSY/Kadima allows us to discover our Jewish identity\, leadership skills and our individuality in the world. You will make so many new friends along the way that become your second family. \nFor more information and the FAQ please visit our website at http://mizrachusy.com/regional \nCost: $199  \nClick here to register today!:\nhttps://www.regpacks.com/reg/templates/build/?g_id=100902669
URL:https://adathisraelnj.org/event/mizrach-usy-fall-convention-2/
LOCATION:Congregation Tifereth Israel\, 2909 Bristol Rd\, Bensalem\, PA 19020\, USA\, 1000 Bristol Rd\, United States
CATEGORIES:External,Kadima and USY,Youth
GEO:40.120262;-74.906021
X-APPLE-STRUCTURED-LOCATION;VALUE=URI;X-ADDRESS=Congregation Tifereth Israel 2909 Bristol Rd Bensalem PA 19020 USA 1000 Bristol Rd United States;X-APPLE-RADIUS=500;X-TITLE=1000 Bristol Rd:geo:-74.906021,40.120262
END:VEVENT
BEGIN:VEVENT
DTSTART;TZID=America/New_York:20190825T153000
DTEND;TZID=America/New_York:20190825T173000
DTSTAMP:20260419T194121
CREATED:20190825T193000Z
LAST-MODIFIED:20191101T195625Z
UID:10000930-1566747000-1566754200@adathisraelnj.org
SUMMARY:ALL ABOARD! Annual Summer Mixer
DESCRIPTION:COME ABOARD\, and let’s set sail together! This FREE INDOOR POTLUCK event is OPEN TO ALL! Bring your favorite dairy/vegetarian dish to share. Relax\, mingle with friends\, listen to music\, and enjoy yourself aboard the Adath Israel Cruise Ship! Crafts available for the kids. Don’t miss out on the FUN! Please sign-up by visiting https://m.signupgenius.com/go/AnchorsAway and view Adath’s Potluck Policy\, available on Adath’s Website. Don’t miss out on the fun! \n 
URL:https://adathisraelnj.org/event/all-aboard-annual-summer-mixer/
LOCATION:Adath Israel Congregation\, 1958 Lawrenceville Rd\, Lawrenceville\, NJ 08648\, USA\, United States
CATEGORIES:Family Summer Series,Festival,Youth
GEO:40.29733;-74.729605
END:VEVENT
BEGIN:VEVENT
DTSTART;TZID=America/New_York:20190718T183000
DTEND;TZID=America/New_York:20190718T203000
DTSTAMP:20260419T194121
CREATED:20190718T223000Z
LAST-MODIFIED:20190703T023335Z
UID:10000779-1563474600-1563481800@adathisraelnj.org
SUMMARY:Annual Summer Bonfire
DESCRIPTION:Come for s’more fun! \n  \n 
URL:https://adathisraelnj.org/event/annual-summer-bonfire/
LOCATION:Adath Israel Congregation\, 1958 Lawrenceville Rd\, Lawrenceville\, NJ\, 08648\, United States
CATEGORIES:Family Summer Series,General,Youth
END:VEVENT
BEGIN:VEVENT
DTSTART;TZID=America/New_York:20190714T100000
DTEND;TZID=America/New_York:20190714T110000
DTSTAMP:20260419T194121
CREATED:20190714T140000Z
LAST-MODIFIED:20190703T023030Z
UID:10000773-1563098400-1563102000@adathisraelnj.org
SUMMARY:Popsicles and Play!
DESCRIPTION:Cool off with some popsicles\, and come meet some friends for a park playdate! \nLocation: Village Park in Lawrenceville. \nMeet by the orange\, blue\, and white balloons near the picnic tables! \nPopsicles provided.
URL:https://adathisraelnj.org/event/popsicles-and-play/
CATEGORIES:Family Summer Series,Youth
END:VEVENT
END:VCALENDAR