BEGIN:VCALENDAR
VERSION:2.0
PRODID:-//Adath Israel Congregation - ECPv6.15.12.2//NONSGML v1.0//EN
CALSCALE:GREGORIAN
METHOD:PUBLISH
X-WR-CALNAME:Adath Israel Congregation
X-ORIGINAL-URL:https://adathisraelnj.org
X-WR-CALDESC:Events for Adath Israel Congregation
REFRESH-INTERVAL;VALUE=DURATION:PT1H
X-Robots-Tag:noindex
X-PUBLISHED-TTL:PT1H
BEGIN:VTIMEZONE
TZID:America/New_York
BEGIN:DAYLIGHT
TZOFFSETFROM:-0500
TZOFFSETTO:-0400
TZNAME:EDT
DTSTART:20190310T070000
END:DAYLIGHT
BEGIN:STANDARD
TZOFFSETFROM:-0400
TZOFFSETTO:-0500
TZNAME:EST
DTSTART:20191103T060000
END:STANDARD
BEGIN:DAYLIGHT
TZOFFSETFROM:-0500
TZOFFSETTO:-0400
TZNAME:EDT
DTSTART:20200308T070000
END:DAYLIGHT
BEGIN:STANDARD
TZOFFSETFROM:-0400
TZOFFSETTO:-0500
TZNAME:EST
DTSTART:20201101T060000
END:STANDARD
BEGIN:DAYLIGHT
TZOFFSETFROM:-0500
TZOFFSETTO:-0400
TZNAME:EDT
DTSTART:20210314T070000
END:DAYLIGHT
BEGIN:STANDARD
TZOFFSETFROM:-0400
TZOFFSETTO:-0500
TZNAME:EST
DTSTART:20211107T060000
END:STANDARD
BEGIN:DAYLIGHT
TZOFFSETFROM:-0500
TZOFFSETTO:-0400
TZNAME:EDT
DTSTART:20220313T070000
END:DAYLIGHT
BEGIN:STANDARD
TZOFFSETFROM:-0400
TZOFFSETTO:-0500
TZNAME:EST
DTSTART:20221106T060000
END:STANDARD
BEGIN:DAYLIGHT
TZOFFSETFROM:-0500
TZOFFSETTO:-0400
TZNAME:EDT
DTSTART:20230312T070000
END:DAYLIGHT
BEGIN:STANDARD
TZOFFSETFROM:-0400
TZOFFSETTO:-0500
TZNAME:EST
DTSTART:20231105T060000
END:STANDARD
BEGIN:DAYLIGHT
TZOFFSETFROM:-0500
TZOFFSETTO:-0400
TZNAME:EDT
DTSTART:20240310T070000
END:DAYLIGHT
BEGIN:STANDARD
TZOFFSETFROM:-0400
TZOFFSETTO:-0500
TZNAME:EST
DTSTART:20241103T060000
END:STANDARD
BEGIN:DAYLIGHT
TZOFFSETFROM:-0500
TZOFFSETTO:-0400
TZNAME:EDT
DTSTART:20250309T070000
END:DAYLIGHT
BEGIN:STANDARD
TZOFFSETFROM:-0400
TZOFFSETTO:-0500
TZNAME:EST
DTSTART:20251102T060000
END:STANDARD
BEGIN:DAYLIGHT
TZOFFSETFROM:-0500
TZOFFSETTO:-0400
TZNAME:EDT
DTSTART:20260308T070000
END:DAYLIGHT
BEGIN:STANDARD
TZOFFSETFROM:-0400
TZOFFSETTO:-0500
TZNAME:EST
DTSTART:20261101T060000
END:STANDARD
END:VTIMEZONE
BEGIN:VEVENT
DTSTART;TZID=America/New_York:20250815T193000
DTEND;TZID=America/New_York:20250815T203000
DTSTAMP:20260419T142317
CREATED:20250815T171143Z
LAST-MODIFIED:20250815T171143Z
UID:10006247-1755286200-1755289800@adathisraelnj.org
SUMMARY:Erev Rosh Hashanah
DESCRIPTION:Rosh Hashanah Evening Services
URL:https://adathisraelnj.org/event/erev-rosh-hashanah/
LOCATION:Adath Israel Congregation\, 1958 Lawrenceville Rd\, Lawrenceville\, NJ\, 08648\, United States
CATEGORIES:High Holidays
END:VEVENT
BEGIN:VEVENT
DTSTART;TZID=America/New_York:20250529T190000
DTEND;TZID=America/New_York:20250529T210000
DTSTAMP:20260419T142317
CREATED:20250430T134111Z
LAST-MODIFIED:20250430T134111Z
UID:10006227-1748545200-1748552400@adathisraelnj.org
SUMMARY:102nd Annual Meeting
DESCRIPTION:
URL:https://adathisraelnj.org/event/102nd-annual-meeting/
LOCATION:Adath Israel Congregation\, 1958 Lawrenceville Rd\, Lawrenceville\, NJ\, 08648\, United States
CATEGORIES:General
END:VEVENT
BEGIN:VEVENT
DTSTART;TZID=America/New_York:20250131T193000
DTEND;TZID=America/New_York:20250131T210000
DTSTAMP:20260419T142317
CREATED:20250116T170727Z
LAST-MODIFIED:20250116T170727Z
UID:10006211-1738351800-1738357200@adathisraelnj.org
SUMMARY:Rabbi's Tisch
DESCRIPTION:
URL:https://adathisraelnj.org/event/rabbis-tisch-5/
LOCATION:Adath Israel Congregation\, 1958 Lawrenceville Rd\, Lawrenceville\, NJ\, 08648\, United States
CATEGORIES:General
END:VEVENT
BEGIN:VEVENT
DTSTART;TZID=America/New_York:20241205T193000
DTEND;TZID=America/New_York:20241205T203000
DTSTAMP:20260419T142317
CREATED:20240919T140028Z
LAST-MODIFIED:20241105T165255Z
UID:10006063-1733427000-1733430600@adathisraelnj.org
SUMMARY:Adult Education Class with Rabbi Adler - Judaism's Greatest Ideas
DESCRIPTION:Click HERE to register!
URL:https://adathisraelnj.org/event/adult-education-class-with-rabbi-adler-judaisms-greatest-ideas/2024-12-05/
LOCATION:Adath Israel Congregation\, 1958 Lawrenceville Rd\, Lawrenceville\, NJ\, 08648\, United States
CATEGORIES:Adult Education
END:VEVENT
BEGIN:VEVENT
DTSTART;TZID=America/New_York:20241121T193000
DTEND;TZID=America/New_York:20241121T203000
DTSTAMP:20260419T142317
CREATED:20240919T140028Z
LAST-MODIFIED:20241105T165255Z
UID:10006061-1732217400-1732221000@adathisraelnj.org
SUMMARY:Adult Education Class with Rabbi Adler - Judaism's Greatest Ideas
DESCRIPTION:Click HERE to register!
URL:https://adathisraelnj.org/event/adult-education-class-with-rabbi-adler-judaisms-greatest-ideas/2024-11-21/
LOCATION:Adath Israel Congregation\, 1958 Lawrenceville Rd\, Lawrenceville\, NJ\, 08648\, United States
CATEGORIES:Adult Education
END:VEVENT
BEGIN:VEVENT
DTSTART;TZID=America/New_York:20241107T193000
DTEND;TZID=America/New_York:20241107T203000
DTSTAMP:20260419T142317
CREATED:20240919T140028Z
LAST-MODIFIED:20241105T165255Z
UID:10006059-1731007800-1731011400@adathisraelnj.org
SUMMARY:Adult Education Class with Rabbi Adler - Judaism's Greatest Ideas
DESCRIPTION:Click HERE to register!
URL:https://adathisraelnj.org/event/adult-education-class-with-rabbi-adler-judaisms-greatest-ideas/2024-11-07/
LOCATION:Adath Israel Congregation\, 1958 Lawrenceville Rd\, Lawrenceville\, NJ\, 08648\, United States
CATEGORIES:Adult Education
END:VEVENT
BEGIN:VEVENT
DTSTART;TZID=America/New_York:20210808T130000
DTEND;TZID=America/New_York:20210808T160000
DTSTAMP:20260419T142317
CREATED:20210726T195503Z
LAST-MODIFIED:20210726T195503Z
UID:10001449-1628427600-1628438400@adathisraelnj.org
SUMMARY:Jewish Cultural Fest Sunday
DESCRIPTION:
URL:https://adathisraelnj.org/event/jewish-cultural-fest-sunday/
LOCATION:Adath Israel Congregation\, 1958 Lawrenceville Rd\, Lawrenceville\, NJ\, 08648\, United States
CATEGORIES:General
END:VEVENT
BEGIN:VEVENT
DTSTART;TZID=America/New_York:20200629T070000
DTEND;TZID=America/New_York:20200629T080000
DTSTAMP:20260419T142317
CREATED:20191218T131848Z
LAST-MODIFIED:20200609T144744Z
UID:10000398-1593414000-1593417600@adathisraelnj.org
SUMMARY:Morning Minyan
DESCRIPTION:
URL:https://adathisraelnj.org/event/morning-minyan-189/
LOCATION:Adath Israel Congregation\, 1958 Lawrenceville Rd\, Lawrenceville\, NJ\, 08648\, United States
CATEGORIES:Worship
END:VEVENT
BEGIN:VEVENT
DTSTART;TZID=America/New_York:20200627T093000
DTEND;TZID=America/New_York:20200627T120000
DTSTAMP:20260419T142317
CREATED:20191218T131855Z
LAST-MODIFIED:20200609T144325Z
UID:10000404-1593250200-1593259200@adathisraelnj.org
SUMMARY:Shabbat Morning Service
DESCRIPTION:
URL:https://adathisraelnj.org/event/shabbat-morning-service-48/
LOCATION:Adath Israel Congregation\, 1958 Lawrenceville Rd\, Lawrenceville\, NJ\, 08648\, United States
CATEGORIES:Worship
END:VEVENT
BEGIN:VEVENT
DTSTART;TZID=America/New_York:20200626T193000
DTEND;TZID=America/New_York:20200626T203000
DTSTAMP:20260419T142317
CREATED:20191218T131842Z
LAST-MODIFIED:20200609T144341Z
UID:10001180-1593199800-1593203400@adathisraelnj.org
SUMMARY:Kabbalat Shabbat Service
DESCRIPTION:
URL:https://adathisraelnj.org/event/kabbalat-shabbat-service-99/
LOCATION:Adath Israel Congregation\, 1958 Lawrenceville Rd\, Lawrenceville\, NJ\, 08648\, United States
CATEGORIES:Worship
END:VEVENT
BEGIN:VEVENT
DTSTART;TZID=America/New_York:20200625T070000
DTEND;TZID=America/New_York:20200625T070000
DTSTAMP:20260419T142317
CREATED:20200625T110000Z
LAST-MODIFIED:20200609T144400Z
UID:10000492-1593068400-1593068400@adathisraelnj.org
SUMMARY:Morning Minyan
DESCRIPTION:
URL:https://adathisraelnj.org/event/morning-minyan-193/
LOCATION:Adath Israel Congregation\, 1958 Lawrenceville Rd\, Lawrenceville\, NJ\, 08648\, United States
CATEGORIES:Worship
END:VEVENT
BEGIN:VEVENT
DTSTART;TZID=America/New_York:20200622T070000
DTEND;TZID=America/New_York:20200622T080000
DTSTAMP:20260419T142317
CREATED:20191218T131847Z
LAST-MODIFIED:20200609T144411Z
UID:10000397-1592809200-1592812800@adathisraelnj.org
SUMMARY:Morning Minyan
DESCRIPTION:
URL:https://adathisraelnj.org/event/morning-minyan-188/
LOCATION:Adath Israel Congregation\, 1958 Lawrenceville Rd\, Lawrenceville\, NJ\, 08648\, United States
CATEGORIES:Worship
END:VEVENT
BEGIN:VEVENT
DTSTART;TZID=America/New_York:20200620T093000
DTEND;TZID=America/New_York:20200620T120000
DTSTAMP:20260419T142317
CREATED:20191218T131855Z
LAST-MODIFIED:20200609T161640Z
UID:10000403-1592645400-1592654400@adathisraelnj.org
SUMMARY:Shabbat Morning Service
DESCRIPTION:
URL:https://adathisraelnj.org/event/shabbat-morning-service-47/
LOCATION:Adath Israel Congregation\, 1958 Lawrenceville Rd\, Lawrenceville\, NJ\, 08648\, United States
CATEGORIES:Worship
END:VEVENT
BEGIN:VEVENT
DTSTART;TZID=America/New_York:20200619T193000
DTEND;TZID=America/New_York:20200619T203000
DTSTAMP:20260419T142317
CREATED:20191218T131842Z
LAST-MODIFIED:20200609T144211Z
UID:10001176-1592595000-1592598600@adathisraelnj.org
SUMMARY:Kabbalat Shabbat Service
DESCRIPTION:
URL:https://adathisraelnj.org/event/kabbalat-shabbat-service-98/
LOCATION:Adath Israel Congregation\, 1958 Lawrenceville Rd\, Lawrenceville\, NJ\, 08648\, United States
CATEGORIES:Worship
END:VEVENT
BEGIN:VEVENT
DTSTART;TZID=America/New_York:20200618T070000
DTEND;TZID=America/New_York:20200618T070000
DTSTAMP:20260419T142317
CREATED:20200618T110000Z
LAST-MODIFIED:20200609T144423Z
UID:10001310-1592463600-1592463600@adathisraelnj.org
SUMMARY:Morning Minyan
DESCRIPTION:
URL:https://adathisraelnj.org/event/morning-minyan-192/
LOCATION:Adath Israel Congregation\, 1958 Lawrenceville Rd\, Lawrenceville\, NJ\, 08648\, United States
CATEGORIES:Worship
END:VEVENT
BEGIN:VEVENT
DTSTART;TZID=America/New_York:20200615T070000
DTEND;TZID=America/New_York:20200615T080000
DTSTAMP:20260419T142317
CREATED:20191218T131844Z
LAST-MODIFIED:20200609T144433Z
UID:10000396-1592204400-1592208000@adathisraelnj.org
SUMMARY:Morning Minyan
DESCRIPTION:
URL:https://adathisraelnj.org/event/morning-minyan-187/
LOCATION:Adath Israel Congregation\, 1958 Lawrenceville Rd\, Lawrenceville\, NJ\, 08648\, United States
CATEGORIES:Worship
END:VEVENT
BEGIN:VEVENT
DTSTART;TZID=America/New_York:20200613T093000
DTEND;TZID=America/New_York:20200613T120000
DTSTAMP:20260419T142317
CREATED:20191218T131854Z
LAST-MODIFIED:20200609T144452Z
UID:10000402-1592040600-1592049600@adathisraelnj.org
SUMMARY:Shabbat Morning Service
DESCRIPTION:
URL:https://adathisraelnj.org/event/shabbat-morning-service-46/
LOCATION:Adath Israel Congregation\, 1958 Lawrenceville Rd\, Lawrenceville\, NJ\, 08648\, United States
CATEGORIES:Worship
END:VEVENT
BEGIN:VEVENT
DTSTART;TZID=America/New_York:20200612T193000
DTEND;TZID=America/New_York:20200612T203000
DTSTAMP:20260419T142317
CREATED:20191218T131838Z
LAST-MODIFIED:20200609T144226Z
UID:10001174-1591990200-1591993800@adathisraelnj.org
SUMMARY:Kabbalat Shabbat Service
DESCRIPTION:
URL:https://adathisraelnj.org/event/kabbalat-shabbat-service-97/
LOCATION:Adath Israel Congregation\, 1958 Lawrenceville Rd\, Lawrenceville\, NJ\, 08648\, United States
CATEGORIES:Worship
END:VEVENT
BEGIN:VEVENT
DTSTART;TZID=America/New_York:20200611T070000
DTEND;TZID=America/New_York:20200611T070000
DTSTAMP:20260419T142317
CREATED:20200611T110000Z
LAST-MODIFIED:20200528T132653Z
UID:10001306-1591858800-1591858800@adathisraelnj.org
SUMMARY:Morning Minyan
DESCRIPTION:
URL:https://adathisraelnj.org/event/morning-minyan-191/
LOCATION:Adath Israel Congregation\, 1958 Lawrenceville Rd\, Lawrenceville\, NJ\, 08648\, United States
CATEGORIES:Worship
END:VEVENT
BEGIN:VEVENT
DTSTART;TZID=America/New_York:20200608T070000
DTEND;TZID=America/New_York:20200608T080000
DTSTAMP:20260419T142317
CREATED:20191218T131844Z
LAST-MODIFIED:20200528T132653Z
UID:10000393-1591599600-1591603200@adathisraelnj.org
SUMMARY:Morning Minyan
DESCRIPTION:
URL:https://adathisraelnj.org/event/morning-minyan-186/
LOCATION:Adath Israel Congregation\, 1958 Lawrenceville Rd\, Lawrenceville\, NJ\, 08648\, United States
CATEGORIES:Worship
END:VEVENT
BEGIN:VEVENT
DTSTART;TZID=America/New_York:20200606T093000
DTEND;TZID=America/New_York:20200606T120000
DTSTAMP:20260419T142317
CREATED:20191218T131853Z
LAST-MODIFIED:20200609T144237Z
UID:10000400-1591435800-1591444800@adathisraelnj.org
SUMMARY:Shabbat Morning Service
DESCRIPTION:
URL:https://adathisraelnj.org/event/shabbat-morning-service-45/
LOCATION:Adath Israel Congregation\, 1958 Lawrenceville Rd\, Lawrenceville\, NJ\, 08648\, United States
CATEGORIES:Worship
END:VEVENT
BEGIN:VEVENT
DTSTART;TZID=America/New_York:20200605T193000
DTEND;TZID=America/New_York:20200605T203000
DTSTAMP:20260419T142317
CREATED:20200605T233000Z
LAST-MODIFIED:20200508T015347Z
UID:10000463-1591385400-1591389000@adathisraelnj.org
SUMMARY:Kabbalat Shabbat Service
DESCRIPTION:
URL:https://adathisraelnj.org/event/kabbalat-shabbat-service-96/
LOCATION:Adath Israel Congregation\, 1958 Lawrenceville Rd\, Lawrenceville\, NJ\, 08648\, United States
CATEGORIES:Worship
END:VEVENT
BEGIN:VEVENT
DTSTART;TZID=America/New_York:20200604T070000
DTEND;TZID=America/New_York:20200604T070000
DTSTAMP:20260419T142317
CREATED:20191218T131849Z
LAST-MODIFIED:20200528T132653Z
UID:10000399-1591254000-1591254000@adathisraelnj.org
SUMMARY:Morning Minyan
DESCRIPTION:
URL:https://adathisraelnj.org/event/morning-minyan-190/
LOCATION:Adath Israel Congregation\, 1958 Lawrenceville Rd\, Lawrenceville\, NJ\, 08648\, United States
CATEGORIES:Worship
END:VEVENT
BEGIN:VEVENT
DTSTART;TZID=America/New_York:20200601T070000
DTEND;TZID=America/New_York:20200601T080000
DTSTAMP:20260419T142317
CREATED:20191218T131843Z
LAST-MODIFIED:20200528T132653Z
UID:10001182-1590994800-1590998400@adathisraelnj.org
SUMMARY:Morning Minyan
DESCRIPTION:
URL:https://adathisraelnj.org/event/morning-minyan-185/
LOCATION:Adath Israel Congregation\, 1958 Lawrenceville Rd\, Lawrenceville\, NJ\, 08648\, United States
CATEGORIES:Worship
END:VEVENT
BEGIN:VEVENT
DTSTART;TZID=America/New_York:20200530T093000
DTEND;TZID=America/New_York:20200530T120000
DTSTAMP:20260419T142317
CREATED:20191218T131836Z
LAST-MODIFIED:20200504T205709Z
UID:10001172-1590831000-1590840000@adathisraelnj.org
SUMMARY:Shabbat Morning Service
DESCRIPTION:
URL:https://adathisraelnj.org/event/shabbat-morning-service-44/
LOCATION:Adath Israel Congregation\, 1958 Lawrenceville Rd\, Lawrenceville\, NJ\, 08648\, United States
CATEGORIES:Worship
END:VEVENT
BEGIN:VEVENT
DTSTART;TZID=America/New_York:20200529T193000
DTEND;TZID=America/New_York:20200529T203000
DTSTAMP:20260419T142317
CREATED:20200529T233000Z
LAST-MODIFIED:20200508T015120Z
UID:10001280-1590780600-1590784200@adathisraelnj.org
SUMMARY:Kabbalat Shabbat Service
DESCRIPTION:
URL:https://adathisraelnj.org/event/kabbalat-shabbat-service-95/
LOCATION:Adath Israel Congregation\, 1958 Lawrenceville Rd\, Lawrenceville\, NJ\, 08648\, United States
CATEGORIES:Worship
END:VEVENT
BEGIN:VEVENT
DTSTART;TZID=America/New_York:20200528T070000
DTEND;TZID=America/New_York:20200528T080000
DTSTAMP:20260419T142317
CREATED:20191218T131832Z
LAST-MODIFIED:20200504T205020Z
UID:10001166-1590649200-1590652800@adathisraelnj.org
SUMMARY:Morning Minyan
DESCRIPTION:
URL:https://adathisraelnj.org/event/morning-minyan-184/
LOCATION:Adath Israel Congregation\, 1958 Lawrenceville Rd\, Lawrenceville\, NJ\, 08648\, United States
CATEGORIES:Worship
END:VEVENT
BEGIN:VEVENT
DTSTART;TZID=America/New_York:20200525T070000
DTEND;TZID=America/New_York:20200525T080000
DTSTAMP:20260419T142317
CREATED:20191218T131828Z
LAST-MODIFIED:20200504T205019Z
UID:10001157-1590390000-1590393600@adathisraelnj.org
SUMMARY:Morning Minyan
DESCRIPTION:
URL:https://adathisraelnj.org/event/morning-minyan-180/
LOCATION:Adath Israel Congregation\, 1958 Lawrenceville Rd\, Lawrenceville\, NJ\, 08648\, United States
CATEGORIES:Worship
END:VEVENT
BEGIN:VEVENT
DTSTART;TZID=America/New_York:20200523T093000
DTEND;TZID=America/New_York:20200523T120000
DTSTAMP:20260419T142317
CREATED:20200522T133000Z
LAST-MODIFIED:20200504T205548Z
UID:10001278-1590226200-1590235200@adathisraelnj.org
SUMMARY:Shabbat Morning Service
DESCRIPTION:
URL:https://adathisraelnj.org/event/shabbat-morning-service-43/
LOCATION:Adath Israel Congregation\, 1958 Lawrenceville Rd\, Lawrenceville\, NJ\, 08648\, United States
CATEGORIES:Worship
END:VEVENT
BEGIN:VEVENT
DTSTART;TZID=America/New_York:20200522T193000
DTEND;TZID=America/New_York:20200522T203000
DTSTAMP:20260419T142317
CREATED:20200522T233000Z
LAST-MODIFIED:20200508T014944Z
UID:10001279-1590175800-1590179400@adathisraelnj.org
SUMMARY:Kabbalat Shabbat Service
DESCRIPTION:
URL:https://adathisraelnj.org/event/kabbalat-shabbat-service-94/
LOCATION:Adath Israel Congregation\, 1958 Lawrenceville Rd\, Lawrenceville\, NJ\, 08648\, United States
CATEGORIES:Worship
END:VEVENT
END:VCALENDAR