BEGIN:VCALENDAR
VERSION:2.0
PRODID:-//Adath Israel Congregation - ECPv6.15.12.2//NONSGML v1.0//EN
CALSCALE:GREGORIAN
METHOD:PUBLISH
X-WR-CALNAME:Adath Israel Congregation
X-ORIGINAL-URL:https://adathisraelnj.org
X-WR-CALDESC:Events for Adath Israel Congregation
REFRESH-INTERVAL;VALUE=DURATION:PT1H
X-Robots-Tag:noindex
X-PUBLISHED-TTL:PT1H
BEGIN:VTIMEZONE
TZID:America/New_York
BEGIN:DAYLIGHT
TZOFFSETFROM:-0500
TZOFFSETTO:-0400
TZNAME:EDT
DTSTART:20180311T070000
END:DAYLIGHT
BEGIN:STANDARD
TZOFFSETFROM:-0400
TZOFFSETTO:-0500
TZNAME:EST
DTSTART:20181104T060000
END:STANDARD
BEGIN:DAYLIGHT
TZOFFSETFROM:-0500
TZOFFSETTO:-0400
TZNAME:EDT
DTSTART:20190310T070000
END:DAYLIGHT
BEGIN:STANDARD
TZOFFSETFROM:-0400
TZOFFSETTO:-0500
TZNAME:EST
DTSTART:20191103T060000
END:STANDARD
BEGIN:DAYLIGHT
TZOFFSETFROM:-0500
TZOFFSETTO:-0400
TZNAME:EDT
DTSTART:20200308T070000
END:DAYLIGHT
BEGIN:STANDARD
TZOFFSETFROM:-0400
TZOFFSETTO:-0500
TZNAME:EST
DTSTART:20201101T060000
END:STANDARD
END:VTIMEZONE
BEGIN:VEVENT
DTSTART;TZID=America/New_York:20191009T180000
DTEND;TZID=America/New_York:20191009T180000
DTSTAMP:20260423T053037
CREATED:20190811T233921Z
LAST-MODIFIED:20190811T234044Z
UID:10000833-1570644000-1570644000@adathisraelnj.org
SUMMARY:Neilah and Ma'ariv
DESCRIPTION:
URL:https://adathisraelnj.org/event/neilah-and-maariv-2/
LOCATION:Adath Israel Congregation\, 1958 Lawrenceville Rd\, Lawrenceville\, NJ\, 08648\, United States
CATEGORIES:High Holidays,Worship
END:VEVENT
BEGIN:VEVENT
DTSTART;TZID=America/New_York:20191009T163000
DTEND;TZID=America/New_York:20191009T163000
DTSTAMP:20260423T053038
CREATED:20190811T233921Z
LAST-MODIFIED:20190811T234044Z
UID:10000827-1570638600-1570638600@adathisraelnj.org
SUMMARY:Mincha
DESCRIPTION:
URL:https://adathisraelnj.org/event/mincha-2/
LOCATION:Adath Israel Congregation\, 1958 Lawrenceville Rd\, Lawrenceville\, NJ\, 08648\, United States
CATEGORIES:High Holidays,Worship
END:VEVENT
BEGIN:VEVENT
DTSTART;TZID=America/New_York:20191009T090000
DTEND;TZID=America/New_York:20191009T090000
DTSTAMP:20260423T053038
CREATED:20190811T233919Z
LAST-MODIFIED:20190811T234044Z
UID:10000826-1570611600-1570611600@adathisraelnj.org
SUMMARY:Yom Kippur with Yizkor
DESCRIPTION:
URL:https://adathisraelnj.org/event/yom-kippur-with-yizkor/
LOCATION:Adath Israel Congregation\, 1958 Lawrenceville Rd\, Lawrenceville\, NJ\, 08648\, United States
CATEGORIES:High Holidays,Worship
END:VEVENT
BEGIN:VEVENT
DTSTART;TZID=America/New_York:20191008T180000
DTEND;TZID=America/New_York:20191008T180000
DTSTAMP:20260423T053038
CREATED:20191009T220000Z
LAST-MODIFIED:20190811T234154Z
UID:10000316-1570557600-1570557600@adathisraelnj.org
SUMMARY:Kol Nidre
DESCRIPTION:
URL:https://adathisraelnj.org/event/kol-nidre/
LOCATION:Adath Israel Congregation\, 1958 Lawrenceville Rd\, Lawrenceville\, NJ\, 08648\, United States
CATEGORIES:High Holidays,Worship
END:VEVENT
BEGIN:VEVENT
DTSTART;TZID=America/New_York:20191007T070000
DTEND;TZID=America/New_York:20191007T080000
DTSTAMP:20260423T053038
CREATED:20190816T175612Z
LAST-MODIFIED:20190816T175612Z
UID:10000281-1570431600-1570435200@adathisraelnj.org
SUMMARY:Morning Minyan
DESCRIPTION:
URL:https://adathisraelnj.org/event/morning-minyan-120/
LOCATION:Adath Israel Congregation\, 1958 Lawrenceville Rd\, Lawrenceville\, NJ\, 08648\, United States
CATEGORIES:Worship
END:VEVENT
BEGIN:VEVENT
DTSTART;TZID=America/New_York:20191005T093000
DTEND;TZID=America/New_York:20191005T120000
DTSTAMP:20260423T053038
CREATED:20190816T180903Z
LAST-MODIFIED:20190816T180903Z
UID:10000308-1570267800-1570276800@adathisraelnj.org
SUMMARY:Shabbat Morning Service
DESCRIPTION:
URL:https://adathisraelnj.org/event/shabbat-morning-service-10/
LOCATION:Adath Israel Congregation\, 1958 Lawrenceville Rd\, Lawrenceville\, NJ\, 08648\, United States
CATEGORIES:Worship
END:VEVENT
BEGIN:VEVENT
DTSTART;TZID=America/New_York:20191004T193000
DTEND;TZID=America/New_York:20191004T203000
DTSTAMP:20260423T053038
CREATED:20190816T180850Z
LAST-MODIFIED:20190816T180850Z
UID:10000904-1570217400-1570221000@adathisraelnj.org
SUMMARY:Kabbalat Shabbat Service
DESCRIPTION:
URL:https://adathisraelnj.org/event/kabbalat-shabbat-service-61/
LOCATION:Adath Israel Congregation\, 1958 Lawrenceville Rd\, Lawrenceville\, NJ\, 08648\, United States
CATEGORIES:Worship
END:VEVENT
BEGIN:VEVENT
DTSTART;TZID=America/New_York:20191003T070000
DTEND;TZID=America/New_York:20191003T080000
DTSTAMP:20260423T053038
CREATED:20190816T175623Z
LAST-MODIFIED:20190816T175623Z
UID:10000856-1570086000-1570089600@adathisraelnj.org
SUMMARY:Morning Minyan
DESCRIPTION:
URL:https://adathisraelnj.org/event/morning-minyan-131/
LOCATION:Adath Israel Congregation\, 1958 Lawrenceville Rd\, Lawrenceville\, NJ\, 08648\, United States
CATEGORIES:Worship
END:VEVENT
BEGIN:VEVENT
DTSTART;TZID=America/New_York:20191001T083000
DTEND;TZID=America/New_York:20191001T083000
DTSTAMP:20260423T053038
CREATED:20190811T233919Z
LAST-MODIFIED:20190811T234044Z
UID:10000821-1569918600-1569918600@adathisraelnj.org
SUMMARY:Rosh Hashonah Day 2
DESCRIPTION:
URL:https://adathisraelnj.org/event/rosh-hashonah-day-2/
LOCATION:Adath Israel Congregation\, 1958 Lawrenceville Rd\, Lawrenceville\, NJ\, 08648\, United States
CATEGORIES:High Holidays,Worship
END:VEVENT
BEGIN:VEVENT
DTSTART;TZID=America/New_York:20190930T193000
DTEND;TZID=America/New_York:20190930T203000
DTSTAMP:20260423T053038
CREATED:20190930T111857Z
LAST-MODIFIED:20190930T111857Z
UID:10000942-1569871800-1569875400@adathisraelnj.org
SUMMARY:Rosh Hashonah Evening Service
DESCRIPTION:
URL:https://adathisraelnj.org/event/rosh-hashonah-evening-service/
LOCATION:Adath Israel Congregation\, 1958 Lawrenceville Rd\, Lawrenceville\, NJ\, 08648\, United States
CATEGORIES:Worship
END:VEVENT
BEGIN:VEVENT
DTSTART;TZID=America/New_York:20190930T083000
DTEND;TZID=America/New_York:20190930T083000
DTSTAMP:20260423T053038
CREATED:20190811T233919Z
LAST-MODIFIED:20190811T234044Z
UID:10000819-1569832200-1569832200@adathisraelnj.org
SUMMARY:Rosh Hashonah Day 1 with Tashlich
DESCRIPTION:
URL:https://adathisraelnj.org/event/rosh-hashonah-day-1-with-tashlich/
LOCATION:Adath Israel Congregation\, 1958 Lawrenceville Rd\, Lawrenceville\, NJ\, 08648\, United States
CATEGORIES:High Holidays,Worship
END:VEVENT
BEGIN:VEVENT
DTSTART;TZID=America/New_York:20190929T193000
DTEND;TZID=America/New_York:20190929T193000
DTSTAMP:20260423T053038
CREATED:20190811T233927Z
LAST-MODIFIED:20190811T234044Z
UID:10000279-1569785400-1569785400@adathisraelnj.org
SUMMARY:Erev Rosh Hashonah
DESCRIPTION:
URL:https://adathisraelnj.org/event/erev-rosh-hashonah/
LOCATION:Adath Israel Congregation\, 1958 Lawrenceville Rd\, Lawrenceville\, NJ\, 08648\, United States
CATEGORIES:High Holidays,Worship
END:VEVENT
BEGIN:VEVENT
DTSTART;TZID=America/New_York:20190928T093000
DTEND;TZID=America/New_York:20190928T120000
DTSTAMP:20260423T053038
CREATED:20190811T233918Z
LAST-MODIFIED:20190811T233918Z
UID:10000818-1569663000-1569672000@adathisraelnj.org
SUMMARY:Shabbat Morning Service
DESCRIPTION:
URL:https://adathisraelnj.org/event/shabbat-morning-service-9/
LOCATION:Adath Israel Congregation\, 1958 Lawrenceville Rd\, Lawrenceville\, NJ\, 08648\, United States
CATEGORIES:Worship
END:VEVENT
BEGIN:VEVENT
DTSTART;TZID=America/New_York:20190927T181500
DTEND;TZID=America/New_York:20190927T193000
DTSTAMP:20260423T053038
CREATED:20190927T233000Z
LAST-MODIFIED:20190825T225648Z
UID:10000940-1569608100-1569612600@adathisraelnj.org
SUMMARY:Kabbalat Shabbat Service
DESCRIPTION:
URL:https://adathisraelnj.org/event/kabbalat-shabbat-service-60/
LOCATION:Adath Israel Congregation\, 1958 Lawrenceville Rd\, Lawrenceville\, NJ\, 08648\, United States
CATEGORIES:Worship
END:VEVENT
BEGIN:VEVENT
DTSTART;TZID=America/New_York:20190926T070000
DTEND;TZID=America/New_York:20190926T080000
DTSTAMP:20260423T053038
CREATED:20190811T233914Z
LAST-MODIFIED:20190811T233914Z
UID:10000806-1569481200-1569484800@adathisraelnj.org
SUMMARY:Morning Minyan
DESCRIPTION:
URL:https://adathisraelnj.org/event/morning-minyan-119/
LOCATION:Adath Israel Congregation\, 1958 Lawrenceville Rd\, Lawrenceville\, NJ\, 08648\, United States
CATEGORIES:Worship
END:VEVENT
BEGIN:VEVENT
DTSTART;TZID=America/New_York:20190923T070000
DTEND;TZID=America/New_York:20190923T080000
DTSTAMP:20260423T053038
CREATED:20190811T233909Z
LAST-MODIFIED:20190811T233909Z
UID:10000275-1569222000-1569225600@adathisraelnj.org
SUMMARY:Morning Minyan
DESCRIPTION:
URL:https://adathisraelnj.org/event/morning-minyan-115/
LOCATION:Adath Israel Congregation\, 1958 Lawrenceville Rd\, Lawrenceville\, NJ\, 08648\, United States
CATEGORIES:Worship
END:VEVENT
BEGIN:VEVENT
DTSTART;TZID=America/New_York:20190921T093000
DTEND;TZID=America/New_York:20190921T120000
DTSTAMP:20260423T053038
CREATED:20190811T233916Z
LAST-MODIFIED:20190811T233916Z
UID:10000817-1569058200-1569067200@adathisraelnj.org
SUMMARY:Shabbat Morning Service
DESCRIPTION:
URL:https://adathisraelnj.org/event/shabbat-morning-service-8/
LOCATION:Adath Israel Congregation\, 1958 Lawrenceville Rd\, Lawrenceville\, NJ\, 08648\, United States
CATEGORIES:Worship
END:VEVENT
BEGIN:VEVENT
DTSTART;TZID=America/New_York:20190920T193000
DTEND;TZID=America/New_York:20190920T203000
DTSTAMP:20260423T053038
CREATED:20190811T233904Z
LAST-MODIFIED:20190811T233904Z
UID:10000269-1569007800-1569011400@adathisraelnj.org
SUMMARY:Kabbalat Shabbat Service
DESCRIPTION:
URL:https://adathisraelnj.org/event/kabbalat-shabbat-service-59/
LOCATION:Adath Israel Congregation\, 1958 Lawrenceville Rd\, Lawrenceville\, NJ\, 08648\, United States
CATEGORIES:Worship
END:VEVENT
BEGIN:VEVENT
DTSTART;TZID=America/New_York:20190919T070000
DTEND;TZID=America/New_York:20190919T080000
DTSTAMP:20260423T053038
CREATED:20190811T233912Z
LAST-MODIFIED:20190811T233912Z
UID:10000804-1568876400-1568880000@adathisraelnj.org
SUMMARY:Morning Minyan
DESCRIPTION:
URL:https://adathisraelnj.org/event/morning-minyan-118/
LOCATION:Adath Israel Congregation\, 1958 Lawrenceville Rd\, Lawrenceville\, NJ\, 08648\, United States
CATEGORIES:Worship
END:VEVENT
BEGIN:VEVENT
DTSTART;TZID=America/New_York:20190916T070000
DTEND;TZID=America/New_York:20190916T080000
DTSTAMP:20260423T053038
CREATED:20190811T233909Z
LAST-MODIFIED:20190811T233909Z
UID:10000274-1568617200-1568620800@adathisraelnj.org
SUMMARY:Morning Minyan
DESCRIPTION:
URL:https://adathisraelnj.org/event/morning-minyan-114/
LOCATION:Adath Israel Congregation\, 1958 Lawrenceville Rd\, Lawrenceville\, NJ\, 08648\, United States
CATEGORIES:Worship
END:VEVENT
BEGIN:VEVENT
DTSTART;TZID=America/New_York:20190914T093000
DTEND;TZID=America/New_York:20190914T120000
DTSTAMP:20260423T053038
CREATED:20190811T233915Z
LAST-MODIFIED:20190811T233915Z
UID:10000816-1568453400-1568462400@adathisraelnj.org
SUMMARY:Shabbat Morning Service
DESCRIPTION:
URL:https://adathisraelnj.org/event/shabbat-morning-service-7/
LOCATION:Adath Israel Congregation\, 1958 Lawrenceville Rd\, Lawrenceville\, NJ\, 08648\, United States
CATEGORIES:Worship
END:VEVENT
BEGIN:VEVENT
DTSTART;TZID=America/New_York:20190913T193000
DTEND;TZID=America/New_York:20190913T203000
DTSTAMP:20260423T053038
CREATED:20190811T233904Z
LAST-MODIFIED:20190811T233904Z
UID:10000268-1568403000-1568406600@adathisraelnj.org
SUMMARY:Kabbalat Shabbat Service
DESCRIPTION:
URL:https://adathisraelnj.org/event/kabbalat-shabbat-service-58/
LOCATION:Adath Israel Congregation\, 1958 Lawrenceville Rd\, Lawrenceville\, NJ\, 08648\, United States
CATEGORIES:Worship
END:VEVENT
BEGIN:VEVENT
DTSTART;TZID=America/New_York:20190912T070000
DTEND;TZID=America/New_York:20190912T080000
DTSTAMP:20260423T053038
CREATED:20190811T233910Z
LAST-MODIFIED:20190811T233910Z
UID:10000802-1568271600-1568275200@adathisraelnj.org
SUMMARY:Morning Minyan
DESCRIPTION:
URL:https://adathisraelnj.org/event/morning-minyan-117/
LOCATION:Adath Israel Congregation\, 1958 Lawrenceville Rd\, Lawrenceville\, NJ\, 08648\, United States
CATEGORIES:Worship
END:VEVENT
BEGIN:VEVENT
DTSTART;TZID=America/New_York:20190909T070000
DTEND;TZID=America/New_York:20190909T080000
DTSTAMP:20260423T053038
CREATED:20190811T233909Z
LAST-MODIFIED:20190811T233909Z
UID:10000273-1568012400-1568016000@adathisraelnj.org
SUMMARY:Morning Minyan
DESCRIPTION:
URL:https://adathisraelnj.org/event/morning-minyan-113/
LOCATION:Adath Israel Congregation\, 1958 Lawrenceville Rd\, Lawrenceville\, NJ\, 08648\, United States
CATEGORIES:Worship
END:VEVENT
BEGIN:VEVENT
DTSTART;TZID=America/New_York:20190907T093000
DTEND;TZID=America/New_York:20190907T120000
DTSTAMP:20260423T053038
CREATED:20190811T233914Z
LAST-MODIFIED:20190811T233914Z
UID:10000809-1567848600-1567857600@adathisraelnj.org
SUMMARY:Shabbat Morning Service
DESCRIPTION:
URL:https://adathisraelnj.org/event/shabbat-morning-service-6/
LOCATION:Adath Israel Congregation\, 1958 Lawrenceville Rd\, Lawrenceville\, NJ\, 08648\, United States
CATEGORIES:Worship
END:VEVENT
BEGIN:VEVENT
DTSTART;TZID=America/New_York:20190906T193000
DTEND;TZID=America/New_York:20190906T203000
DTSTAMP:20260423T053038
CREATED:20190811T233903Z
LAST-MODIFIED:20190811T233903Z
UID:10000267-1567798200-1567801800@adathisraelnj.org
SUMMARY:Kabbalat Shabbat Service
DESCRIPTION:
URL:https://adathisraelnj.org/event/kabbalat-shabbat-service-57/
LOCATION:Adath Israel Congregation\, 1958 Lawrenceville Rd\, Lawrenceville\, NJ\, 08648\, United States
CATEGORIES:Worship
END:VEVENT
BEGIN:VEVENT
DTSTART;TZID=America/New_York:20190905T070000
DTEND;TZID=America/New_York:20190905T080000
DTSTAMP:20260423T053038
CREATED:20190811T233910Z
LAST-MODIFIED:20190811T233910Z
UID:10000800-1567666800-1567670400@adathisraelnj.org
SUMMARY:Morning Minyan
DESCRIPTION:
URL:https://adathisraelnj.org/event/morning-minyan-116/
LOCATION:Adath Israel Congregation\, 1958 Lawrenceville Rd\, Lawrenceville\, NJ\, 08648\, United States
CATEGORIES:Worship
END:VEVENT
BEGIN:VEVENT
DTSTART;TZID=America/New_York:20190902T070000
DTEND;TZID=America/New_York:20190902T080000
DTSTAMP:20260423T053038
CREATED:20190811T233905Z
LAST-MODIFIED:20190811T233905Z
UID:10000272-1567407600-1567411200@adathisraelnj.org
SUMMARY:Morning Minyan
DESCRIPTION:
URL:https://adathisraelnj.org/event/morning-minyan-112/
LOCATION:Adath Israel Congregation\, 1958 Lawrenceville Rd\, Lawrenceville\, NJ\, 08648\, United States
CATEGORIES:Worship
END:VEVENT
BEGIN:VEVENT
DTSTART;TZID=America/New_York:20190831T093000
DTEND;TZID=America/New_York:20190831T120000
DTSTAMP:20260423T053038
CREATED:20190714T013353Z
LAST-MODIFIED:20190714T013353Z
UID:10000770-1567243800-1567252800@adathisraelnj.org
SUMMARY:Shabbat Morning Service
DESCRIPTION:
URL:https://adathisraelnj.org/event/shabbat-morning-service-5/
LOCATION:Adath Israel Congregation\, 1958 Lawrenceville Rd\, Lawrenceville\, NJ\, 08648\, United States
CATEGORIES:Worship
END:VEVENT
BEGIN:VEVENT
DTSTART;TZID=America/New_York:20190830T193000
DTEND;TZID=America/New_York:20190830T203000
DTSTAMP:20260423T053038
CREATED:20190714T013341Z
LAST-MODIFIED:20190714T013341Z
UID:10000247-1567193400-1567197000@adathisraelnj.org
SUMMARY:Kabbalat Shabbat Service
DESCRIPTION:
URL:https://adathisraelnj.org/event/kabbalat-shabbat-service-56/
LOCATION:Adath Israel Congregation\, 1958 Lawrenceville Rd\, Lawrenceville\, NJ\, 08648\, United States
CATEGORIES:Worship
END:VEVENT
END:VCALENDAR