BEGIN:VCALENDAR
VERSION:2.0
PRODID:-//Adath Israel Congregation - ECPv6.15.12.2//NONSGML v1.0//EN
CALSCALE:GREGORIAN
METHOD:PUBLISH
X-WR-CALNAME:Adath Israel Congregation
X-ORIGINAL-URL:https://adathisraelnj.org
X-WR-CALDESC:Events for Adath Israel Congregation
REFRESH-INTERVAL;VALUE=DURATION:PT1H
X-Robots-Tag:noindex
X-PUBLISHED-TTL:PT1H
BEGIN:VTIMEZONE
TZID:America/New_York
BEGIN:DAYLIGHT
TZOFFSETFROM:-0500
TZOFFSETTO:-0400
TZNAME:EDT
DTSTART:20190310T070000
END:DAYLIGHT
BEGIN:STANDARD
TZOFFSETFROM:-0400
TZOFFSETTO:-0500
TZNAME:EST
DTSTART:20191103T060000
END:STANDARD
BEGIN:DAYLIGHT
TZOFFSETFROM:-0500
TZOFFSETTO:-0400
TZNAME:EDT
DTSTART:20200308T070000
END:DAYLIGHT
BEGIN:STANDARD
TZOFFSETFROM:-0400
TZOFFSETTO:-0500
TZNAME:EST
DTSTART:20201101T060000
END:STANDARD
BEGIN:DAYLIGHT
TZOFFSETFROM:-0500
TZOFFSETTO:-0400
TZNAME:EDT
DTSTART:20210314T070000
END:DAYLIGHT
BEGIN:STANDARD
TZOFFSETFROM:-0400
TZOFFSETTO:-0500
TZNAME:EST
DTSTART:20211107T060000
END:STANDARD
END:VTIMEZONE
BEGIN:VEVENT
DTSTART;TZID=America/New_York:20200417T193000
DTEND;TZID=America/New_York:20200417T203000
DTSTAMP:20260420T030612
CREATED:20191212T223443Z
LAST-MODIFIED:20200317T151222Z
UID:10001138-1587151800-1587155400@adathisraelnj.org
SUMMARY:Kabbalat Shabbat Service
DESCRIPTION:
URL:https://adathisraelnj.org/event/kabbalat-shabbat-service-89/
LOCATION:Adath Israel Congregation\, 1958 Lawrenceville Rd\, Lawrenceville\, NJ\, 08648\, United States
CATEGORIES:Worship
END:VEVENT
BEGIN:VEVENT
DTSTART;TZID=America/New_York:20200413T070000
DTEND;TZID=America/New_York:20200413T080000
DTSTAMP:20260420T030612
CREATED:20191212T223447Z
LAST-MODIFIED:20200319T234134Z
UID:10000379-1586761200-1586764800@adathisraelnj.org
SUMMARY:Morning Minyan
DESCRIPTION:
URL:https://adathisraelnj.org/event/morning-minyan-171/
LOCATION:Adath Israel Congregation\, 1958 Lawrenceville Rd\, Lawrenceville\, NJ\, 08648\, United States
CATEGORIES:Worship
END:VEVENT
BEGIN:VEVENT
DTSTART;TZID=America/New_York:20200411T093000
DTEND;TZID=America/New_York:20200411T120000
DTSTAMP:20260420T030612
CREATED:20191212T223455Z
LAST-MODIFIED:20200317T151307Z
UID:10000385-1586597400-1586606400@adathisraelnj.org
SUMMARY:Shabbat Morning Service
DESCRIPTION:
URL:https://adathisraelnj.org/event/shabbat-morning-service-37/
LOCATION:Adath Israel Congregation\, 1958 Lawrenceville Rd\, Lawrenceville\, NJ\, 08648\, United States
CATEGORIES:Worship
END:VEVENT
BEGIN:VEVENT
DTSTART;TZID=America/New_York:20200410T193000
DTEND;TZID=America/New_York:20200410T203000
DTSTAMP:20260420T030612
CREATED:20191212T223442Z
LAST-MODIFIED:20200317T151222Z
UID:10001135-1586547000-1586550600@adathisraelnj.org
SUMMARY:Kabbalat Shabbat Service
DESCRIPTION:
URL:https://adathisraelnj.org/event/kabbalat-shabbat-service-88/
LOCATION:Adath Israel Congregation\, 1958 Lawrenceville Rd\, Lawrenceville\, NJ\, 08648\, United States
CATEGORIES:Worship
END:VEVENT
BEGIN:VEVENT
DTSTART;TZID=America/New_York:20200406T070000
DTEND;TZID=America/New_York:20200406T080000
DTSTAMP:20260420T030612
CREATED:20191212T223447Z
LAST-MODIFIED:20200319T234050Z
UID:10000377-1586156400-1586160000@adathisraelnj.org
SUMMARY:Morning Minyan
DESCRIPTION:
URL:https://adathisraelnj.org/event/morning-minyan-170/
LOCATION:Adath Israel Congregation\, 1958 Lawrenceville Rd\, Lawrenceville\, NJ\, 08648\, United States
CATEGORIES:Worship
END:VEVENT
BEGIN:VEVENT
DTSTART;TZID=America/New_York:20200404T093000
DTEND;TZID=America/New_York:20200404T120000
DTSTAMP:20260420T030612
CREATED:20191212T223453Z
LAST-MODIFIED:20200317T151308Z
UID:10000384-1585992600-1586001600@adathisraelnj.org
SUMMARY:Shabbat Morning Service
DESCRIPTION:
URL:https://adathisraelnj.org/event/shabbat-morning-service-36/
LOCATION:Adath Israel Congregation\, 1958 Lawrenceville Rd\, Lawrenceville\, NJ\, 08648\, United States
CATEGORIES:Worship
END:VEVENT
BEGIN:VEVENT
DTSTART;TZID=America/New_York:20200403T193000
DTEND;TZID=America/New_York:20200403T203000
DTSTAMP:20260420T030612
CREATED:20191212T223441Z
LAST-MODIFIED:20200317T151222Z
UID:10001133-1585942200-1585945800@adathisraelnj.org
SUMMARY:Kabbalat Shabbat Service
DESCRIPTION:
URL:https://adathisraelnj.org/event/kabbalat-shabbat-service-87/
LOCATION:Adath Israel Congregation\, 1958 Lawrenceville Rd\, Lawrenceville\, NJ\, 08648\, United States
CATEGORIES:Worship
END:VEVENT
BEGIN:VEVENT
DTSTART;TZID=America/New_York:20200402T070000
DTEND;TZID=America/New_York:20200402T080000
DTSTAMP:20260420T030612
CREATED:20191212T223451Z
LAST-MODIFIED:20200319T233703Z
UID:10000381-1585810800-1585814400@adathisraelnj.org
SUMMARY:Morning Minyan
DESCRIPTION:
URL:https://adathisraelnj.org/event/morning-minyan-173/
LOCATION:Adath Israel Congregation\, 1958 Lawrenceville Rd\, Lawrenceville\, NJ\, 08648\, United States
CATEGORIES:Worship
END:VEVENT
BEGIN:VEVENT
DTSTART;TZID=America/New_York:20200330T070000
DTEND;TZID=America/New_York:20200330T080000
DTSTAMP:20260420T030612
CREATED:20200330T110000Z
LAST-MODIFIED:20200414T012109Z
UID:10001261-1585551600-1585555200@adathisraelnj.org
SUMMARY:Morning Minyan
DESCRIPTION:
URL:https://adathisraelnj.org/event/morning-minyan-165/
LOCATION:Adath Israel Congregation\, 1958 Lawrenceville Rd\, Lawrenceville\, NJ\, 08648\, United States
CATEGORIES:Worship
END:VEVENT
BEGIN:VEVENT
DTSTART;TZID=America/New_York:20200329T140000
DTEND;TZID=America/New_York:20200329T140000
DTSTAMP:20260420T030612
CREATED:20200305T170000Z
LAST-MODIFIED:20200313T211512Z
UID:10000434-1585490400-1585490400@adathisraelnj.org
SUMMARY:POSTPONED - One Book One Jewish Community
DESCRIPTION:Contact Adath Israel Office 609-896-4977 for information about this program \nBook Selection: The World That We Knew  A novel by Alice Hoffman \nClick on image to view larger size
URL:https://adathisraelnj.org/event/one-book-one-jewish-community-2/
LOCATION:Adath Israel Congregation\, 1958 Lawrenceville Rd\, Lawrenceville\, NJ\, 08648\, United States
CATEGORIES:Adult Education
END:VEVENT
BEGIN:VEVENT
DTSTART;TZID=America/New_York:20200328T093000
DTEND;TZID=America/New_York:20200328T120000
DTSTAMP:20260420T030612
CREATED:20200328T133000Z
LAST-MODIFIED:20200317T030356Z
UID:10001231-1585387800-1585396800@adathisraelnj.org
SUMMARY:CANCELLED: Shabbat Morning Service
DESCRIPTION:
URL:https://adathisraelnj.org/event/shabbat-morning-service-35/
LOCATION:Adath Israel Congregation\, 1958 Lawrenceville Rd\, Lawrenceville\, NJ\, 08648\, United States
CATEGORIES:Worship
END:VEVENT
BEGIN:VEVENT
DTSTART;TZID=America/New_York:20200327T173000
DTEND;TZID=America/New_York:20200327T173000
DTSTAMP:20260420T030612
CREATED:20200327T213000Z
LAST-MODIFIED:20200414T012203Z
UID:10001259-1585330200-1585330200@adathisraelnj.org
SUMMARY:Kabbalat Shabbat Service
DESCRIPTION:
URL:https://adathisraelnj.org/event/kabbalat-shabbat-service-86/
LOCATION:Adath Israel Congregation\, 1958 Lawrenceville Rd\, Lawrenceville\, NJ\, 08648\, United States
CATEGORIES:Worship
END:VEVENT
BEGIN:VEVENT
DTSTART;TZID=America/New_York:20200326T070000
DTEND;TZID=America/New_York:20200326T080000
DTSTAMP:20260420T030612
CREATED:20200326T110000Z
LAST-MODIFIED:20200414T012222Z
UID:10001257-1585206000-1585209600@adathisraelnj.org
SUMMARY:Morning Minyan
DESCRIPTION:
URL:https://adathisraelnj.org/event/morning-minyan-169/
LOCATION:Adath Israel Congregation\, 1958 Lawrenceville Rd\, Lawrenceville\, NJ\, 08648\, United States
CATEGORIES:Worship
END:VEVENT
BEGIN:VEVENT
DTSTART;TZID=America/New_York:20200323T070000
DTEND;TZID=America/New_York:20200323T080000
DTSTAMP:20260420T030612
CREATED:20200319T110000Z
LAST-MODIFIED:20200319T225628Z
UID:10001250-1584946800-1584950400@adathisraelnj.org
SUMMARY:Morning Minyan
DESCRIPTION:
URL:https://adathisraelnj.org/event/morning-minyan-164/
LOCATION:Adath Israel Congregation\, 1958 Lawrenceville Rd\, Lawrenceville\, NJ\, 08648\, United States
CATEGORIES:Worship
END:VEVENT
BEGIN:VEVENT
DTSTART;TZID=America/New_York:20200321T093000
DTEND;TZID=America/New_York:20200321T120000
DTSTAMP:20260420T030612
CREATED:20200321T133000Z
LAST-MODIFIED:20200317T030356Z
UID:10001254-1584783000-1584792000@adathisraelnj.org
SUMMARY:CANCELLED: Shabbat Morning Service
DESCRIPTION:
URL:https://adathisraelnj.org/event/shabbat-morning-service-34/
LOCATION:Adath Israel Congregation\, 1958 Lawrenceville Rd\, Lawrenceville\, NJ\, 08648\, United States
CATEGORIES:Worship
END:VEVENT
BEGIN:VEVENT
DTSTART;TZID=America/New_York:20200320T173000
DTEND;TZID=America/New_York:20200320T183000
DTSTAMP:20260420T030612
CREATED:20200320T213000Z
LAST-MODIFIED:20200414T011921Z
UID:10001253-1584725400-1584729000@adathisraelnj.org
SUMMARY:Kabbalat Shabbat Service
DESCRIPTION:
URL:https://adathisraelnj.org/event/kabbalat-shabbat-service-85/
LOCATION:Adath Israel Congregation\, 1958 Lawrenceville Rd\, Lawrenceville\, NJ\, 08648\, United States
CATEGORIES:Worship
END:VEVENT
BEGIN:VEVENT
DTSTART;TZID=America/New_York:20200319T070000
DTEND;TZID=America/New_York:20200319T080000
DTSTAMP:20260420T030612
CREATED:20200319T110000Z
LAST-MODIFIED:20200316T013445Z
UID:10001251-1584601200-1584604800@adathisraelnj.org
SUMMARY:CANCELLED –Morning Minyan
DESCRIPTION:
URL:https://adathisraelnj.org/event/morning-minyan-168/
LOCATION:Adath Israel Congregation\, 1958 Lawrenceville Rd\, Lawrenceville\, NJ\, 08648\, United States
CATEGORIES:Worship
END:VEVENT
BEGIN:VEVENT
DTSTART;TZID=America/New_York:20200316T070000
DTEND;TZID=America/New_York:20200316T080000
DTSTAMP:20260420T030612
CREATED:20200316T110000Z
LAST-MODIFIED:20200316T124104Z
UID:10000441-1584342000-1584345600@adathisraelnj.org
SUMMARY:CANCELLED –Morning Minyan
DESCRIPTION:
URL:https://adathisraelnj.org/event/morning-minyan-163/
LOCATION:Adath Israel Congregation\, 1958 Lawrenceville Rd\, Lawrenceville\, NJ\, 08648\, United States
CATEGORIES:Worship
END:VEVENT
BEGIN:VEVENT
DTSTART;TZID=America/New_York:20200314T093000
DTEND;TZID=America/New_York:20200314T120000
DTSTAMP:20260420T030612
CREATED:20191212T223437Z
LAST-MODIFIED:20191212T223437Z
UID:10001132-1584178200-1584187200@adathisraelnj.org
SUMMARY:Shabbat Morning Service
DESCRIPTION:
URL:https://adathisraelnj.org/event/shabbat-morning-service-33/
LOCATION:Adath Israel Congregation\, 1958 Lawrenceville Rd\, Lawrenceville\, NJ\, 08648\, United States
CATEGORIES:Worship
END:VEVENT
BEGIN:VEVENT
DTSTART;TZID=America/New_York:20200313T193000
DTEND;TZID=America/New_York:20200313T203000
DTSTAMP:20260420T030612
CREATED:20191212T223421Z
LAST-MODIFIED:20191212T223421Z
UID:10001107-1584127800-1584131400@adathisraelnj.org
SUMMARY:Kabbalat Shabbat Service
DESCRIPTION:
URL:https://adathisraelnj.org/event/kabbalat-shabbat-service-84/
LOCATION:Adath Israel Congregation\, 1958 Lawrenceville Rd\, Lawrenceville\, NJ\, 08648\, United States
CATEGORIES:Worship
END:VEVENT
BEGIN:VEVENT
DTSTART;TZID=America/New_York:20200312T070000
DTEND;TZID=America/New_York:20200312T080000
DTSTAMP:20260420T030612
CREATED:20191212T223435Z
LAST-MODIFIED:20191212T223435Z
UID:10001129-1583996400-1584000000@adathisraelnj.org
SUMMARY:Morning Minyan
DESCRIPTION:
URL:https://adathisraelnj.org/event/morning-minyan-167/
LOCATION:Adath Israel Congregation\, 1958 Lawrenceville Rd\, Lawrenceville\, NJ\, 08648\, United States
CATEGORIES:Worship
END:VEVENT
BEGIN:VEVENT
DTSTART;TZID=America/New_York:20200309T070000
DTEND;TZID=America/New_York:20200309T080000
DTSTAMP:20260420T030612
CREATED:20191212T223429Z
LAST-MODIFIED:20191212T223429Z
UID:10001111-1583737200-1583740800@adathisraelnj.org
SUMMARY:Morning Minyan
DESCRIPTION:
URL:https://adathisraelnj.org/event/morning-minyan-162/
LOCATION:Adath Israel Congregation\, 1958 Lawrenceville Rd\, Lawrenceville\, NJ\, 08648\, United States
CATEGORIES:Worship
END:VEVENT
BEGIN:VEVENT
DTSTART;TZID=America/New_York:20200307T093000
DTEND;TZID=America/New_York:20200307T120000
DTSTAMP:20260420T030612
CREATED:20191212T223437Z
LAST-MODIFIED:20191212T223437Z
UID:10001131-1583573400-1583582400@adathisraelnj.org
SUMMARY:Shabbat Morning Service
DESCRIPTION:
URL:https://adathisraelnj.org/event/shabbat-morning-service-32/
LOCATION:Adath Israel Congregation\, 1958 Lawrenceville Rd\, Lawrenceville\, NJ\, 08648\, United States
CATEGORIES:Worship
END:VEVENT
BEGIN:VEVENT
DTSTART;TZID=America/New_York:20200306T193000
DTEND;TZID=America/New_York:20200306T203000
DTSTAMP:20260420T030612
CREATED:20191212T223421Z
LAST-MODIFIED:20191212T223421Z
UID:10001105-1583523000-1583526600@adathisraelnj.org
SUMMARY:Kabbalat Shabbat Service
DESCRIPTION:
URL:https://adathisraelnj.org/event/kabbalat-shabbat-service-83/
LOCATION:Adath Israel Congregation\, 1958 Lawrenceville Rd\, Lawrenceville\, NJ\, 08648\, United States
CATEGORIES:Worship
END:VEVENT
BEGIN:VEVENT
DTSTART;TZID=America/New_York:20200305T070000
DTEND;TZID=America/New_York:20200305T080000
DTSTAMP:20260420T030612
CREATED:20191212T223432Z
LAST-MODIFIED:20191212T223432Z
UID:10001127-1583391600-1583395200@adathisraelnj.org
SUMMARY:Morning Minyan
DESCRIPTION:
URL:https://adathisraelnj.org/event/morning-minyan-166/
LOCATION:Adath Israel Congregation\, 1958 Lawrenceville Rd\, Lawrenceville\, NJ\, 08648\, United States
CATEGORIES:Worship
END:VEVENT
BEGIN:VEVENT
DTSTART;TZID=America/New_York:20200302T070000
DTEND;TZID=America/New_York:20200302T080000
DTSTAMP:20260420T030612
CREATED:20191212T223422Z
LAST-MODIFIED:20191212T223422Z
UID:10001109-1583132400-1583136000@adathisraelnj.org
SUMMARY:Morning Minyan
DESCRIPTION:
URL:https://adathisraelnj.org/event/morning-minyan-161/
LOCATION:Adath Israel Congregation\, 1958 Lawrenceville Rd\, Lawrenceville\, NJ\, 08648\, United States
CATEGORIES:Worship
END:VEVENT
BEGIN:VEVENT
DTSTART;TZID=America/New_York:20200301T140000
DTEND;TZID=America/New_York:20200301T160000
DTSTAMP:20260420T030612
CREATED:20200301T190000Z
LAST-MODIFIED:20200210T204903Z
UID:10000432-1583071200-1583078400@adathisraelnj.org
SUMMARY:Sacks-Wilner Holocaust Education Program
DESCRIPTION:Bound for the Sobibor death camp\, 13-year-old Rose Lipszyc was pushed off the road by her mother and told to run. “There’s got to be someone who will help you\,” her mother said. “If you survive\, I will\, through you.” Rose survived through the help of Stanislaw and Maria Jablonski\, a Christian Polish couple\, whose granddaughter\, Janina Zak-Krasucki\, lives in Mercer County and is a supervisor of special education for the New Jersey Department of Education. Rose and Janina recently met for the first time and formed an instant bond. Come hear their inspiring story of survival\, rescue\, and reconnection. \nRSVP Appreciated: Call 609-896-4977
URL:https://adathisraelnj.org/event/sacks-wilner-holocaust-education-program-3/
LOCATION:Adath Israel Congregation\, 1958 Lawrenceville Rd\, Lawrenceville\, NJ\, 08648\, United States
CATEGORIES:Adult Education
ATTACH;FMTTYPE=image/jpeg:https://adathisraelnj.org/wp-content/uploads/2020/02/sacks-wilner-program-logo.jpg
END:VEVENT
BEGIN:VEVENT
DTSTART;TZID=America/New_York:20200227T070000
DTEND;TZID=America/New_York:20200227T080000
DTSTAMP:20260420T030612
CREATED:20191209T175034Z
LAST-MODIFIED:20191209T175034Z
UID:10000369-1582786800-1582790400@adathisraelnj.org
SUMMARY:Morning Minyan
DESCRIPTION:
URL:https://adathisraelnj.org/event/morning-minyan-156/
LOCATION:Adath Israel Congregation\, 1958 Lawrenceville Rd\, Lawrenceville\, NJ\, 08648\, United States
CATEGORIES:Worship
END:VEVENT
BEGIN:VEVENT
DTSTART;TZID=America/New_York:20200224T070000
DTEND;TZID=America/New_York:20200224T080000
DTSTAMP:20260420T030612
CREATED:20191209T175045Z
LAST-MODIFIED:20191209T175045Z
UID:10000374-1582527600-1582531200@adathisraelnj.org
SUMMARY:Morning Minyan
DESCRIPTION:
URL:https://adathisraelnj.org/event/morning-minyan-160/
LOCATION:Adath Israel Congregation\, 1958 Lawrenceville Rd\, Lawrenceville\, NJ\, 08648\, United States
CATEGORIES:Worship
END:VEVENT
BEGIN:VEVENT
DTSTART;TZID=America/New_York:20200222T093000
DTEND;TZID=America/New_York:20200222T120000
DTSTAMP:20260420T030612
CREATED:20191209T175058Z
LAST-MODIFIED:20191209T175058Z
UID:10001104-1582363800-1582372800@adathisraelnj.org
SUMMARY:Shabbat Morning Service
DESCRIPTION:
URL:https://adathisraelnj.org/event/shabbat-morning-service-30/
LOCATION:Adath Israel Congregation\, 1958 Lawrenceville Rd\, Lawrenceville\, NJ\, 08648\, United States
CATEGORIES:Worship
END:VEVENT
END:VCALENDAR