BEGIN:VCALENDAR
VERSION:2.0
PRODID:-//Adath Israel Congregation - ECPv6.15.12.2//NONSGML v1.0//EN
CALSCALE:GREGORIAN
METHOD:PUBLISH
X-WR-CALNAME:Adath Israel Congregation
X-ORIGINAL-URL:https://adathisraelnj.org
X-WR-CALDESC:Events for Adath Israel Congregation
REFRESH-INTERVAL;VALUE=DURATION:PT1H
X-Robots-Tag:noindex
X-PUBLISHED-TTL:PT1H
BEGIN:VTIMEZONE
TZID:America/New_York
BEGIN:DAYLIGHT
TZOFFSETFROM:-0500
TZOFFSETTO:-0400
TZNAME:EDT
DTSTART:20180311T070000
END:DAYLIGHT
BEGIN:STANDARD
TZOFFSETFROM:-0400
TZOFFSETTO:-0500
TZNAME:EST
DTSTART:20181104T060000
END:STANDARD
BEGIN:DAYLIGHT
TZOFFSETFROM:-0500
TZOFFSETTO:-0400
TZNAME:EDT
DTSTART:20190310T070000
END:DAYLIGHT
BEGIN:STANDARD
TZOFFSETFROM:-0400
TZOFFSETTO:-0500
TZNAME:EST
DTSTART:20191103T060000
END:STANDARD
BEGIN:DAYLIGHT
TZOFFSETFROM:-0500
TZOFFSETTO:-0400
TZNAME:EDT
DTSTART:20200308T070000
END:DAYLIGHT
BEGIN:STANDARD
TZOFFSETFROM:-0400
TZOFFSETTO:-0500
TZNAME:EST
DTSTART:20201101T060000
END:STANDARD
END:VTIMEZONE
BEGIN:VEVENT
DTSTART;TZID=America/New_York:20191205T193000
DTEND;TZID=America/New_York:20191205T210000
DTSTAMP:20260423T162738
CREATED:20191101T162213Z
LAST-MODIFIED:20191101T162426Z
UID:10000999-1575574200-1575579600@adathisraelnj.org
SUMMARY:Torah on Tap
DESCRIPTION:Come out for an evening of schmoozing\, Torah\, and your favorite drink with Rabbi Adler at the Hyatt Regency Princeton Bar.
URL:https://adathisraelnj.org/event/torah-on-tap-3/
LOCATION:Hyatt Regency Princeton\, 102 Carnegie Center Dr\, Princeton\, NJ 08540\, USA\, 2 Carnegie Dr\, United States
CATEGORIES:Adult Education
GEO:40.361982;-74.630591
X-APPLE-STRUCTURED-LOCATION;VALUE=URI;X-ADDRESS=Hyatt Regency Princeton 102 Carnegie Center Dr Princeton NJ 08540 USA 2 Carnegie Dr United States;X-APPLE-RADIUS=500;X-TITLE=2 Carnegie Dr:geo:-74.630591,40.361982
END:VEVENT
END:VCALENDAR