BEGIN:VCALENDAR
VERSION:2.0
PRODID:-//Adath Israel Congregation - ECPv6.15.12.2//NONSGML v1.0//EN
CALSCALE:GREGORIAN
METHOD:PUBLISH
X-ORIGINAL-URL:https://adathisraelnj.org
X-WR-CALDESC:Events for Adath Israel Congregation
REFRESH-INTERVAL;VALUE=DURATION:PT1H
X-Robots-Tag:noindex
X-PUBLISHED-TTL:PT1H
BEGIN:VTIMEZONE
TZID:America/New_York
BEGIN:DAYLIGHT
TZOFFSETFROM:-0500
TZOFFSETTO:-0400
TZNAME:EDT
DTSTART:20180311T070000
END:DAYLIGHT
BEGIN:STANDARD
TZOFFSETFROM:-0400
TZOFFSETTO:-0500
TZNAME:EST
DTSTART:20181104T060000
END:STANDARD
BEGIN:DAYLIGHT
TZOFFSETFROM:-0500
TZOFFSETTO:-0400
TZNAME:EDT
DTSTART:20190310T070000
END:DAYLIGHT
BEGIN:STANDARD
TZOFFSETFROM:-0400
TZOFFSETTO:-0500
TZNAME:EST
DTSTART:20191103T060000
END:STANDARD
BEGIN:DAYLIGHT
TZOFFSETFROM:-0500
TZOFFSETTO:-0400
TZNAME:EDT
DTSTART:20200308T070000
END:DAYLIGHT
BEGIN:STANDARD
TZOFFSETFROM:-0400
TZOFFSETTO:-0500
TZNAME:EST
DTSTART:20201101T060000
END:STANDARD
END:VTIMEZONE
BEGIN:VEVENT
DTSTART;TZID=America/New_York:20190510T140000
DTEND;TZID=America/New_York:20190510T160000
DTSTAMP:20260424T180841
CREATED:20190510T180000Z
LAST-MODIFIED:20190408T001501Z
UID:10000732-1557496800-1557504000@adathisraelnj.org
SUMMARY:Men's Club: Tour of Princeton Plasma Physics Lab
DESCRIPTION:FREE event. Are you curious about fusion energy or heavenly bodies? Then join the Men’s Club for an exclusive scientist-guided tour of the Princeton Plasma Physics Lab. RSVP required by 4/26/19 to Mensclub@adathisraelnj.org. Please provide your name\, date of birth\, and if you are not a US citizen (for PPPL security purposes). For additional information\, please contact Jay at JAG953@verizon.net. Please bring your photo ID with DOB for the tour and wear comfortable shoes. Optional Pre-Tour lunch at PPPL Cafeteria. Space is limited. Carpooling from Adath is available.
URL:https://adathisraelnj.org/event/mens-club-tour-of-princeton-plasma-physics-lab/
LOCATION:Princeton Plasma Physics Lab\, 100 Stellarator Road\, Princeton\, NJ\, United States
CATEGORIES:Men's Club
END:VEVENT
END:VCALENDAR